Workbook

Sheet Thank You
A1: Hope the Revision Tracker is rocking your study game! If it's been a game-changer for you, we'd love to hear about it on Google Reviews. Your quick testimonial on Google Review could help a fellow student out big time. | J1: https://g.page/r/CdSBsfxLx4GCEAI/review
A2: As a thanks, subscribe to our mailing list for freebies to level up your study vibes. 🌟 | I2: https://stemtutoring.typeform.com/email

Sheet Dashboard
B31: Paper 1 | E31: Paper 2 | H31: Paper 1 | M31: Paper 2
B32: Unit | C32: Total Completed Review | E32: Unit | F32: Total Completed Review | H32: Unit | I32: Not sure | J32: Getting There | K32: Nailed It | M32: Unit | N32: Not sure | O32: Getting There | P32: Nailed It
B33: 1.1 | C33: =COUNTIF(Paper1!H7:S9,"Completed") -> 0 | E33: 2.1 | F33: =COUNTIF(Paper2!J7:U22,"Completed") -> 1 | H33: 1.1 | I33: =COUNTIF(Paper1!$H$7:$S$9,I$32) -> 1 | J33: =COUNTIF(Paper1!$H$7:$S$9,J$32) -> 0 | K33: =COUNTIF(Paper1!$H$7:$S$9,K$32) -> 0 | M33: 2.1 | N33: =COUNTIF(Paper2!$J$7:$U$22,N$32) -> 0 | O33: =COUNTIF(Paper2!$J$7:$U$22,O$32) -> 1 | P33: =COUNTIF(Paper2!$J$7:$U$22,P$32) -> 1
B34: 1.2 | C34: =COUNTIF(Paper1!H10:S17,"Completed") -> 0 | E34: 2.2 | F34: =COUNTIF(Paper2!J23:U49,"Completed") -> 1 | H34: 1.2 | I34: =COUNTIF(Paper1!$H$10:$S$17,I$32) -> 0 | J34: =COUNTIF(Paper1!$H$10:$S$17,J$32) -> 1 | K34: =COUNTIF(Paper1!$H$10:$S$17,K$32) -> 0 | M34: 2.2 | N34: =COUNTIF(Paper2!$J$23:$U$49,N$32) -> 0 | O34: =COUNTIF(Paper2!$J$23:$U$49,O$32) -> 1 | P34: =COUNTIF(Paper2!$J$23:$U$49,P$32) -> 0
B35: 1.3 | C35: =COUNTIF(Paper1!H18:S19,"Completed") -> 0 | E35: 2.3 | F35: =COUNTIF(Paper2!J50:U64,"Completed") -> 0 | H35: 1.3 | I35: =COUNTIF(Paper1!$H$18:$S$19,I$32) -> 0 | J35: =COUNTIF(Paper1!$H$18:$S$19,J$32) -> 1 | K35: =COUNTIF(Paper1!$H$18:$S$19,K$32) -> 0 | M35: 2.3 | N35: =COUNTIF(Paper2!$J$50:$U$64,N$32) -> 1 | O35: =COUNTIF(Paper2!$J$50:$U$64,O$32) -> 0 | P35: =COUNTIF(Paper2!$J$50:$U$64,P$32) -> 0
B36: 1.4 | C36: =COUNTIF(Paper1!$H$20:$S$21,"Completed") -> 0 | E36: 2.4 | F36: =COUNTIF(Paper2!J65:U71,"Completed") -> 0 | H36: 1.4 | I36: =COUNTIF(Paper1!$H$20:$S$21,I$32) -> 0 | J36: =COUNTIF(Paper1!$H$20:$S$21,J$32) -> 1 | K36: =COUNTIF(Paper1!$H$20:$S$21,K$32) -> 0 | M36: 2.4 | N36: =COUNTIF(Paper2!$J$65:$U$71,N$32) -> 1 | O36: =COUNTIF(Paper2!$J$65:$U$71,O$32) -> 0 | P36: =COUNTIF(Paper2!$J$65:$U$71,P$32) -> 0
B37: 1.5 | C37: =COUNTIF(Paper1!H22:S23,"Completed") -> 0 | E37: 2.5 | F37: =COUNTIF(Paper2!J72:U79,"Completed") -> 0 | H37: 1.5 | I37: =COUNTIF(Paper1!$H$22:$S$23,I$32) -> 0 | J37: =COUNTIF(Paper1!$H$22:$S$23,J$32) -> 1 | K37: =COUNTIF(Paper1!$H$22:$S$23,K$32) -> 0 | M37: 2.5 | N37: =COUNTIF(Paper2!$J$71:$U$79,N$32) -> 1 | O37: =COUNTIF(Paper2!$J$71:$U$79,O$32) -> 0 | P37: =COUNTIF(Paper2!$J$71:$U$79,P$32) -> 0
B38: 1.6 | C38: =COUNTIF(Paper1!H24:S24,"Completed") -> 0 | E38: 3 | F38: =COUNTIF(Paper2!J80:U108,"Completed") -> 0 | H38: 1.6 | I38: =COUNTIF(Paper1!$H$24:$S$24,I$32) -> 1 | J38: =COUNTIF(Paper1!$H$24:$S$24,J$32) -> 0 | K38: =COUNTIF(Paper1!$H$24:$S$24,K$32) -> 0 | M38: 3 | N38: =COUNTIF(Paper2!$J$80:$U$108,N$32) -> 1 | O38: =COUNTIF(Paper2!$J$80:$U$108,O$32) -> 0 | P38: =COUNTIF(Paper2!$J$80:$U$108,P$32) -> 0
B39: Total | C39: =SUM(C33:C38) -> 0 | E39: Total | F39: =SUM(F33:F38) -> 2 | H39: % | I39: =SUM(I33:I38)/SUM(I33:K38) -> 0.33333333 | J39: =SUM(J33:J38)/SUM(I33:K38) -> 0.66666667 | K39: =SUM(K33:K38)/SUM(I33:K38) -> 0 | M39: % | N39: =SUM(N33:N38)/SUM(N33:P38) -> 0.57142857 | O39: =SUM(O33:O38)/SUM(N33:P38) -> 0.28571429 | P39: =SUM(P33:P38)/SUM(N33:P38) -> 0.14285714
C43: Revision Activity | D43: 1.1 | E43: 1.2 | F43: 1.3 | G43: 1.4 | H43: 1.5 | I43: 1.6 | J43: Total | K43: Nailed It Count | M43: Most Recommendad Method
C44: Active Recall Q | D44: =COUNTIF(Paper1!$H$7:$S$9,C44) -> 0 | E44: =COUNTIF(Paper1!$H$10:$S$17,C44) -> 1 | F44: =COUNTIF(Paper1!$H$18:$S$19,C44) -> 0 | G44: =COUNTIF(Paper1!$H$20:$S$21,C44) -> 0 | H44: =COUNTIF(Paper1!$H$22:$S$23,C44) -> 0 | I44: =COUNTIF(Paper1!$H$24:$S$24,C44) -> 0 | J44: =SUM(D44:I44) -> 1 | K44: =COUNTIFS(Paper1!$I$5:$I$24,Dashboard!C44,Paper1!$K$5:$K$24,"Nailed it")+COUNTIFS(Paper1!$M$5:$M$24,Dashboard!C44,Paper1!$O$5:$O$24,"Nailed it")+COUNTIFS(Paper1!$Q$5:$Q$24,Dashboard!C44,Paper1!$S$5:$S$24,"Nailed it") -> 0 | M44: =_xlfn.XLOOKUP((MAX(K44:K58)),K44:K58,C44:C58,"") -> Active Recall Q
C45: Blurting | D45: =COUNTIF(Paper1!$H$7:$S$9,C45) -> 0 | E45: =COUNTIF(Paper1!$H$10:$S$17,C45) -> 0 | F45: =COUNTIF(Paper1!$H$18:$S$19,C45) -> 0 | G45: =COUNTIF(Paper1!$H$20:$S$21,C45) -> 1 | H45: =COUNTIF(Paper1!$H$22:$S$23,C45) -> 0 | I45: =COUNTIF(Paper1!$H$24:$S$24,C45) -> 0 | J45: =SUM(D45:I45) -> 1 | K45: =COUNTIFS(Paper1!$I$5:$I$24,Dashboard!C45,Paper1!$K$5:$K$24,"Nailed it")+COUNTIFS(Paper1!$M$5:$M$24,Dashboard!C45,Paper1!$O$5:$O$24,"Nailed it")+COUNTIFS(Paper1!$Q$5:$Q$24,Dashboard!C45,Paper1!$S$5:$S$24,"Nailed it") -> 0
C46: Coded Small Algorithm | D46: =COUNTIF(Paper1!$H$7:$S$9,C46) -> 0 | E46: =COUNTIF(Paper1!$H$10:$S$17,C46) -> 0 | F46: =COUNTIF(Paper1!$H$18:$S$19,C46) -> 0 | G46: =COUNTIF(Paper1!$H$20:$S$21,C46) -> 0 | H46: =COUNTIF(Paper1!$H$22:$S$23,C46) -> 0 | I46: =COUNTIF(Paper1!$H$24:$S$24,C46) -> 0 | J46: =SUM(D46:I46) -> 0 | K46: =COUNTIFS(Paper1!$I$5:$I$24,Dashboard!C46,Paper1!$K$5:$K$24,"Nailed it")+COUNTIFS(Paper1!$M$5:$M$24,Dashboard!C46,Paper1!$O$5:$O$24,"Nailed it")+COUNTIFS(Paper1!$Q$5:$Q$24,Dashboard!C46,Paper1!$S$5:$S$24,"Nailed it") -> 0
C47: Concept Map | D47: =COUNTIF(Paper1!$H$7:$S$9,C47) -> 0 | E47: =COUNTIF(Paper1!$H$10:$S$17,C47) -> 0 | F47: =COUNTIF(Paper1!$H$18:$S$19,C47) -> 1 | G47: =COUNTIF(Paper1!$H$20:$S$21,C47) -> 0 | H47: =COUNTIF(Paper1!$H$22:$S$23,C47) -> 0 | I47: =COUNTIF(Paper1!$H$24:$S$24,C47) -> 0 | J47: =SUM(D47:I47) -> 1 | K47: =COUNTIFS(Paper1!$I$5:$I$24,Dashboard!C47,Paper1!$K$5:$K$24,"Nailed it")+COUNTIFS(Paper1!$M$5:$M$24,Dashboard!C47,Paper1!$O$5:$O$24,"Nailed it")+COUNTIFS(Paper1!$Q$5:$Q$24,Dashboard!C47,Paper1!$S$5:$S$24,"Nailed it") -> 0
C48: Debugged Coding | D48: =COUNTIF(Paper1!$H$7:$S$9,C48) -> 0 | E48: =COUNTIF(Paper1!$H$10:$S$17,C48) -> 0 | F48: =COUNTIF(Paper1!$H$18:$S$19,C48) -> 0 | G48: =COUNTIF(Paper1!$H$20:$S$21,C48) -> 0 | H48: =COUNTIF(Paper1!$H$22:$S$23,C48) -> 0 | I48: =COUNTIF(Paper1!$H$24:$S$24,C48) -> 0 | J48: =SUM(D48:I48) -> 0 | K48: =COUNTIFS(Paper1!$I$5:$I$24,Dashboard!C48,Paper1!$K$5:$K$24,"Nailed it")+COUNTIFS(Paper1!$M$5:$M$24,Dashboard!C48,Paper1!$O$5:$O$24,"Nailed it")+COUNTIFS(Paper1!$Q$5:$Q$24,Dashboard!C48,Paper1!$S$5:$S$24,"Nailed it") -> 0
C49: Exam Questions | D49: =COUNTIF(Paper1!$H$7:$S$9,C49) -> 1 | E49: =COUNTIF(Paper1!$H$10:$S$17,C49) -> 0 | F49: =COUNTIF(Paper1!$H$18:$S$19,C49) -> 0 | G49: =COUNTIF(Paper1!$H$20:$S$21,C49) -> 0 | H49: =COUNTIF(Paper1!$H$22:$S$23,C49) -> 0 | I49: =COUNTIF(Paper1!$H$24:$S$24,C49) -> 0 | J49: =SUM(D49:I49) -> 1 | K49: =COUNTIFS(Paper1!$I$5:$I$24,Dashboard!C49,Paper1!$K$5:$K$24,"Nailed it")+COUNTIFS(Paper1!$M$5:$M$24,Dashboard!C49,Paper1!$O$5:$O$24,"Nailed it")+COUNTIFS(Paper1!$Q$5:$Q$24,Dashboard!C49,Paper1!$S$5:$S$24,"Nailed it") -> 0
C50: Flashcard Review | D50: =COUNTIF(Paper1!$H$7:$S$9,C50) -> 0 | E50: =COUNTIF(Paper1!$H$10:$S$17,C50) -> 0 | F50: =COUNTIF(Paper1!$H$18:$S$19,C50) -> 0 | G50: =COUNTIF(Paper1!$H$20:$S$21,C50) -> 0 | H50: =COUNTIF(Paper1!$H$22:$S$23,C50) -> 0 | I50: =COUNTIF(Paper1!$H$24:$S$24,C50) -> 0 | J50: =SUM(D50:I50) -> 0 | K50: =COUNTIFS(Paper1!$I$5:$I$24,Dashboard!C50,Paper1!$K$5:$K$24,"Nailed it")+COUNTIFS(Paper1!$M$5:$M$24,Dashboard!C50,Paper1!$O$5:$O$24,"Nailed it")+COUNTIFS(Paper1!$Q$5:$Q$24,Dashboard!C50,Paper1!$S$5:$S$24,"Nailed it") -> 0
C51: Knowledge Organiser | D51: =COUNTIF(Paper1!$H$7:$S$9,C51) -> 0 | E51: =COUNTIF(Paper1!$H$10:$S$17,C51) -> 0 | F51: =COUNTIF(Paper1!$H$18:$S$19,C51) -> 0 | G51: =COUNTIF(Paper1!$H$20:$S$21,C51) -> 0 | H51: =COUNTIF(Paper1!$H$22:$S$23,C51) -> 1 | I51: =COUNTIF(Paper1!$H$24:$S$24,C51) -> 0 | J51: =SUM(D51:I51) -> 1 | K51: =COUNTIFS(Paper1!$I$5:$I$24,Dashboard!C51,Paper1!$K$5:$K$24,"Nailed it")+COUNTIFS(Paper1!$M$5:$M$24,Dashboard!C51,Paper1!$O$5:$O$24,"Nailed it")+COUNTIFS(Paper1!$Q$5:$Q$24,Dashboard!C51,Paper1!$S$5:$S$24,"Nailed it") -> 0
C52: Learning Mark Scheme | D52: =COUNTIF(Paper1!$H$7:$S$9,C52) -> 0 | E52: =COUNTIF(Paper1!$H$10:$S$17,C52) -> 0 | F52: =COUNTIF(Paper1!$H$18:$S$19,C52) -> 0 | G52: =COUNTIF(Paper1!$H$20:$S$21,C52) -> 0 | H52: =COUNTIF(Paper1!$H$22:$S$23,C52) -> 0 | I52: =COUNTIF(Paper1!$H$24:$S$24,C52) -> 0 | J52: =SUM(D52:I52) -> 0 | K52: =COUNTIFS(Paper1!$I$5:$I$24,Dashboard!C52,Paper1!$K$5:$K$24,"Nailed it")+COUNTIFS(Paper1!$M$5:$M$24,Dashboard!C52,Paper1!$O$5:$O$24,"Nailed it")+COUNTIFS(Paper1!$Q$5:$Q$24,Dashboard!C52,Paper1!$S$5:$S$24,"Nailed it") -> 0
C53: Organise Notes | D53: =COUNTIF(Paper1!$H$7:$S$9,C53) -> 0 | E53: =COUNTIF(Paper1!$H$10:$S$17,C53) -> 0 | F53: =COUNTIF(Paper1!$H$18:$S$19,C53) -> 0 | G53: =COUNTIF(Paper1!$H$20:$S$21,C53) -> 0 | H53: =COUNTIF(Paper1!$H$22:$S$23,C53) -> 0 | I53: =COUNTIF(Paper1!$H$24:$S$24,C53) -> 0 | J53: =SUM(D53:I53) -> 0 | K53: =COUNTIFS(Paper1!$I$5:$I$24,Dashboard!C53,Paper1!$K$5:$K$24,"Nailed it")+COUNTIFS(Paper1!$M$5:$M$24,Dashboard!C53,Paper1!$O$5:$O$24,"Nailed it")+COUNTIFS(Paper1!$Q$5:$Q$24,Dashboard!C53,Paper1!$S$5:$S$24,"Nailed it") -> 0
C54: Reading Textbook | D54: =COUNTIF(Paper1!$H$7:$S$9,C54) -> 0 | E54: =COUNTIF(Paper1!$H$10:$S$17,C54) -> 0 | F54: =COUNTIF(Paper1!$H$18:$S$19,C54) -> 0 | G54: =COUNTIF(Paper1!$H$20:$S$21,C54) -> 0 | H54: =COUNTIF(Paper1!$H$22:$S$23,C54) -> 0 | I54: =COUNTIF(Paper1!$H$24:$S$24,C54) -> 0 | J54: =SUM(D54:I54) -> 0 | K54: =COUNTIFS(Paper1!$I$5:$I$24,Dashboard!C54,Paper1!$K$5:$K$24,"Nailed it")+COUNTIFS(Paper1!$M$5:$M$24,Dashboard!C54,Paper1!$O$5:$O$24,"Nailed it")+COUNTIFS(Paper1!$Q$5:$Q$24,Dashboard!C54,Paper1!$S$5:$S$24,"Nailed it") -> 0
C55: Revision Notes | D55: =COUNTIF(Paper1!$H$7:$S$9,C55) -> 0 | E55: =COUNTIF(Paper1!$H$10:$S$17,C55) -> 0 | F55: =COUNTIF(Paper1!$H$18:$S$19,C55) -> 0 | G55: =COUNTIF(Paper1!$H$20:$S$21,C55) -> 0 | H55: =COUNTIF(Paper1!$H$22:$S$23,C55) -> 0 | I55: =COUNTIF(Paper1!$H$24:$S$24,C55) -> 0 | J55: =SUM(D55:I55) -> 0 | K55: =COUNTIFS(Paper1!$I$5:$I$24,Dashboard!C55,Paper1!$K$5:$K$24,"Nailed it")+COUNTIFS(Paper1!$M$5:$M$24,Dashboard!C55,Paper1!$O$5:$O$24,"Nailed it")+COUNTIFS(Paper1!$Q$5:$Q$24,Dashboard!C55,Paper1!$S$5:$S$24,"Nailed it") -> 0
C56: Spider Diagram | D56: =COUNTIF(Paper1!$H$7:$S$9,C56) -> 0 | E56: =COUNTIF(Paper1!$H$10:$S$17,C56) -> 0 | F56: =COUNTIF(Paper1!$H$18:$S$19,C56) -> 0 | G56: =COUNTIF(Paper1!$H$20:$S$21,C56) -> 0 | H56: =COUNTIF(Paper1!$H$22:$S$23,C56) -> 0 | I56: =COUNTIF(Paper1!$H$24:$S$24,C56) -> 0 | J56: =SUM(D56:I56) -> 0 | K56: =COUNTIFS(Paper1!$I$5:$I$24,Dashboard!C56,Paper1!$K$5:$K$24,"Nailed it")+COUNTIFS(Paper1!$M$5:$M$24,Dashboard!C56,Paper1!$O$5:$O$24,"Nailed it")+COUNTIFS(Paper1!$Q$5:$Q$24,Dashboard!C56,Paper1!$S$5:$S$24,"Nailed it") -> 0
... C58: YouTube Videos | D58: =COUNTIF(Paper1!$H$7:$S$9,C58) -> 0 | E58: =COUNTIF(Paper1!$H$10:$S$17,C58) -> 0 | F58: =COUNTIF(Paper1!$H$18:$S$19,C58) -> 0 | G58: =COUNTIF(Paper1!$H$20:$S$21,C58) -> 0 | H58: =COUNTIF(Paper1!$H$22:$S$23,C58) -> 0 | I58: =COUNTIF(Paper1!$H$24:$S$24,C58) -> 0 | J58: =SUM(D58:I58) -> 0 | K58: =COUNTIFS(Paper1!$I$5:$I$24,Dashboard!C58,Paper1!$K$5:$K$24,"Nailed it")+COUNTIFS(Paper1!$M$5:$M$24,Dashboard!C58,Paper1!$O$5:$O$24,"Nailed it")+COUNTIFS(Paper1!$Q$5:$Q$24,Dashboard!C58,Paper1!$S$5:$S$24,"Nailed it") -> 0
C61: Revision Activity | D61: 2.1 | E61: 2.2 | F61: 2.3 | G61: 2.4 | H61: 2.5 | I61: 3 | J61: Total | K61: Nailed It Count | M61: Most Recommendad Method
C62: Active Recall Q | D62: =COUNTIF(Paper2!$J$7:$U$22,C62) -> 1 | E62: =COUNTIF(Paper2!$J$23:$U$49,C62) -> 0 | F62: =COUNTIF(Paper2!$J$50:$U$64,C62) -> 0 | G62: =COUNTIF(Paper2!$J$65:$U$71,C62) -> 0 | H62: =COUNTIF(Paper2!$J$72:$U$79,C62) -> 0 | I62: =COUNTIF(Paper2!$J$80:$U$108,C62) -> 0 | J62: =SUM(D62:I62) -> 1 | K62: =COUNTIFS(Paper2!$K$5:$K$108,Dashboard!C62,Paper2!$M$5:$M$108,"Nailed it")+COUNTIFS(Paper2!$O$5:$O$108,Dashboard!C62,Paper2!$Q$5:$Q$108,"Nailed it")+COUNTIFS(Paper2!$S$5:$S$108,Dashboard!C62,Paper2!$U$5:$U$108,"Nailed it") -> 0 | M62: =_xlfn.XLOOKUP((MAX(K62:K76)),K62:K76,C62:C76,"") -> Learning Mark Scheme
C63: Blurting | D63: =COUNTIF(Paper2!$J$7:$U$22,C63) -> 0 | E63: =COUNTIF(Paper2!$J$23:$U$49,C63) -> 0 | F63: =COUNTIF(Paper2!$J$50:$U$64,C63) -> 0 | G63: =COUNTIF(Paper2!$J$65:$U$71,C63) -> 0 | H63: =COUNTIF(Paper2!$J$72:$U$79,C63) -> 0 | I63: =COUNTIF(Paper2!$J$80:$U$108,C63) -> 0 | J63: =SUM(D63:I63) -> 0 | K63: =COUNTIFS(Paper2!$K$5:$K$108,Dashboard!C63,Paper2!$M$5:$M$108,"Nailed it")+COUNTIFS(Paper2!$O$5:$O$108,Dashboard!C63,Paper2!$Q$5:$Q$108,"Nailed it")+COUNTIFS(Paper2!$S$5:$S$108,Dashboard!C63,Paper2!$U$5:$U$108,"Nailed it") -> 0
C64: Coded Small Algorithm | D64: =COUNTIF(Paper2!$J$7:$U$22,C64) -> 0 | E64: =COUNTIF(Paper2!$J$23:$U$49,C64) -> 0 | F64: =COUNTIF(Paper2!$J$50:$U$64,C64) -> 0 | G64: =COUNTIF(Paper2!$J$65:$U$71,C64) -> 0 | H64: =COUNTIF(Paper2!$J$72:$U$79,C64) -> 0 | I64: =COUNTIF(Paper2!$J$80:$U$108,C64) -> 0 | J64: =SUM(D64:I64) -> 0 | K64: =COUNTIFS(Paper2!$K$5:$K$108,Dashboard!C64,Paper2!$M$5:$M$108,"Nailed it")+COUNTIFS(Paper2!$O$5:$O$108,Dashboard!C64,Paper2!$Q$5:$Q$108,"Nailed it")+COUNTIFS(Paper2!$S$5:$S$108,Dashboard!C64,Paper2!$U$5:$U$108,"Nailed it") -> 0
C65: Concept Map | D65: =COUNTIF(Paper2!$J$7:$U$22,C65) -> 0 | E65: =COUNTIF(Paper2!$J$23:$U$49,C65) -> 0 | F65: =COUNTIF(Paper2!$J$50:$U$64,C65) -> 0 | G65: =COUNTIF(Paper2!$J$65:$U$71,C65) -> 0 | H65: =COUNTIF(Paper2!$J$72:$U$79,C65) -> 0 | I65: =COUNTIF(Paper2!$J$80:$U$108,C65) -> 0 | J65: =SUM(D65:I65) -> 0 | K65: =COUNTIFS(Paper2!$K$5:$K$108,Dashboard!C65,Paper2!$M$5:$M$108,"Nailed it")+COUNTIFS(Paper2!$O$5:$O$108,Dashboard!C65,Paper2!$Q$5:$Q$108,"Nailed it")+COUNTIFS(Paper2!$S$5:$S$108,Dashboard!C65,Paper2!$U$5:$U$108,"Nailed it") -> 0
C66: Debugged Coding | D66: =COUNTIF(Paper2!$J$7:$U$22,C66) -> 0 | E66: =COUNTIF(Paper2!$J$23:$U$49,C66) -> 0 | F66: =COUNTIF(Paper2!$J$50:$U$64,C66) -> 0 | G66: =COUNTIF(Paper2!$J$65:$U$71,C66) -> 0 | H66: =COUNTIF(Paper2!$J$72:$U$79,C66) -> 0 | I66: =COUNTIF(Paper2!$J$80:$U$108,C66) -> 0 | J66: =SUM(D66:I66) -> 0 | K66: =COUNTIFS(Paper2!$K$5:$K$108,Dashboard!C66,Paper2!$M$5:$M$108,"Nailed it")+COUNTIFS(Paper2!$O$5:$O$108,Dashboard!C66,Paper2!$Q$5:$Q$108,"Nailed it")+COUNTIFS(Paper2!$S$5:$S$108,Dashboard!C66,Paper2!$U$5:$U$108,"Nailed it") -> 0
C67: Exam Questions | D67: =COUNTIF(Paper2!$J$7:$U$22,C67) -> 0 | E67: =COUNTIF(Paper2!$J$23:$U$49,C67) -> 0 | F67: =COUNTIF(Paper2!$J$50:$U$64,C67) -> 0 | G67: =COUNTIF(Paper2!$J$65:$U$71,C67) -> 0 | H67: =COUNTIF(Paper2!$J$72:$U$79,C67) -> 0 | I67: =COUNTIF(Paper2!$J$80:$U$108,C67) -> 0 | J67: =SUM(D67:I67) -> 0 | K67: =COUNTIFS(Paper2!$K$5:$K$108,Dashboard!C67,Paper2!$M$5:$M$108,"Nailed it")+COUNTIFS(Paper2!$O$5:$O$108,Dashboard!C67,Paper2!$Q$5:$Q$108,"Nailed it")+COUNTIFS(Paper2!$S$5:$S$108,Dashboard!C67,Paper2!$U$5:$U$108,"Nailed it") -> 0
C68: Flashcard Review | D68: =COUNTIF(Paper2!$J$7:$U$22,C68) -> 0 | E68: =COUNTIF(Paper2!$J$23:$U$49,C68) -> 0 | F68: =COUNTIF(Paper2!$J$50:$U$64,C68) -> 0 | G68: =COUNTIF(Paper2!$J$65:$U$71,C68) -> 0 | H68: =COUNTIF(Paper2!$J$72:$U$79,C68) -> 0 | I68: =COUNTIF(Paper2!$J$80:$U$108,C68) -> 0 | J68: =SUM(D68:I68) -> 0 | K68: =COUNTIFS(Paper2!$K$5:$K$108,Dashboard!C68,Paper2!$M$5:$M$108,"Nailed it")+COUNTIFS(Paper2!$O$5:$O$108,Dashboard!C68,Paper2!$Q$5:$Q$108,"Nailed it")+COUNTIFS(Paper2!$S$5:$S$108,Dashboard!C68,Paper2!$U$5:$U$108,"Nailed it") -> 0
C69: Knowledge Organiser | D69: =COUNTIF(Paper2!$J$7:$U$22,C69) -> 0 | E69: =COUNTIF(Paper2!$J$23:$U$49,C69) -> 0 | F69: =COUNTIF(Paper2!$J$50:$U$64,C69) -> 0 | G69: =COUNTIF(Paper2!$J$65:$U$71,C69) -> 0 | H69: =COUNTIF(Paper2!$J$72:$U$79,C69) -> 0 | I69: =COUNTIF(Paper2!$J$80:$U$108,C69) -> 0 | J69: =SUM(D69:I69) -> 0 | K69: =COUNTIFS(Paper2!$K$5:$K$108,Dashboard!C69,Paper2!$M$5:$M$108,"Nailed it")+COUNTIFS(Paper2!$O$5:$O$108,Dashboard!C69,Paper2!$Q$5:$Q$108,"Nailed it")+COUNTIFS(Paper2!$S$5:$S$108,Dashboard!C69,Paper2!$U$5:$U$108,"Nailed it") -> 0
C70: Learning Mark Scheme | D70: =COUNTIF(Paper2!$J$7:$U$22,C70) -> 1 | E70: =COUNTIF(Paper2!$J$23:$U$49,C70) -> 0 | F70: =COUNTIF(Paper2!$J$50:$U$64,C70) -> 0 | G70: =COUNTIF(Paper2!$J$65:$U$71,C70) -> 0 | H70: =COUNTIF(Paper2!$J$72:$U$79,C70) -> 0 | I70: =COUNTIF(Paper2!$J$80:$U$108,C70) -> 0 | J70: =SUM(D70:I70) -> 1 | K70: =COUNTIFS(Paper2!$K$5:$K$108,Dashboard!C70,Paper2!$M$5:$M$108,"Nailed it")+COUNTIFS(Paper2!$O$5:$O$108,Dashboard!C70,Paper2!$Q$5:$Q$108,"Nailed it")+COUNTIFS(Paper2!$S$5:$S$108,Dashboard!C70,Paper2!$U$5:$U$108,"Nailed it") -> 1
C71: Organise Notes | D71: =COUNTIF(Paper2!$J$7:$U$22,C71) -> 0 | E71: =COUNTIF(Paper2!$J$23:$U$49,C71) -> 0 | F71: =COUNTIF(Paper2!$J$50:$U$64,C71) -> 0 | G71: =COUNTIF(Paper2!$J$65:$U$71,C71) -> 0 | H71: =COUNTIF(Paper2!$J$72:$U$79,C71) -> 0 | I71: =COUNTIF(Paper2!$J$80:$U$108,C71) -> 0 | J71: =SUM(D71:I71) -> 0 | K71: =COUNTIFS(Paper2!$K$5:$K$108,Dashboard!C71,Paper2!$M$5:$M$108,"Nailed it")+COUNTIFS(Paper2!$O$5:$O$108,Dashboard!C71,Paper2!$Q$5:$Q$108,"Nailed it")+COUNTIFS(Paper2!$S$5:$S$108,Dashboard!C71,Paper2!$U$5:$U$108,"Nailed it") -> 0
C72: Reading Textbook | D72: =COUNTIF(Paper2!$J$7:$U$22,C72) -> 0 | E72: =COUNTIF(Paper2!$J$23:$U$49,C72) -> 0 | F72: =COUNTIF(Paper2!$J$50:$U$64,C72) -> 0 | G72: =COUNTIF(Paper2!$J$65:$U$71,C72) -> 0 | H72: =COUNTIF(Paper2!$J$72:$U$79,C72) -> 0 | I72: =COUNTIF(Paper2!$J$80:$U$108,C72) -> 0 | J72: =SUM(D72:I72) -> 0 | K72: =COUNTIFS(Paper2!$K$5:$K$108,Dashboard!C72,Paper2!$M$5:$M$108,"Nailed it")+COUNTIFS(Paper2!$O$5:$O$108,Dashboard!C72,Paper2!$Q$5:$Q$108,"Nailed it")+COUNTIFS(Paper2!$S$5:$S$108,Dashboard!C72,Paper2!$U$5:$U$108,"Nailed it") -> 0
C73: Revision Notes | D73: =COUNTIF(Paper2!$J$7:$U$22,C73) -> 0 | E73: =COUNTIF(Paper2!$J$23:$U$49,C73) -> 0 | F73: =COUNTIF(Paper2!$J$50:$U$64,C73) -> 0 | G73: =COUNTIF(Paper2!$J$65:$U$71,C73) -> 0 | H73: =COUNTIF(Paper2!$J$72:$U$79,C73) -> 0 | I73: =COUNTIF(Paper2!$J$80:$U$108,C73) -> 0 | J73: =SUM(D73:I73) -> 0 | K73: =COUNTIFS(Paper2!$K$5:$K$108,Dashboard!C73,Paper2!$M$5:$M$108,"Nailed it")+COUNTIFS(Paper2!$O$5:$O$108,Dashboard!C73,Paper2!$Q$5:$Q$108,"Nailed it")+COUNTIFS(Paper2!$S$5:$S$108,Dashboard!C73,Paper2!$U$5:$U$108,"Nailed it") -> 0
C74: Spider Diagram | D74: =COUNTIF(Paper2!$J$7:$U$22,C74) -> 0 | E74: =COUNTIF(Paper2!$J$23:$U$49,C74) -> 0 | F74: =COUNTIF(Paper2!$J$50:$U$64,C74) -> 0 | G74: =COUNTIF(Paper2!$J$65:$U$71,C74) -> 0 | H74: =COUNTIF(Paper2!$J$72:$U$79,C74) -> 0 | I74: =COUNTIF(Paper2!$J$80:$U$108,C74) -> 0 | J74: =SUM(D74:I74) -> 0 | K74: =COUNTIFS(Paper2!$K$5:$K$108,Dashboard!C74,Paper2!$M$5:$M$108,"Nailed it")+COUNTIFS(Paper2!$O$5:$O$108,Dashboard!C74,Paper2!$Q$5:$Q$108,"Nailed it")+COUNTIFS(Paper2!$S$5:$S$108,Dashboard!C74,Paper2!$U$5:$U$108,"Nailed it") -> 0
... C76: YouTube Videos | D76: =COUNTIF(Paper2!$J$7:$U$22,C76) -> 0 | E76: =COUNTIF(Paper2!$J$23:$U$49,C76) -> 1 | F76: =COUNTIF(Paper2!$J$50:$U$64,C76) -> 1 | G76: =COUNTIF(Paper2!$J$65:$U$71,C76) -> 1 | H76: =COUNTIF(Paper2!$J$72:$U$79,C76) -> 1 | I76: =COUNTIF(Paper2!$J$80:$U$108,C76) -> 1 | J76: =SUM(D76:I76) -> 5 | K76: =COUNTIFS(Paper2!$K$5:$K$108,Dashboard!C76,Paper2!$M$5:$M$108,"Nailed it")+COUNTIFS(Paper2!$O$5:$O$108,Dashboard!C76,Paper2!$Q$5:$Q$108,"Nailed it")+COUNTIFS(Paper2!$S$5:$S$108,Dashboard!C76,Paper2!$U$5:$U$108,"Nailed it") -> 0
C79: Paper 1
C80: Section Title | F80: Number of Review Completed | G80: Review 2 | H80: Review 3
C81: 1.1.1 Architecture of the CPU | F81: =COUNTIF(Paper1!H7:S7,"Completed") -> 0 | G81: =IF(Paper1!K7<>"not sure", "", IF(TODAY()-Paper1!J7<=2,"Necessary", "Urgent")) -> Urgent | H81: =IF(Paper1!O7<>"not sure", "", IF(TODAY()-Paper1!N7<=2, "Necessary", "Urgent"))
C82: 1.1.2 CPU Performance | F82: =COUNTIF(Paper1!H8:S8,"Completed") -> 0 | G82: =IF(Paper1!K8<>"not sure", "", IF(TODAY()-Paper1!J8<=2,"Necessary", "Urgent")) | H82: =IF(Paper1!O8<>"not sure", "", IF(TODAY()-Paper1!N8<=2, "Necessary", "Urgent"))
C83: 1.1.3 Embedded Systems | F83: =COUNTIF(Paper1!H9:S9,"Completed") -> 0 | G83: =IF(Paper1!K9<>"not sure", "", IF(TODAY()-Paper1!J9<=2,"Necessary", "Urgent")) | H83: =IF(Paper1!O9<>"not sure", "", IF(TODAY()-Paper1!N9<=2, "Necessary", "Urgent"))
C84: 1.2.1 Primary Storage | F84: =COUNTIF(Paper1!H10:S10,"Completed") -> 0 | G84: =IF(Paper1!K10<>"not sure", "", IF(TODAY()-Paper1!J10<=2,"Necessary", "Urgent")) | H84: =IF(Paper1!O10<>"not sure", "", IF(TODAY()-Paper1!N10<=2, "Necessary", "Urgent"))
C85: 1.2.2 Secondary Storage | F85: =COUNTIF(Paper1!H11:S11,"Completed") -> 0 | G85: =IF(Paper1!K11<>"not sure", "", IF(TODAY()-Paper1!J11<=2,"Necessary", "Urgent")) | H85: =IF(Paper1!O11<>"not sure", "", IF(TODAY()-Paper1!N11<=2, "Necessary", "Urgent"))
C86: 1.2.3 Units | F86: =COUNTIF(Paper1!H12:S12,"Completed") -> 0 | G86: =IF(Paper1!K12<>"not sure", "", IF(TODAY()-Paper1!J12<=2,"Necessary", "Urgent")) | H86: =IF(Paper1!O12<>"not sure", "", IF(TODAY()-Paper1!N12<=2, "Necessary", "Urgent"))
C87: 1.2.4 Data Storage Numbers | F87: =COUNTIF(Paper1!H13:S13,"Completed") -> 0 | G87: =IF(Paper1!K13<>"not sure", "", IF(TODAY()-Paper1!J13<=2,"Necessary", "Urgent")) | H87: =IF(Paper1!O13<>"not sure", "", IF(TODAY()-Paper1!N13<=2, "Necessary", "Urgent"))
C88: 1.2.4 Data Storage Characters | F88: =COUNTIF(Paper1!H14:S14,"Completed") -> 0 | G88: =IF(Paper1!K14<>"not sure", "", IF(TODAY()-Paper1!J14<=2,"Necessary", "Urgent")) | H88: =IF(Paper1!O14<>"not sure", "", IF(TODAY()-Paper1!N14<=2, "Necessary", "Urgent"))
C89: 1.2.4 Data Storage Images | F89: =COUNTIF(Paper1!H15:S15,"Completed") -> 0 | G89: =IF(Paper1!K15<>"not sure", "", IF(TODAY()-Paper1!J15<=2,"Necessary", "Urgent")) | H89: =IF(Paper1!O15<>"not sure", "", IF(TODAY()-Paper1!N15<=2, "Necessary", "Urgent"))
C90: 1.2.4 Data Storage Sound | F90: =COUNTIF(Paper1!H16:S16,"Completed") -> 0 | G90: =IF(Paper1!K16<>"not sure", "", IF(TODAY()-Paper1!J16<=2,"Necessary", "Urgent")) | H90: =IF(Paper1!O16<>"not sure", "", IF(TODAY()-Paper1!N16<=2, "Necessary", "Urgent"))
C91: 1.2.5 Compression | F91: =COUNTIF(Paper1!H17:S17,"Completed") -> 0 | G91: =IF(Paper1!K17<>"not sure", "", IF(TODAY()-Paper1!J17<=2,"Necessary", "Urgent")) | H91: =IF(Paper1!O17<>"not sure", "", IF(TODAY()-Paper1!N17<=2, "Necessary", "Urgent"))
C92: 1.3.1 Networks and topologies | F92: =COUNTIF(Paper1!H18:S18,"Completed") -> 0 | G92: =IF(Paper1!K18<>"not sure", "", IF(TODAY()-Paper1!J18<=2,"Necessary", "Urgent")) | H92: =IF(Paper1!O18<>"not sure", "", IF(TODAY()-Paper1!N18<=2, "Necessary", "Urgent"))
... C98: 1.6.1 Ethical, legal, cultural and environmental impact | F98: =COUNTIF(Paper1!H24:S24,"Completed") -> 0 | G98: =IF(Paper1!K24<>"not sure", "", IF(TODAY()-Paper1!J24<=2,"Necessary", "Urgent")) -> Urgent | H98: =IF(Paper1!O24<>"not sure", "", IF(TODAY()-Paper1!N24<=2, "Necessary", "Urgent"))
C99: Total | F99: =SUM(F81:F98) -> 0 | H99: =IF(Paper1!O25<>"not sure", "", IF(TODAY()-Paper1!N25<=2, "Necessary", "Urgent"))
C101: Paper 2
C102: SL | D102: Number of Review Completed | F102: Number of Review Completed | G102: Review 2 | H102: Review 3
C103: 1 | D103: =COUNTIF(Paper2!J7:U7,"Completed") -> 1 | F103: Use of abstraction method to define and refine problems | G103: =IF(Paper2!M7<>"not sure", "", IF(TODAY()-Paper2!L7<=2, "Necessary", "Urgent")) | H103: =IF(Paper2!Q7<>"not sure", "", IF(TODAY()-Paper2!P7<=2,"Necessary", "Urgent"))
C104: 2 | D104: =COUNTIF(Paper2!J8:U8,"Completed") -> 0 | F104: Use of decomposition to to define and refine problems | G104: =IF(Paper2!M8<>"not sure", "", IF(TODAY()-Paper2!L8<=2, "Necessary", "Urgent")) | H104: =IF(Paper2!Q8<>"not sure", "", IF(TODAY()-Paper2!P8<=2,"Necessary", "Urgent"))
C105: 3 | D105: =COUNTIF(Paper2!J9:U9,"Completed") -> 0 | F105: Use of algorithmetic thinking to define and refine problems | G105: =IF(Paper2!M9<>"not sure", "", IF(TODAY()-Paper2!L9<=2, "Necessary", "Urgent")) | H105: =IF(Paper2!Q9<>"not sure", "", IF(TODAY()-Paper2!P9<=2,"Necessary", "Urgent"))
C106: 4 | D106: =COUNTIF(Paper2!J10:U10,"Completed") -> 0 | F106: Identify the inputs, processes, and outputs for a problem | G106: =IF(Paper2!M10<>"not sure", "", IF(TODAY()-Paper2!L10<=2, "Necessary", "Urgent")) | H106: =IF(Paper2!Q10<>"not sure", "", IF(TODAY()-Paper2!P10<=2,"Necessary", "Urgent"))
C107: 5 | D107: =COUNTIF(Paper2!J11:U11,"Completed") -> 0 | F107: Create, interpret, correct, complete, and refine algorithms using Pseudocode | G107: =IF(Paper2!M11<>"not sure", "", IF(TODAY()-Paper2!L11<=2, "Necessary", "Urgent")) | H107: =IF(Paper2!Q11<>"not sure", "", IF(TODAY()-Paper2!P11<=2,"Necessary", "Urgent"))
C108: 6 | D108: =COUNTIF(Paper2!J12:U12,"Completed") -> 0 | F108: Create, interpret, correct, complete, and refine algorithms using Flowcharts | G108: =IF(Paper2!M12<>"not sure", "", IF(TODAY()-Paper2!L12<=2, "Necessary", "Urgent")) | H108: =IF(Paper2!Q12<>"not sure", "", IF(TODAY()-Paper2!P12<=2,"Necessary", "Urgent"))
C109: 7 | D109: =COUNTIF(Paper2!J13:U13,"Completed") -> 0 | F109: Create, interpret, correct, complete, and refine algorithms using Exam Reference Language | G109: =IF(Paper2!M13<>"not sure", "", IF(TODAY()-Paper2!L13<=2, "Necessary", "Urgent")) | H109: =IF(Paper2!Q13<>"not sure", "", IF(TODAY()-Paper2!P13<=2,"Necessary", "Urgent"))
C110: 8 | D110: =COUNTIF(Paper2!J14:U14,"Completed") -> 0 | F110: Identify syntax errors in code | G110: =IF(Paper2!M14<>"not sure", "", IF(TODAY()-Paper2!L14<=2, "Necessary", "Urgent")) | H110: =IF(Paper2!Q14<>"not sure", "", IF(TODAY()-Paper2!P14<=2,"Necessary", "Urgent"))
C111: 9 | D111: =COUNTIF(Paper2!J15:U15,"Completed") -> 0 | F111: Identify logic errors in code | G111: =IF(Paper2!M15<>"not sure", "", IF(TODAY()-Paper2!L15<=2, "Necessary", "Urgent")) | H111: =IF(Paper2!Q15<>"not sure", "", IF(TODAY()-Paper2!P15<=2,"Necessary", "Urgent"))
C112: 10 | D112: =COUNTIF(Paper2!J16:U16,"Completed") -> 0 | F112: Create a trace table to follow an algorithm | G112: =IF(Paper2!M16<>"not sure", "", IF(TODAY()-Paper2!L16<=2, "Necessary", "Urgent")) | H112: =IF(Paper2!Q16<>"not sure", "", IF(TODAY()-Paper2!P16<=2,"Necessary", "Urgent"))
C113: 11 | D113: =COUNTIF(Paper2!J17:U17,"Completed") -> 0 | F113: Complete a trace table to follow an algorithm | G113: =IF(Paper2!M17<>"not sure", "", IF(TODAY()-Paper2!L17<=2, "Necessary", "Urgent")) | H113: =IF(Paper2!Q17<>"not sure", "", IF(TODAY()-Paper2!P17<=2,"Necessary", "Urgent"))
C114: 12 | D114: =COUNTIF(Paper2!J18:U18,"Completed") -> 0 | F114: Apply a binary search to a problem | G114: =IF(Paper2!M18<>"not sure", "", IF(TODAY()-Paper2!L18<=2, "Necessary", "Urgent")) | H114: =IF(Paper2!Q18<>"not sure", "", IF(TODAY()-Paper2!P18<=2,"Necessary", "Urgent"))
... C204: 102 | D204: =COUNTIF(Paper2!J108:U108,"Completed") -> 0 | F204: I can write the procedure for calling a function function(parameters) print(squared(4)) newValue = squared(4) Note: Function returns should be stored in a variable if needed for later use in a program. | G204: =IF(Paper2!M108<>"not sure", "", IF(TODAY()-Paper2!L108<=2, "Necessary", "Urgent")) | H204: =IF(Paper2!Q108<>"not sure", "", IF(TODAY()-Paper2!P108<=2,"Necessary", "Urgent"))

Sheet Paper1
A2: Percentage of Course Revised | F2: =COUNTIF(H7:S24,"Completed")/54 -> 0 | H2: UNIT 1.1 | I2: UNIT 1.2 | K2: UNIT 1.3 | L2: UNIT 1.4 | M2: UNIT 1.5 | O2: UNIT 1.6 | T2: Nailed It | U2: =COUNTIF(H7:S24,T2)/54 -> 0
H3: =COUNTIF(H7:S9,"Completed")/9 -> 0 | I3: =COUNTIF(H10:S17,"Completed")/24 -> 0 | K3: =COUNTIF(H18:S19,"Completed")/6 -> 0 | L3: =COUNTIF(H20:S21,"Completed")/6 -> 0 | M3: =COUNTIF(H22:S23,"Completed")/6 -> 0 | O3: =COUNTIF(H24:S24,"Completed")/3 -> 0
A4: TOPIC | H4: Review 1 | L4: Review 2 | P4: Review 3 | T4: % Reviews Completed | U4: Average Confidence Level
H5: Status | I5: Revision Activity | J5: Date | K5: Confidence Level | L5: Status | M5: Revision Activity | N5: Date | O5: Confidence Level | P5: Status | Q5: Revision Activity | R5: Date | S5: Confidence Level | AB5: do not edit or delete
A6: Unit | C6: Section Title | AB6: Not Started | AC6: Revision Notes | AD6: Not Sure | AE6: 3 | AG6: 45427 | AH6: =AG6-TODAY() -> 29 | AI6: paper1
A7: 1.1 Systems Architecture | C7: 1.1.1 Architecture of the CPU * The purpose of the CPU * Common CPU components and their function * Von Neumann architecture | H7: {=_xlfn.TOCOL('1.1'!H7:H9)} -> Started | I7: {=_xlfn.TOCOL('1.1'!I7:I9)} -> Exam Questions | J7: {=_xlfn.TOCOL('1.1'!J7:J9)} -> 45356 | K7: {=_xlfn.TOCOL('1.1'!K7:K9)} -> Not Sure | L7: {=_xlfn.TOCOL('1.1'!L7:L9)} -> Not Started | M7: {=_xlfn.TOCOL('1.1'!M7:M9)} -> 0 | N7: {=_xlfn.TOCOL('1.1'!N7:N9)} -> 0 | O7: {=_xlfn.TOCOL('1.1'!O7:O9)} -> 0 | ... S7: {=_xlfn.TOCOL('1.1'!S7:S9)} -> 0 | T7: =COUNTIF(H7:S7,"completed")/3 -> 0 | U7: =(_xlfn.XLOOKUP(K7,working!$R$3:$R$5,working!$S$3:$S$5,"0")+_xlfn.XLOOKUP(O7,working!$R$3:$R$5,working!$S$3:$S$5,"0")+_xlfn.XLOOKUP(S7,working!$R$3:$R$5,working!$S$3:$S$5,"0"))/15 -> 0.2 | AB7: Started | AC7: Concept Map | AD7: Getting There | AE7: 4 | AG7: 45433 | AH7: =AG7-TODAY() -> 35 | AI7: paper2
C8: 1.1.2 CPU Performance * How common characteristics of CPUs affect their performance | H8: Not Started | I8: 0 | J8: 0 | K8: 0 | L8: Not Started | M8: 0 | N8: 0 | O8: 0 | P8: Not Started | Q8: 0 | R8: 0 | S8: 0 | T8: =COUNTIF(H8:S8,"completed")/3 -> 0 | U8: =(_xlfn.XLOOKUP(K8,working!$R$3:$R$5,working!$S$3:$S$5,"0")+_xlfn.XLOOKUP(O8,working!$R$3:$R$5,working!$S$3:$S$5,"0")+_xlfn.XLOOKUP(S8,working!$R$3:$R$5,working!$S$3:$S$5,"0"))/15 -> 0 | AB8: Completed | AC8: Flashcard Review | AD8: Nailed It | AE8: 5
C9: 1.1.3 Embedded Systems * The purpose and characteristics of embedded systems * Examples of embedded systems | H9: Not Started | I9: 0 | J9: 0 | K9: 0 | L9: Not Started | M9: 0 | N9: 0 | O9: 0 | P9: Not Started | Q9: 0 | R9: 0 | S9: 0 | T9: =COUNTIF(H9:S9,"completed")/3 -> 0 | U9: =(_xlfn.XLOOKUP(K9,working!$R$3:$R$5,working!$S$3:$S$5,"0")+_xlfn.XLOOKUP(O9,working!$R$3:$R$5,working!$S$3:$S$5,"0")+_xlfn.XLOOKUP(S9,working!$R$3:$R$5,working!$S$3:$S$5,"0"))/15 -> 0 | AC9: Active Recall Q
A10: 1.2 Memory & Storage | C10: 1.2.1 Primary Storage * The need for primary storage * The difference between RAM and ROM * The purpose of ROM in a computer system * The purpose of RAM in a computer system * Virtual memory | H10: {=_xlfn.TOCOL('1.2'!H7:H14)} -> Started | I10: {=_xlfn.TOCOL('1.2'!I7:I14)} -> Active Recall Q | J10: {=_xlfn.TOCOL('1.2'!J7:J14)} -> 0 | K10: {=_xlfn.TOCOL('1.2'!K7:K14)} -> Getting There | L10: {=_xlfn.TOCOL('1.2'!L7:L14)} -> Not Started | M10: {=_xlfn.TOCOL('1.2'!M7:M14)} -> 0 | N10: {=_xlfn.TOCOL('1.2'!N7:N14)} -> 0 | O10: {=_xlfn.TOCOL('1.2'!O7:O14)} -> 0 | ... S10: {=_xlfn.TOCOL('1.2'!S7:S14)} -> 0 | T10: =COUNTIF(H10:S10,"completed")/3 -> 0 | U10: =(_xlfn.XLOOKUP(K10,working!$R$3:$R$5,working!$S$3:$S$5,"0")+_xlfn.XLOOKUP(O10,working!$R$3:$R$5,working!$S$3:$S$5,"0")+_xlfn.XLOOKUP(S10,working!$R$3:$R$5,working!$S$3:$S$5,"0"))/15 -> 0.26666667 | AC10: YouTube Videos
C11: 1.2.2 Secondary Storage * The need for secondary storage * Common types of storage * Suitable storage devices and storage media for a given application * The advantages and disadvantages of different storage devices and storage media relating to these characteristics | H11: Not Started | I11: 0 | J11: 0 | K11: 0 | L11: Not Started | M11: 0 | N11: 0 | O11: 0 | P11: Not Started | Q11: 0 | R11: 0 | S11: 0 | T11: =COUNTIF(H11:S11,"completed")/3 -> 0 | U11: =(_xlfn.XLOOKUP(K11,working!$R$3:$R$5,working!$S$3:$S$5,"0")+_xlfn.XLOOKUP(O11,working!$R$3:$R$5,working!$S$3:$S$5,"0")+_xlfn.XLOOKUP(S11,working!$R$3:$R$5,working!$S$3:$S$5,"0"))/15 -> 0 | AC11: Blurting
C12: 1.2.3 Units * The units of data storage * How data needs to be converted into a binary format to be processed by a computer * Data capacity and calculation of data capacity requirements | H12: Not Started | I12: 0 | J12: 0 | K12: 0 | L12: Not Started | M12: 0 | N12: 0 | O12: 0 | P12: Not Started | Q12: 0 | R12: 0 | S12: 0 | T12: =COUNTIF(H12:S12,"completed")/3 -> 0 | U12: =(_xlfn.XLOOKUP(K12,working!$R$3:$R$5,working!$S$3:$S$5,"0")+_xlfn.XLOOKUP(O12,working!$R$3:$R$5,working!$S$3:$S$5,"0")+_xlfn.XLOOKUP(S12,working!$R$3:$R$5,working!$S$3:$S$5,"0"))/15 -> 0 | AC12: Exam Questions
C13: 1.2.4 Data Storage Numbers * How to convert positive denary whole numbers to binary numbers (up to 8 bits) and vice versa * How to add two binary integers together (up to 8 bits) and explain overflow errors which may occur * How to convert positive denary whole numbers into 2-digit hexadecimal numbers and vice versa * How to convert binary integers to their hexadecimal equivalents and vice versa * Binary shifts | H13: Not Started | I13: 0 | J13: 0 | K13: 0 | L13: Not Started | M13: 0 | N13: 0 | O13: 0 | P13: Not Started | Q13: 0 | R13: 0 | S13: 0 | T13: =COUNTIF(H13:S13,"completed")/3 -> 0 | U13: =(_xlfn.XLOOKUP(K13,working!$R$3:$R$5,working!$S$3:$S$5,"0")+_xlfn.XLOOKUP(O13,working!$R$3:$R$5,working!$S$3:$S$5,"0")+_xlfn.XLOOKUP(S13,working!$R$3:$R$5,working!$S$3:$S$5,"0"))/15 -> 0 | AC13: Organise Notes
C14: 1.2.4 Data Storage Characters * The use of binary codes to represent characters * The term ‘character set’ * The relationship between the number of bits per character in a character set, and the number of characters which can be represented | H14: Not Started | I14: 0 | J14: 0 | K14: 0 | L14: Not Started | M14: 0 | N14: 0 | O14: 0 | P14: Not Started | Q14: 0 | R14: 0 | S14: 0 | T14: =COUNTIF(H14:S14,"completed")/3 -> 0 | U14: =(_xlfn.XLOOKUP(K14,working!$R$3:$R$5,working!$S$3:$S$5,"0")+_xlfn.XLOOKUP(O14,working!$R$3:$R$5,working!$S$3:$S$5,"0")+_xlfn.XLOOKUP(S14,working!$R$3:$R$5,working!$S$3:$S$5,"0"))/15 -> 0 | AC14: Learning Mark Scheme
C15: 1.2.4 Data Storage Images * How an image is represented as a series of pixels, represented in binary * Metadata * The effect of colour depth and resolution on | H15: Not Started | I15: 0 | J15: 0 | K15: 0 | L15: Not Started | M15: 0 | N15: 0 | O15: 0 | P15: Not Started | Q15: 0 | R15: 0 | S15: 0 | T15: =COUNTIF(H15:S15,"completed")/3 -> 0 | U15: =(_xlfn.XLOOKUP(K15,working!$R$3:$R$5,working!$S$3:$S$5,"0")+_xlfn.XLOOKUP(O15,working!$R$3:$R$5,working!$S$3:$S$5,"0")+_xlfn.XLOOKUP(S15,working!$R$3:$R$5,working!$S$3:$S$5,"0"))/15 -> 0 | AC15: Spider Diagram
C16: 1.2.4 Data Storage Sound * How sound can be sampled and stored in digital form * The effect of sample rate, duration and bit depth | H16: Not Started | I16: 0 | J16: 0 | K16: 0 | L16: Not Started | M16: 0 | N16: 0 | O16: 0 | P16: Not Started | Q16: 0 | R16: 0 | S16: 0 | T16: =COUNTIF(H16:S16,"completed")/3 -> 0 | U16: =(_xlfn.XLOOKUP(K16,working!$R$3:$R$5,working!$S$3:$S$5,"0")+_xlfn.XLOOKUP(O16,working!$R$3:$R$5,working!$S$3:$S$5,"0")+_xlfn.XLOOKUP(S16,working!$R$3:$R$5,working!$S$3:$S$5,"0"))/15 -> 0 | AC16: Knowledge Organiser
C17: 1.2.5 Compression * The need for compression * Types of compression | H17: Not Started | I17: 0 | J17: 0 | K17: 0 | L17: Not Started | M17: 0 | N17: 0 | O17: 0 | P17: Not Started | Q17: 0 | R17: 0 | S17: 0 | T17: =COUNTIF(H17:S17,"completed")/3 -> 0 | U17: =(_xlfn.XLOOKUP(K17,working!$R$3:$R$5,working!$S$3:$S$5,"0")+_xlfn.XLOOKUP(O17,working!$R$3:$R$5,working!$S$3:$S$5,"0")+_xlfn.XLOOKUP(S17,working!$R$3:$R$5,working!$S$3:$S$5,"0"))/15 -> 0 | AC17: Coded Small Algorithm
A18: 1.3 – Computer networks, connections and protocols | C18: 1.3.1 Networks and topologies * Types of network * Factors that affect the performance of networks * The different roles of computers in a client-server and a peer-topeer network * The hardware needed to connect stand-alone computers into a Local Area Network * The Internet as a worldwide collection of computer networks * Star and Mesh network topologies | H18: {=_xlfn.TOCOL('1.3'!H7:H8)} -> Started | I18: {=_xlfn.TOCOL('1.3'!I7:I8)} -> Concept Map | J18: {=_xlfn.TOCOL('1.3'!J7:J8)} -> 45358 | K18: {=_xlfn.TOCOL('1.3'!K7:K8)} -> Getting There | L18: {=_xlfn.TOCOL('1.3'!L7:L8)} -> Not Started | M18: {=_xlfn.TOCOL('1.3'!M7:M8)} -> 0 | N18: {=_xlfn.TOCOL('1.3'!N7:N8)} -> 0 | O18: {=_xlfn.TOCOL('1.3'!O7:O8)} -> 0 | ... S18: {=_xlfn.TOCOL('1.3'!S7:S8)} -> 0 | T18: =COUNTIF(H18:S18,"completed")/3 -> 0 | U18: =(_xlfn.XLOOKUP(K18,working!$R$3:$R$5,working!$S$3:$S$5,"0")+_xlfn.XLOOKUP(O18,working!$R$3:$R$5,working!$S$3:$S$5,"0")+_xlfn.XLOOKUP(S18,working!$R$3:$R$5,working!$S$3:$S$5,"0"))/15 -> 0.26666667 | AC18: Write Algorithm With Bullet Points
C19: 1.3.2 Wired and wireless networks, protocols and layer * Modes of connection * Encryption * IP addressing and MAC addressing Standards * Common protocols including * The concept of layers | H19: Not Started | I19: 0 | J19: 0 | K19: 0 | L19: Not Started | M19: 0 | N19: 0 | O19: 0 | P19: Not Started | Q19: 0 | R19: 0 | S19: 0 | T19: =COUNTIF(H19:S19,"completed")/3 -> 0 | U19: =(_xlfn.XLOOKUP(K19,working!$R$3:$R$5,working!$S$3:$S$5,"0")+_xlfn.XLOOKUP(O19,working!$R$3:$R$5,working!$S$3:$S$5,"0")+_xlfn.XLOOKUP(S19,working!$R$3:$R$5,working!$S$3:$S$5,"0"))/15 -> 0 | AC19: Debugged Coding
A20: 1.4 – Network security | C20: 1.4.1 Threats to computer systems and networks Forms of attack : * Malware * Social engineering * Brute-force attacks * Denial of service attacks * Data interception and theft * The concept of SQL injection | H20: {=_xlfn.TOCOL('1.4'!H7:H8)} -> Started | I20: {=_xlfn.TOCOL('1.4'!I7:I8)} -> Blurting | J20: {=_xlfn.TOCOL('1.4'!J7:J8)} -> 0 | K20: {=_xlfn.TOCOL('1.4'!K7:K8)} -> Getting There | L20: {=_xlfn.TOCOL('1.4'!L7:L8)} -> Not Started | M20: {=_xlfn.TOCOL('1.4'!M7:M8)} -> 0 | N20: {=_xlfn.TOCOL('1.4'!N7:N8)} -> 0 | O20: {=_xlfn.TOCOL('1.4'!O7:O8)} -> 0 | ... S20: {=_xlfn.TOCOL('1.4'!S7:S8)} -> 0 | T20: =COUNTIF(H20:S20,"completed")/3 -> 0 | U20: =(_xlfn.XLOOKUP(K20,working!$R$3:$R$5,working!$S$3:$S$5,"0")+_xlfn.XLOOKUP(O20,working!$R$3:$R$5,working!$S$3:$S$5,"0")+_xlfn.XLOOKUP(S20,working!$R$3:$R$5,working!$S$3:$S$5,"0"))/15 -> 0.26666667 | AC20: Reading Textbook
C21: 1.4.2 Identifying and preventing vulnerabilities Common prevention methods: * Penetration testing * Anti-malware software * Firewalls * User access levels * Passwords * Encryption * Physical security | H21: Not Started | I21: 0 | J21: 0 | K21: 0 | L21: Not Started | M21: 0 | N21: 0 | O21: 0 | P21: Not Started | Q21: 0 | R21: 0 | S21: 0 | T21: =COUNTIF(H21:S21,"completed")/3 -> 0 | U21: =(_xlfn.XLOOKUP(K21,working!$R$3:$R$5,working!$S$3:$S$5,"0")+_xlfn.XLOOKUP(O21,working!$R$3:$R$5,working!$S$3:$S$5,"0")+_xlfn.XLOOKUP(S21,working!$R$3:$R$5,working!$S$3:$S$5,"0"))/15 -> 0
A22: 1.5 – Systems software | C22: 1.5.1 Operating systems * The purpose and functionality of operating systems | H22: {=_xlfn.TOCOL('1.5'!H7:H8)} -> Started | I22: {=_xlfn.TOCOL('1.5'!I7:I8)} -> Knowledge Organiser | J22: {=_xlfn.TOCOL('1.5'!J7:J8)} -> 45334 | K22: {=_xlfn.TOCOL('1.5'!K7:K8)} -> Getting There | L22: {=_xlfn.TOCOL('1.5'!L7:L8)} -> Not Started | M22: {=_xlfn.TOCOL('1.5'!M7:M8)} -> 0 | N22: {=_xlfn.TOCOL('1.5'!N7:N8)} -> 0 | O22: {=_xlfn.TOCOL('1.5'!O7:O8)} -> 0 | ... S22: {=_xlfn.TOCOL('1.5'!S7:S8)} -> 0 | T22: =COUNTIF(H22:S22,"completed")/3 -> 0 | U22: =(_xlfn.XLOOKUP(K22,working!$R$3:$R$5,working!$S$3:$S$5,"0")+_xlfn.XLOOKUP(O22,working!$R$3:$R$5,working!$S$3:$S$5,"0")+_xlfn.XLOOKUP(S22,working!$R$3:$R$5,working!$S$3:$S$5,"0"))/15 -> 0.26666667
C23: 1.5.2 Utility software * The purpose and functionality of utility software * Utility system software | H23: Not Started | I23: 0 | J23: 0 | K23: 0 | L23: Not Started | M23: 0 | N23: 0 | O23: 0 | P23: Not Started | Q23: 0 | R23: 0 | S23: 0 | T23: =COUNTIF(H23:S23,"completed")/3 -> 0 | U23: =(_xlfn.XLOOKUP(K23,working!$R$3:$R$5,working!$S$3:$S$5,"0")+_xlfn.XLOOKUP(O23,working!$R$3:$R$5,working!$S$3:$S$5,"0")+_xlfn.XLOOKUP(S23,working!$R$3:$R$5,working!$S$3:$S$5,"0"))/15 -> 0
A24: 1.6 – Ethical, legal, cultural and environmental impacts of digital technology | C24: 1.6.1 Ethical, legal, cultural and environmental impact * Impacts of digital technology on wider society * Legislation relevant to Computer Science | H24: {=_xlfn.TOROW('1.6'!H7:S7)} -> Started | I24: 0 | J24: 0 | K24: Not Sure | L24: Not Started | M24: 0 | N24: 0 | O24: 0 | P24: Not Started | Q24: 0 | R24: 0 | S24: 0 | T24: =COUNTIF(H24:S24,"completed")/3 -> 0 | U24: =(_xlfn.XLOOKUP(K24,working!$R$3:$R$5,working!$S$3:$S$5,"0")+_xlfn.XLOOKUP(O24,working!$R$3:$R$5,working!$S$3:$S$5,"0")+_xlfn.XLOOKUP(S24,working!$R$3:$R$5,working!$S$3:$S$5,"0"))/15 -> 0.2

Sheet 1.1
A2: Percentage of Course Revised | F2: =COUNTIF(H7:S9,"Completed")/9 -> 0 | H2: Not Sure | I2: =COUNTIF(H7:S9,H2)/9 -> 0.11111111 | J2: Getting There | K2: =COUNTIF(H7:S9,J2)/9 -> 0 | L2: Nailed It | M2: =COUNTIF(H7:S9,L2)/9 -> 0
A4: TOPIC | H4: Review 1 | L4: Review 2 | P4: Review 3 | T4: % Reviews Completed | U4: Average Confidence Level
H5: Status | I5: Revision Activity | J5: Date | K5: Confidence Level | L5: Status | M5: Revision Activity | N5: Date | O5: Confidence Level | P5: Status | Q5: Revision Activity | R5: Date | S5: Confidence Level
A6: Unit | C6: Section Title
A7: 1.1 Systems Architecture | C7: 1.1.1 Architecture of the CPU * The purpose of the CPU * Common CPU components and their function * Von Neumann architecture | H7: Started | I7: Exam Questions | J7: 45356 | K7: Not Sure | L7: Not Started | P7: Not Started | T7: =COUNTIF(H7:S7,"completed")/3 -> 0 | U7: =(_xlfn.XLOOKUP(K7,working!$R$3:$R$5,working!$S$3:$S$5,"0")+_xlfn.XLOOKUP(O7,working!$R$3:$R$5,working!$S$3:$S$5,"0")+_xlfn.XLOOKUP(S7,working!$R$3:$R$5,working!$S$3:$S$5,"0"))/15 -> 0.2
C8: 1.1.2 CPU Performance * How common characteristics of CPUs affect their performance | H8: Not Started | L8: Not Started | P8: Not Started | T8: =COUNTIF(H8:S8,"completed")/3 -> 0 | U8: =(_xlfn.XLOOKUP(K8,working!$R$3:$R$5,working!$S$3:$S$5,"0")+_xlfn.XLOOKUP(O8,working!$R$3:$R$5,working!$S$3:$S$5,"0")+_xlfn.XLOOKUP(S8,working!$R$3:$R$5,working!$S$3:$S$5,"0"))/15 -> 0
C9: 1.1.3 Embedded Systems * The purpose and characteristics of embedded systems * Examples of embedded systems | H9: Not Started | L9: Not Started | P9: Not Started | T9: =COUNTIF(H9:S9,"completed")/3 -> 0 | U9: =(_xlfn.XLOOKUP(K9,working!$R$3:$R$5,working!$S$3:$S$5,"0")+_xlfn.XLOOKUP(O9,working!$R$3:$R$5,working!$S$3:$S$5,"0")+_xlfn.XLOOKUP(S9,working!$R$3:$R$5,working!$S$3:$S$5,"0"))/15 -> 0

Sheet 1.2
A2: Percentage of Course Revised | F2: =COUNTIF(H7:S14,"Completed")/24 -> 0 | H2: Not Sure | I2: =COUNTIF(H7:S14,H2)/24 -> 0 | J2: Getting There | K2: =COUNTIF(H7:S14,J2)/24 -> 0.041666667 | L2: Nailed It | M2: =COUNTIF(H7:S14,L2)/24 -> 0
A4: TOPIC | H4: Review 1 | L4: Review 2 | P4: Review 3 | T4: % Reviews Completed | U4: Average Confidence Level
H5: Status | I5: Revision Activity | J5: Date | K5: Confidence Level | L5: Status | M5: Revision Activity | N5: Date | O5: Confidence Level | P5: Status | Q5: Revision Activity | R5: Date | S5: Confidence Level
A6: Unit | C6: Section Title
A7: 1.2 Memory & Storage | C7: 1.2.1 Primary Storage * The need for primary storage * The difference between RAM and ROM * The purpose of ROM in a computer system * The purpose of RAM in a computer system * Virtual memory | H7: Started | I7: Active Recall Q | K7: Getting There | L7: Not Started | P7: Not Started | T7: =COUNTIF(H7:S7,"completed")/5 -> 0 | U7: =(_xlfn.XLOOKUP(K7,working!$R$3:$R$5,working!$S$3:$S$5,"0")+_xlfn.XLOOKUP(O7,working!$R$3:$R$5,working!$S$3:$S$5,"0")+_xlfn.XLOOKUP(S7,working!$R$3:$R$5,working!$S$3:$S$5,"0"))/15 -> 0.26666667
C8: 1.2.2 Secondary Storage * The need for secondary storage * Common types of storage * Suitable storage devices and storage media for a given application * The advantages and disadvantages of different storage devices and storage media relating to these characteristics | H8: Not Started | L8: Not Started | P8: Not Started | T8: =COUNTIF(H8:S8,"completed")/5 -> 0 | U8: =(_xlfn.XLOOKUP(K8,working!$R$3:$R$5,working!$S$3:$S$5,"0")+_xlfn.XLOOKUP(O8,working!$R$3:$R$5,working!$S$3:$S$5,"0")+_xlfn.XLOOKUP(S8,working!$R$3:$R$5,working!$S$3:$S$5,"0"))/15 -> 0
C9: 1.2.3 Units * The units of data storage * How data needs to be converted into a binary format to be processed by a computer * Data capacity and calculation of data capacity requirements | H9: Not Started | L9: Not Started | P9: Not Started | T9: =COUNTIF(H9:S9,"completed")/5 -> 0 | U9: =(_xlfn.XLOOKUP(K9,working!$R$3:$R$5,working!$S$3:$S$5,"0")+_xlfn.XLOOKUP(O9,working!$R$3:$R$5,working!$S$3:$S$5,"0")+_xlfn.XLOOKUP(S9,working!$R$3:$R$5,working!$S$3:$S$5,"0"))/15 -> 0
C10: 1.2.4 Data Storage Numbers * How to convert positive denary whole numbers to binary numbers (up to 8 bits) and vice versa * How to add two binary integers together (up to 8 bits) and explain overflow errors which may occur * How to convert positive denary whole numbers into 2-digit hexadecimal numbers and vice versa * How to convert binary integers to their hexadecimal equivalents and vice versa * Binary shifts | H10: Not Started | L10: Not Started | P10: Not Started | T10: =COUNTIF(H10:S10,"completed")/5 -> 0 | U10: =(_xlfn.XLOOKUP(K10,working!$R$3:$R$5,working!$S$3:$S$5,"0")+_xlfn.XLOOKUP(O10,working!$R$3:$R$5,working!$S$3:$S$5,"0")+_xlfn.XLOOKUP(S10,working!$R$3:$R$5,working!$S$3:$S$5,"0"))/15 -> 0
C11: 1.2.4 Data Storage Characters * The use of binary codes to represent characters * The term ‘character set’ * The relationship between the number of bits per character in a character set, and the number of characters which can be represented | H11: Not Started | L11: Not Started | P11: Not Started | T11: =COUNTIF(H11:S11,"completed")/5 -> 0 | U11: =(_xlfn.XLOOKUP(K11,working!$R$3:$R$5,working!$S$3:$S$5,"0")+_xlfn.XLOOKUP(O11,working!$R$3:$R$5,working!$S$3:$S$5,"0")+_xlfn.XLOOKUP(S11,working!$R$3:$R$5,working!$S$3:$S$5,"0"))/15 -> 0
C12: 1.2.4 Data Storage Images * How an image is represented as a series of pixels, represented in binary * Metadata * The effect of colour depth and resolution on | H12: Not Started | L12: Not Started | P12: Not Started | T12: =COUNTIF(H12:S12,"completed")/5 -> 0 | U12: =(_xlfn.XLOOKUP(K12,working!$R$3:$R$5,working!$S$3:$S$5,"0")+_xlfn.XLOOKUP(O12,working!$R$3:$R$5,working!$S$3:$S$5,"0")+_xlfn.XLOOKUP(S12,working!$R$3:$R$5,working!$S$3:$S$5,"0"))/15 -> 0
C13: 1.2.4 Data Storage Sound * How sound can be sampled and stored in digital form * The effect of sample rate, duration and bit depth | H13: Not Started | L13: Not Started | P13: Not Started | T13: =COUNTIF(H13:S13,"completed")/5 -> 0 | U13: =(_xlfn.XLOOKUP(K13,working!$R$3:$R$5,working!$S$3:$S$5,"0")+_xlfn.XLOOKUP(O13,working!$R$3:$R$5,working!$S$3:$S$5,"0")+_xlfn.XLOOKUP(S13,working!$R$3:$R$5,working!$S$3:$S$5,"0"))/15 -> 0
C14: 1.2.5 Compression * The need for compression * Types of compression | H14: Not Started | L14: Not Started | P14: Not Started | T14: =COUNTIF(H14:S14,"completed")/5 -> 0 | U14: =(_xlfn.XLOOKUP(K14,working!$R$3:$R$5,working!$S$3:$S$5,"0")+_xlfn.XLOOKUP(O14,working!$R$3:$R$5,working!$S$3:$S$5,"0")+_xlfn.XLOOKUP(S14,working!$R$3:$R$5,working!$S$3:$S$5,"0"))/15 -> 0

Sheet 1.3
A2: Percentage of Course Revised | F2: =COUNTIF(H7:S8,"Completed")/6 -> 0 | H2: Not Sure | I2: =COUNTIF(H7:S8,H2)/6 -> 0 | J2: Getting There | K2: =COUNTIF(H7:S8,J2)/6 -> 0.16666667 | L2: Nailed It | M2: =COUNTIF(H7:S8,L2)/6 -> 0
A4: TOPIC | H4: Review 1 | L4: Review 2 | P4: Review 3 | T4: % Reviews Completed | U4: Average Confidence Level
H5: Status | I5: Revision Activity | J5: Date | K5: Confidence Level | L5: Status | M5: Revision Activity | N5: Date | O5: Confidence Level | P5: Status | Q5: Revision Activity | R5: Date | S5: Confidence Level
A6: Unit | C6: Section Title
A7: 1.3 – Computer networks, connections and protocols | C7: 1.3.1 Networks and topologies * Types of network * Factors that affect the performance of networks * The different roles of computers in a client-server and a peer-topeer network * The hardware needed to connect stand-alone computers into a Local Area Network * The Internet as a worldwide collection of computer networks * Star and Mesh network topologies | H7: Started | I7: Concept Map | J7: 45358 | K7: Getting There | L7: Not Started | P7: Not Started | T7: =COUNTIF(H7:S7,"completed")/3 -> 0 | U7: =(_xlfn.XLOOKUP(K7,working!$R$3:$R$5,working!$S$3:$S$5,"0")+_xlfn.XLOOKUP(O7,working!$R$3:$R$5,working!$S$3:$S$5,"0")+_xlfn.XLOOKUP(S7,working!$R$3:$R$5,working!$S$3:$S$5,"0"))/15 -> 0.26666667
C8: 1.3.2 Wired and wireless networks, protocols and layer * Modes of connection * Encryption * IP addressing and MAC addressing Standards * Common protocols including * The concept of layers | H8: Not Started | L8: Not Started | P8: Not Started | T8: =COUNTIF(H8:S8,"completed")/3 -> 0 | U8: =(_xlfn.XLOOKUP(K8,working!$R$3:$R$5,working!$S$3:$S$5,"0")+_xlfn.XLOOKUP(O8,working!$R$3:$R$5,working!$S$3:$S$5,"0")+_xlfn.XLOOKUP(S8,working!$R$3:$R$5,working!$S$3:$S$5,"0"))/15 -> 0

Sheet 1.4
A2: Percentage of Course Revised | F2: =COUNTIF(H7:S8,"Completed")/6 -> 0 | H2: Not Sure | I2: =COUNTIF(H7:S8,H2)/6 -> 0 | J2: Getting There | K2: =COUNTIF(H7:S8,J2)/6 -> 0.16666667 | L2: Nailed It | M2: =COUNTIF(H7:S8,L2)/6 -> 0
A4: TOPIC | H4: Review 1 | L4: Review 2 | P4: Review 3 | T4: % Reviews Completed | U4: Average Confidence Level
H5: Status | I5: Revision Activity | J5: Date | K5: Confidence Level | L5: Status | M5: Revision Activity | N5: Date | O5: Confidence Level | P5: Status | Q5: Revision Activity | R5: Date | S5: Confidence Level
A6: Unit | C6: Section Title
A7: 1.4 – Network security | C7: 1.4.1 Threats to computer systems and networks Forms of attack : * Malware * Social engineering * Brute-force attacks * Denial of service attacks * Data interception and theft * The concept of SQL injection | H7: Started | I7: Blurting | K7: Getting There | L7: Not Started | P7: Not Started | T7: =COUNTIF(H7:S7,"completed")/3 -> 0 | U7: =(_xlfn.XLOOKUP(K7,working!$R$3:$R$5,working!$S$3:$S$5,"0")+_xlfn.XLOOKUP(O7,working!$R$3:$R$5,working!$S$3:$S$5,"0")+_xlfn.XLOOKUP(S7,working!$R$3:$R$5,working!$S$3:$S$5,"0"))/15 -> 0.26666667
C8: 1.4.2 Identifying and preventing vulnerabilities Common prevention methods: * Penetration testing * Anti-malware software * Firewalls * User access levels * Passwords * Encryption * Physical security | H8: Not Started | L8: Not Started | P8: Not Started | T8: =COUNTIF(H8:S8,"completed")/3 -> 0 | U8: =(_xlfn.XLOOKUP(K8,working!$R$3:$R$5,working!$S$3:$S$5,"0")+_xlfn.XLOOKUP(O8,working!$R$3:$R$5,working!$S$3:$S$5,"0")+_xlfn.XLOOKUP(S8,working!$R$3:$R$5,working!$S$3:$S$5,"0"))/15 -> 0

Sheet 1.5
A2: Percentage of Course Revised | F2: =COUNTIF(H7:S8,"Completed")/6 -> 0 | H2: Not Sure | I2: =COUNTIF(H7:S8,H2)/6 -> 0 | J2: Getting There | K2: =COUNTIF(H7:S8,J2)/6 -> 0.16666667 | L2: Nailed It | M2: =COUNTIF(H7:S8,L2)/6 -> 0
A4: TOPIC | H4: Review 1 | L4: Review 2 | P4: Review 3 | T4: % Reviews Completed | U4: Average Confidence Level
H5: Status | I5: Revision Activity | J5: Date | K5: Confidence Level | L5: Status | M5: Revision Activity | N5: Date | O5: Confidence Level | P5: Status | Q5: Revision Activity | R5: Date | S5: Confidence Level
A6: Unit | C6: Section Title
A7: 1.5 – Systems software | C7: 1.5.1 Operating systems * The purpose and functionality of operating systems | H7: Started | I7: Knowledge Organiser | J7: 45334 | K7: Getting There | L7: Not Started | P7: Not Started | T7: =COUNTIF(H7:S7,"completed")/3 -> 0 | U7: =(_xlfn.XLOOKUP(K7,working!$R$3:$R$5,working!$S$3:$S$5,"0")+_xlfn.XLOOKUP(O7,working!$R$3:$R$5,working!$S$3:$S$5,"0")+_xlfn.XLOOKUP(S7,working!$R$3:$R$5,working!$S$3:$S$5,"0"))/15 -> 0.26666667
C8: 1.5.2 Utility software * The purpose and functionality of utility software * Utility system software | H8: Not Started | L8: Not Started | P8: Not Started | T8: =COUNTIF(H8:S8,"completed")/3 -> 0 | U8: =(_xlfn.XLOOKUP(K8,working!$R$3:$R$5,working!$S$3:$S$5,"0")+_xlfn.XLOOKUP(O8,working!$R$3:$R$5,working!$S$3:$S$5,"0")+_xlfn.XLOOKUP(S8,working!$R$3:$R$5,working!$S$3:$S$5,"0"))/15 -> 0

Sheet 1.6
A2: Percentage of Course Revised | F2: =COUNTIF(H7:S7,"Completed")/3 -> 0 | H2: Not Sure | I2: =COUNTIF(H7:S7,H2)/3 -> 0.33333333 | J2: Getting There | K2: =COUNTIF(H7:S7,J2)/3 -> 0 | L2: Nailed It | M2: =COUNTIF(H7:S7,L2)/3 -> 0
A4: TOPIC | H4: Review 1 | L4: Review 2 | P4: Review 3 | T4: % Reviews Completed | U4: Average Confidence Level
H5: Status | I5: Revision Activity | J5: Date | K5: Confidence Level | L5: Status | M5: Revision Activity | N5: Date | O5: Confidence Level | P5: Status | Q5: Revision Activity | R5: Date | S5: Confidence Level
A6: Unit | C6: Section Title
A7: 1.6 – Ethical, legal, cultural and environmental impacts of digital technology | C7: 1.6.1 Ethical, legal, cultural and environmental impact * Impacts of digital technology on wider society * Legislation relevant to Computer Science | H7: Started | K7: Not Sure | L7: Not Started | P7: Not Started | T7: =COUNTIF(H7:S7,"completed")/3 -> 0 | U7: =(_xlfn.XLOOKUP(K7,working!$R$3:$R$5,working!$S$3:$S$5,"0")+_xlfn.XLOOKUP(O7,working!$R$3:$R$5,working!$S$3:$S$5,"0")+_xlfn.XLOOKUP(S7,working!$R$3:$R$5,working!$S$3:$S$5,"0"))/15 -> 0.2

Sheet Paper2
A2: Percentage of Course Revised | F2: =COUNTIF(J7:U108,"Completed")/306 -> 0.0065359477 | H2: UNIT 2.1 | I2: UNIT 2.2 | J2: UNIT 2.3 | K2: UNIT 2.4 | M2: UNIT 2.5 | N2: UNIT 3.0 | S2: Nailed It | U2: =COUNTIF(J7:U108,S2)/306 -> 0.0032679739
H3: =COUNTIF(J7:U22,"Completed")/48 -> 0.020833333 | I3: =COUNTIF(J23:U49,"Completed")/81 -> 0.012345679 | J3: =COUNTIF(J50:U64,"Completed")/45 -> 0 | K3: =COUNTIF(J65:U71,"Completed")/21 -> 0 | M3: =COUNTIF(J72:U79,"Completed")/24 -> 0 | N3: =COUNTIF(J80:U108,"Completed")/87 -> 0
A4: TOPIC | J4: Review 1 | N4: Review 2 | R4: Review 3 | V4: % Reviews Completed | W4: Average Confidence Level
J5: Status | K5: Revision Activity | L5: Date | M5: Confidence Level | N5: Status | O5: Revision Activity | P5: Date | Q5: Confidence Level | R5: Status | S5: Revision Activity | T5: Date | U5: Confidence Level
A6: Unit | D6: SL | E6: Section Title
A7: 2.1 – Algorithms | C7: 2.1.1 Computational thinking | D7: 1 | E7: Use of abstraction method to define and refine problems | J7: {=_xlfn.TOCOL('2.1'!J7:J22)} -> Started | K7: {=_xlfn.TOCOL('2.1'!K7:K22)} -> Active Recall Q | L7: {=_xlfn.TOCOL('2.1'!L7:L22)} -> 45356 | M7: {=_xlfn.TOCOL('2.1'!M7:M22)} -> Getting There | N7: {=_xlfn.TOCOL('2.1'!N7:N22)} -> Completed | O7: {=_xlfn.TOCOL('2.1'!O7:O22)} -> Learning Mark Scheme | P7: {=_xlfn.TOCOL('2.1'!P7:P22)} -> 45333 | Q7: {=_xlfn.TOCOL('2.1'!Q7:Q22)} -> Nailed It | ... U7: {=_xlfn.TOCOL('2.1'!U7:U22)} -> 0 | V7: =COUNTIF(J7:U7,"completed")/3 -> 0.33333333 | W7: =(_xlfn.XLOOKUP(M7,working!$R$3:$R$5,working!$S$3:$S$5,"0")+_xlfn.XLOOKUP(Q7,working!$R$3:$R$5,working!$S$3:$S$5,"0")+_xlfn.XLOOKUP(U7,working!$R$3:$R$5,working!$S$3:$S$5,"0"))/15 -> 0.6
D8: 2 | E8: Use of decomposition to to define and refine problems | J8: Not Started | K8: 0 | L8: 0 | M8: 0 | N8: Not Started | O8: 0 | P8: 0 | Q8: 0 | R8: Not Started | S8: 0 | T8: 0 | U8: 0 | V8: =COUNTIF(J8:U8,"completed")/3 -> 0 | W8: =(_xlfn.XLOOKUP(M8,working!$R$3:$R$5,working!$S$3:$S$5,"0")+_xlfn.XLOOKUP(Q8,working!$R$3:$R$5,working!$S$3:$S$5,"0")+_xlfn.XLOOKUP(U8,working!$R$3:$R$5,working!$S$3:$S$5,"0"))/15 -> 0
D9: 3 | E9: Use of algorithmetic thinking to define and refine problems | J9: Not Started | K9: 0 | L9: 0 | M9: 0 | N9: Not Started | O9: 0 | P9: 0 | Q9: 0 | R9: Not Started | S9: 0 | T9: 0 | U9: 0 | V9: =COUNTIF(J9:U9,"completed")/3 -> 0 | W9: =(_xlfn.XLOOKUP(M9,working!$R$3:$R$5,working!$S$3:$S$5,"0")+_xlfn.XLOOKUP(Q9,working!$R$3:$R$5,working!$S$3:$S$5,"0")+_xlfn.XLOOKUP(U9,working!$R$3:$R$5,working!$S$3:$S$5,"0"))/15 -> 0
C10: 2.1.2 Designing, creating and refining algorithms | D10: 4 | E10: Identify the inputs, processes, and outputs for a problem | J10: Not Started | K10: 0 | L10: 0 | M10: 0 | N10: Not Started | O10: 0 | P10: 0 | Q10: 0 | R10: Not Started | S10: 0 | T10: 0 | U10: 0 | V10: =COUNTIF(J10:U10,"completed")/3 -> 0 | W10: =(_xlfn.XLOOKUP(M10,working!$R$3:$R$5,working!$S$3:$S$5,"0")+_xlfn.XLOOKUP(Q10,working!$R$3:$R$5,working!$S$3:$S$5,"0")+_xlfn.XLOOKUP(U10,working!$R$3:$R$5,working!$S$3:$S$5,"0"))/15 -> 0
D11: 5 | E11: Create, interpret, correct, complete, and refine algorithms using Pseudocode | J11: Not Started | K11: 0 | L11: 0 | M11: 0 | N11: Not Started | O11: 0 | P11: 0 | Q11: 0 | R11: Not Started | S11: 0 | T11: 0 | U11: 0 | V11: =COUNTIF(J11:U11,"completed")/3 -> 0 | W11: =(_xlfn.XLOOKUP(M11,working!$R$3:$R$5,working!$S$3:$S$5,"0")+_xlfn.XLOOKUP(Q11,working!$R$3:$R$5,working!$S$3:$S$5,"0")+_xlfn.XLOOKUP(U11,working!$R$3:$R$5,working!$S$3:$S$5,"0"))/15 -> 0
D12: 6 | E12: Create, interpret, correct, complete, and refine algorithms using Flowcharts | J12: Not Started | K12: 0 | L12: 0 | M12: 0 | N12: Not Started | O12: 0 | P12: 0 | Q12: 0 | R12: Not Started | S12: 0 | T12: 0 | U12: 0 | V12: =COUNTIF(J12:U12,"completed")/3 -> 0 | W12: =(_xlfn.XLOOKUP(M12,working!$R$3:$R$5,working!$S$3:$S$5,"0")+_xlfn.XLOOKUP(Q12,working!$R$3:$R$5,working!$S$3:$S$5,"0")+_xlfn.XLOOKUP(U12,working!$R$3:$R$5,working!$S$3:$S$5,"0"))/15 -> 0
D13: 7 | E13: Create, interpret, correct, complete, and refine algorithms using Exam Reference Language | J13: Not Started | K13: 0 | L13: 0 | M13: 0 | N13: Not Started | O13: 0 | P13: 0 | Q13: 0 | R13: Not Started | S13: 0 | T13: 0 | U13: 0 | V13: =COUNTIF(J13:U13,"completed")/3 -> 0 | W13: =(_xlfn.XLOOKUP(M13,working!$R$3:$R$5,working!$S$3:$S$5,"0")+_xlfn.XLOOKUP(Q13,working!$R$3:$R$5,working!$S$3:$S$5,"0")+_xlfn.XLOOKUP(U13,working!$R$3:$R$5,working!$S$3:$S$5,"0"))/15 -> 0
D14: 8 | E14: Identify syntax errors in code | J14: Not Started | K14: 0 | L14: 0 | M14: 0 | N14: Not Started | O14: 0 | P14: 0 | Q14: 0 | R14: Not Started | S14: 0 | T14: 0 | U14: 0 | V14: =COUNTIF(J14:U14,"completed")/3 -> 0 | W14: =(_xlfn.XLOOKUP(M14,working!$R$3:$R$5,working!$S$3:$S$5,"0")+_xlfn.XLOOKUP(Q14,working!$R$3:$R$5,working!$S$3:$S$5,"0")+_xlfn.XLOOKUP(U14,working!$R$3:$R$5,working!$S$3:$S$5,"0"))/15 -> 0
D15: 9 | E15: Identify logic errors in code | J15: Not Started | K15: 0 | L15: 0 | M15: 0 | N15: Not Started | O15: 0 | P15: 0 | Q15: 0 | R15: Not Started | S15: 0 | T15: 0 | U15: 0 | V15: =COUNTIF(J15:U15,"completed")/3 -> 0 | W15: =(_xlfn.XLOOKUP(M15,working!$R$3:$R$5,working!$S$3:$S$5,"0")+_xlfn.XLOOKUP(Q15,working!$R$3:$R$5,working!$S$3:$S$5,"0")+_xlfn.XLOOKUP(U15,working!$R$3:$R$5,working!$S$3:$S$5,"0"))/15 -> 0
D16: 10 | E16: Create a trace table to follow an algorithm | J16: Not Started | K16: 0 | L16: 0 | M16: 0 | N16: Not Started | O16: 0 | P16: 0 | Q16: 0 | R16: Not Started | S16: 0 | T16: 0 | U16: 0 | V16: =COUNTIF(J16:U16,"completed")/3 -> 0 | W16: =(_xlfn.XLOOKUP(M16,working!$R$3:$R$5,working!$S$3:$S$5,"0")+_xlfn.XLOOKUP(Q16,working!$R$3:$R$5,working!$S$3:$S$5,"0")+_xlfn.XLOOKUP(U16,working!$R$3:$R$5,working!$S$3:$S$5,"0"))/15 -> 0
D17: 11 | E17: Complete a trace table to follow an algorithm | J17: Not Started | K17: 0 | L17: 0 | M17: 0 | N17: Not Started | O17: 0 | P17: 0 | Q17: 0 | R17: Not Started | S17: 0 | T17: 0 | U17: 0 | V17: =COUNTIF(J17:U17,"completed")/3 -> 0 | W17: =(_xlfn.XLOOKUP(M17,working!$R$3:$R$5,working!$S$3:$S$5,"0")+_xlfn.XLOOKUP(Q17,working!$R$3:$R$5,working!$S$3:$S$5,"0")+_xlfn.XLOOKUP(U17,working!$R$3:$R$5,working!$S$3:$S$5,"0"))/15 -> 0
C18: 2.1.3 Searching and sorting algorithms | D18: 12 | E18: Apply a binary search to a problem | J18: Not Started | K18: 0 | L18: 0 | M18: 0 | N18: Not Started | O18: 0 | P18: 0 | Q18: 0 | R18: Not Started | S18: 0 | T18: 0 | U18: 0 | V18: =COUNTIF(J18:U18,"completed")/3 -> 0 | W18: =(_xlfn.XLOOKUP(M18,working!$R$3:$R$5,working!$S$3:$S$5,"0")+_xlfn.XLOOKUP(Q18,working!$R$3:$R$5,working!$S$3:$S$5,"0")+_xlfn.XLOOKUP(U18,working!$R$3:$R$5,working!$S$3:$S$5,"0"))/15 -> 0
D19: 13 | E19: Apply a linear search to a problem | J19: Not Started | K19: 0 | L19: 0 | M19: 0 | N19: Not Started | O19: 0 | P19: 0 | Q19: 0 | R19: Not Started | S19: 0 | T19: 0 | U19: 0 | V19: =COUNTIF(J19:U19,"completed")/3 -> 0 | W19: =(_xlfn.XLOOKUP(M19,working!$R$3:$R$5,working!$S$3:$S$5,"0")+_xlfn.XLOOKUP(Q19,working!$R$3:$R$5,working!$S$3:$S$5,"0")+_xlfn.XLOOKUP(U19,working!$R$3:$R$5,working!$S$3:$S$5,"0"))/15 -> 0
D20: 14 | E20: Apply a bubble sort to a problem | J20: Not Started | K20: 0 | L20: 0 | M20: 0 | N20: Not Started | O20: 0 | P20: 0 | Q20: 0 | R20: Not Started | S20: 0 | T20: 0 | U20: 0 | V20: =COUNTIF(J20:U20,"completed")/3 -> 0 | W20: =(_xlfn.XLOOKUP(M20,working!$R$3:$R$5,working!$S$3:$S$5,"0")+_xlfn.XLOOKUP(Q20,working!$R$3:$R$5,working!$S$3:$S$5,"0")+_xlfn.XLOOKUP(U20,working!$R$3:$R$5,working!$S$3:$S$5,"0"))/15 -> 0
D21: 15 | E21: Apply a merge sort to a problem | J21: Not Started | K21: 0 | L21: 0 | M21: 0 | N21: Not Started | O21: 0 | P21: 0 | Q21: 0 | R21: Not Started | S21: 0 | T21: 0 | U21: 0 | V21: =COUNTIF(J21:U21,"completed")/3 -> 0 | W21: =(_xlfn.XLOOKUP(M21,working!$R$3:$R$5,working!$S$3:$S$5,"0")+_xlfn.XLOOKUP(Q21,working!$R$3:$R$5,working!$S$3:$S$5,"0")+_xlfn.XLOOKUP(U21,working!$R$3:$R$5,working!$S$3:$S$5,"0"))/15 -> 0
D22: 16 | E22: Apply an insertion sort to a problem | J22: Not Started | K22: 0 | L22: 0 | M22: 0 | N22: Not Started | O22: 0 | P22: 0 | Q22: 0 | R22: Not Started | S22: 0 | T22: 0 | U22: 0 | V22: =COUNTIF(J22:U22,"completed")/3 -> 0 | W22: =(_xlfn.XLOOKUP(M22,working!$R$3:$R$5,working!$S$3:$S$5,"0")+_xlfn.XLOOKUP(Q22,working!$R$3:$R$5,working!$S$3:$S$5,"0")+_xlfn.XLOOKUP(U22,working!$R$3:$R$5,working!$S$3:$S$5,"0"))/15 -> 0
A23: 2.2 – Programming fundamentals | C23: 2.2.1 Programming fundamentals | D23: 17 | E23: I can use/identify variables in a programming language/ERL | J23: {=_xlfn.TOCOL('2.2'!J7:J33)} -> Completed | K23: {=_xlfn.TOCOL('2.2'!K7:K33)} -> YouTube Videos | L23: {=_xlfn.TOCOL('2.2'!L7:L33)} -> 0 | M23: {=_xlfn.TOCOL('2.2'!M7:M33)} -> Getting There | N23: {=_xlfn.TOCOL('2.2'!N7:N33)} -> Not Started | O23: {=_xlfn.TOCOL('2.2'!O7:O33)} -> 0 | P23: {=_xlfn.TOCOL('2.2'!P7:P33)} -> 0 | Q23: {=_xlfn.TOCOL('2.2'!Q7:Q33)} -> 0 | ... U23: {=_xlfn.TOCOL('2.2'!U7:U33)} -> 0 | V23: =COUNTIF(J23:U23,"completed")/3 -> 0.33333333 | W23: =(_xlfn.XLOOKUP(M23,working!$R$3:$R$5,working!$S$3:$S$5,"0")+_xlfn.XLOOKUP(Q23,working!$R$3:$R$5,working!$S$3:$S$5,"0")+_xlfn.XLOOKUP(U23,working!$R$3:$R$5,working!$S$3:$S$5,"0"))/15 -> 0.26666667
D24: 18 | E24: I can use/identify constants in a programming language/ERL | J24: Not Started | K24: 0 | L24: 0 | M24: 0 | N24: Not Started | O24: 0 | P24: 0 | Q24: 0 | R24: Not Started | S24: 0 | T24: 0 | U24: 0 | V24: =COUNTIF(J24:U24,"completed")/3 -> 0 | W24: =(_xlfn.XLOOKUP(M24,working!$R$3:$R$5,working!$S$3:$S$5,"0")+_xlfn.XLOOKUP(Q24,working!$R$3:$R$5,working!$S$3:$S$5,"0")+_xlfn.XLOOKUP(U24,working!$R$3:$R$5,working!$S$3:$S$5,"0"))/15 -> 0
D25: 19 | E25: I can use/identify constants in a programming language/ERL | J25: Not Started | K25: 0 | L25: 0 | M25: 0 | N25: Not Started | O25: 0 | P25: 0 | Q25: 0 | R25: Not Started | S25: 0 | T25: 0 | U25: 0 | V25: =COUNTIF(J25:U25,"completed")/3 -> 0 | W25: =(_xlfn.XLOOKUP(M25,working!$R$3:$R$5,working!$S$3:$S$5,"0")+_xlfn.XLOOKUP(Q25,working!$R$3:$R$5,working!$S$3:$S$5,"0")+_xlfn.XLOOKUP(U25,working!$R$3:$R$5,working!$S$3:$S$5,"0"))/15 -> 0
D26: 20 | E26: I can use /identify operators in a programming language/ERL | J26: Not Started | K26: 0 | L26: 0 | M26: 0 | N26: Not Started | O26: 0 | P26: 0 | Q26: 0 | R26: Not Started | S26: 0 | T26: 0 | U26: 0 | V26: =COUNTIF(J26:U26,"completed")/3 -> 0 | W26: =(_xlfn.XLOOKUP(M26,working!$R$3:$R$5,working!$S$3:$S$5,"0")+_xlfn.XLOOKUP(Q26,working!$R$3:$R$5,working!$S$3:$S$5,"0")+_xlfn.XLOOKUP(U26,working!$R$3:$R$5,working!$S$3:$S$5,"0"))/15 -> 0
D27: 21 | E27: I can use/identify inputs/outputs in a programming language/ERL | J27: Not Started | K27: 0 | L27: 0 | M27: 0 | N27: Not Started | O27: 0 | P27: 0 | Q27: 0 | R27: Not Started | S27: 0 | T27: 0 | U27: 0 | V27: =COUNTIF(J27:U27,"completed")/3 -> 0 | W27: =(_xlfn.XLOOKUP(M27,working!$R$3:$R$5,working!$S$3:$S$5,"0")+_xlfn.XLOOKUP(Q27,working!$R$3:$R$5,working!$S$3:$S$5,"0")+_xlfn.XLOOKUP(U27,working!$R$3:$R$5,working!$S$3:$S$5,"0"))/15 -> 0
D28: 22 | E28: I can use sequences to control the flow of a program | J28: Not Started | K28: 0 | L28: 0 | M28: 0 | N28: Not Started | O28: 0 | P28: 0 | Q28: 0 | R28: Not Started | S28: 0 | T28: 0 | U28: 0 | V28: =COUNTIF(J28:U28,"completed")/3 -> 0 | W28: =(_xlfn.XLOOKUP(M28,working!$R$3:$R$5,working!$S$3:$S$5,"0")+_xlfn.XLOOKUP(Q28,working!$R$3:$R$5,working!$S$3:$S$5,"0")+_xlfn.XLOOKUP(U28,working!$R$3:$R$5,working!$S$3:$S$5,"0"))/15 -> 0
D29: 23 | E29: I can use selection to control the flow of a program | J29: Not Started | K29: 0 | L29: 0 | M29: 0 | N29: Not Started | O29: 0 | P29: 0 | Q29: 0 | R29: Not Started | S29: 0 | T29: 0 | U29: 0 | V29: =COUNTIF(J29:U29,"completed")/3 -> 0 | W29: =(_xlfn.XLOOKUP(M29,working!$R$3:$R$5,working!$S$3:$S$5,"0")+_xlfn.XLOOKUP(Q29,working!$R$3:$R$5,working!$S$3:$S$5,"0")+_xlfn.XLOOKUP(U29,working!$R$3:$R$5,working!$S$3:$S$5,"0"))/15 -> 0
D30: 24 | E30: I can use iteration to control the flow of a program | J30: Not Started | K30: 0 | L30: 0 | M30: 0 | N30: Not Started | O30: 0 | P30: 0 | Q30: 0 | R30: Not Started | S30: 0 | T30: 0 | U30: 0 | V30: =COUNTIF(J30:U30,"completed")/3 -> 0 | W30: =(_xlfn.XLOOKUP(M30,working!$R$3:$R$5,working!$S$3:$S$5,"0")+_xlfn.XLOOKUP(Q30,working!$R$3:$R$5,working!$S$3:$S$5,"0")+_xlfn.XLOOKUP(U30,working!$R$3:$R$5,working!$S$3:$S$5,"0"))/15 -> 0
D31: 25 | E31: I can use + - * / operators | J31: Not Started | K31: 0 | L31: 0 | M31: 0 | N31: Not Started | O31: 0 | P31: 0 | Q31: 0 | R31: Not Started | S31: 0 | T31: 0 | U31: 0 | V31: =COUNTIF(J31:U31,"completed")/3 -> 0 | W31: =(_xlfn.XLOOKUP(M31,working!$R$3:$R$5,working!$S$3:$S$5,"0")+_xlfn.XLOOKUP(Q31,working!$R$3:$R$5,working!$S$3:$S$5,"0")+_xlfn.XLOOKUP(U31,working!$R$3:$R$5,working!$S$3:$S$5,"0"))/15 -> 0
D32: 26 | E32: I understand and can use Modulus | J32: Not Started | K32: 0 | L32: 0 | M32: 0 | N32: Not Started | O32: 0 | P32: 0 | Q32: 0 | R32: Not Started | S32: 0 | T32: 0 | U32: 0 | V32: =COUNTIF(J32:U32,"completed")/3 -> 0 | W32: =(_xlfn.XLOOKUP(M32,working!$R$3:$R$5,working!$S$3:$S$5,"0")+_xlfn.XLOOKUP(Q32,working!$R$3:$R$5,working!$S$3:$S$5,"0")+_xlfn.XLOOKUP(U32,working!$R$3:$R$5,working!$S$3:$S$5,"0"))/15 -> 0
D33: 27 | E33: I understand and can use DIV | J33: Not Started | K33: 0 | L33: 0 | M33: 0 | N33: Not Started | O33: 0 | P33: 0 | Q33: 0 | R33: Not Started | S33: 0 | T33: 0 | U33: 0 | V33: =COUNTIF(J33:U33,"completed")/3 -> 0 | W33: =(_xlfn.XLOOKUP(M33,working!$R$3:$R$5,working!$S$3:$S$5,"0")+_xlfn.XLOOKUP(Q33,working!$R$3:$R$5,working!$S$3:$S$5,"0")+_xlfn.XLOOKUP(U33,working!$R$3:$R$5,working!$S$3:$S$5,"0"))/15 -> 0
D34: 28 | E34: I understand and can use ^ Exponetiation | J34: Not Started | K34: 0 | L34: 0 | M34: 0 | N34: Not Started | O34: 0 | P34: 0 | Q34: 0 | R34: Not Started | S34: 0 | T34: 0 | U34: 0 | V34: =COUNTIF(J34:U34,"completed")/3 -> 0 | W34: =(_xlfn.XLOOKUP(M34,working!$R$3:$R$5,working!$S$3:$S$5,"0")+_xlfn.XLOOKUP(Q34,working!$R$3:$R$5,working!$S$3:$S$5,"0")+_xlfn.XLOOKUP(U34,working!$R$3:$R$5,working!$S$3:$S$5,"0"))/15 -> 0
C35: 2.2.2 Data types | D35: 29 | E35: I can use the Boolean operators AND, OR and NOT | J35: Not Started | K35: 0 | L35: 0 | M35: 0 | N35: Not Started | O35: 0 | P35: 0 | Q35: 0 | R35: Not Started | S35: 0 | T35: 0 | U35: 0 | V35: =COUNTIF(J35:U35,"completed")/3 -> 0 | W35: =(_xlfn.XLOOKUP(M35,working!$R$3:$R$5,working!$S$3:$S$5,"0")+_xlfn.XLOOKUP(Q35,working!$R$3:$R$5,working!$S$3:$S$5,"0")+_xlfn.XLOOKUP(U35,working!$R$3:$R$5,working!$S$3:$S$5,"0"))/15 -> 0
C36: 2.2.3 Additional programming techniques | D36: 30 | E36: I am able to choose suitable data types in a given scenario: * Integer *Real * Boolean * Character and string * Casting | J36: Not Started | K36: 0 | L36: 0 | M36: 0 | N36: Not Started | O36: 0 | P36: 0 | Q36: 0 | R36: Not Started | S36: 0 | T36: 0 | U36: 0 | V36: =COUNTIF(J36:U36,"completed")/3 -> 0 | W36: =(_xlfn.XLOOKUP(M36,working!$R$3:$R$5,working!$S$3:$S$5,"0")+_xlfn.XLOOKUP(Q36,working!$R$3:$R$5,working!$S$3:$S$5,"0")+_xlfn.XLOOKUP(U36,working!$R$3:$R$5,working!$S$3:$S$5,"0"))/15 -> 0
D37: 31 | E37: I can use Concatenation to manipulate strings | J37: Not Started | K37: 0 | L37: 0 | M37: 0 | N37: Not Started | O37: 0 | P37: 0 | Q37: 0 | R37: Not Started | S37: 0 | T37: 0 | U37: 0 | V37: =COUNTIF(J37:U37,"completed")/3 -> 0 | W37: =(_xlfn.XLOOKUP(M37,working!$R$3:$R$5,working!$S$3:$S$5,"0")+_xlfn.XLOOKUP(Q37,working!$R$3:$R$5,working!$S$3:$S$5,"0")+_xlfn.XLOOKUP(U37,working!$R$3:$R$5,working!$S$3:$S$5,"0"))/15 -> 0
D38: 32 | E38: I can use Slicing to manipulate strings | J38: Not Started | K38: 0 | L38: 0 | M38: 0 | N38: Not Started | O38: 0 | P38: 0 | Q38: 0 | R38: Not Started | S38: 0 | T38: 0 | U38: 0 | V38: =COUNTIF(J38:U38,"completed")/3 -> 0 | W38: =(_xlfn.XLOOKUP(M38,working!$R$3:$R$5,working!$S$3:$S$5,"0")+_xlfn.XLOOKUP(Q38,working!$R$3:$R$5,working!$S$3:$S$5,"0")+_xlfn.XLOOKUP(U38,working!$R$3:$R$5,working!$S$3:$S$5,"0"))/15 -> 0
D39: 33 | E39: I understand that arrays are fixed length or static structures | J39: Not Started | K39: 0 | L39: 0 | M39: 0 | N39: Not Started | O39: 0 | P39: 0 | Q39: 0 | R39: Not Started | S39: 0 | T39: 0 | U39: 0 | V39: =COUNTIF(J39:U39,"completed")/3 -> 0 | W39: =(_xlfn.XLOOKUP(M39,working!$R$3:$R$5,working!$S$3:$S$5,"0")+_xlfn.XLOOKUP(Q39,working!$R$3:$R$5,working!$S$3:$S$5,"0")+_xlfn.XLOOKUP(U39,working!$R$3:$R$5,working!$S$3:$S$5,"0"))/15 -> 0
D40: 34 | E40: I can use basic file handling operations and write these in ERL - Open | J40: Not Started | K40: 0 | L40: 0 | M40: 0 | N40: Not Started | O40: 0 | P40: 0 | Q40: 0 | R40: Not Started | S40: 0 | T40: 0 | U40: 0 | V40: =COUNTIF(J40:U40,"completed")/3 -> 0 | W40: =(_xlfn.XLOOKUP(M40,working!$R$3:$R$5,working!$S$3:$S$5,"0")+_xlfn.XLOOKUP(Q40,working!$R$3:$R$5,working!$S$3:$S$5,"0")+_xlfn.XLOOKUP(U40,working!$R$3:$R$5,working!$S$3:$S$5,"0"))/15 -> 0
D41: 35 | E41: I can use basic file handling operations and write these in ERL - Read | J41: Not Started | K41: 0 | L41: 0 | M41: 0 | N41: Not Started | O41: 0 | P41: 0 | Q41: 0 | R41: Not Started | S41: 0 | T41: 0 | U41: 0 | V41: =COUNTIF(J41:U41,"completed")/3 -> 0 | W41: =(_xlfn.XLOOKUP(M41,working!$R$3:$R$5,working!$S$3:$S$5,"0")+_xlfn.XLOOKUP(Q41,working!$R$3:$R$5,working!$S$3:$S$5,"0")+_xlfn.XLOOKUP(U41,working!$R$3:$R$5,working!$S$3:$S$5,"0"))/15 -> 0
D42: 36 | E42: I can use basic file handling operations and write these in ERL - Write | J42: Not Started | K42: 0 | L42: 0 | M42: 0 | N42: Not Started | O42: 0 | P42: 0 | Q42: 0 | R42: Not Started | S42: 0 | T42: 0 | U42: 0 | V42: =COUNTIF(J42:U42,"completed")/3 -> 0 | W42: =(_xlfn.XLOOKUP(M42,working!$R$3:$R$5,working!$S$3:$S$5,"0")+_xlfn.XLOOKUP(Q42,working!$R$3:$R$5,working!$S$3:$S$5,"0")+_xlfn.XLOOKUP(U42,working!$R$3:$R$5,working!$S$3:$S$5,"0"))/15 -> 0
D43: 37 | E43: I can use basic file handling operations and write these in ERL - Close | J43: Not Started | K43: 0 | L43: 0 | M43: 0 | N43: Not Started | O43: 0 | P43: 0 | Q43: 0 | R43: Not Started | S43: 0 | T43: 0 | U43: 0 | V43: =COUNTIF(J43:U43,"completed")/3 -> 0 | W43: =(_xlfn.XLOOKUP(M43,working!$R$3:$R$5,working!$S$3:$S$5,"0")+_xlfn.XLOOKUP(Q43,working!$R$3:$R$5,working!$S$3:$S$5,"0")+_xlfn.XLOOKUP(U43,working!$R$3:$R$5,working!$S$3:$S$5,"0"))/15 -> 0
D44: 38 | E44: I can use/write a function in a programming language/ERL | J44: Not Started | K44: 0 | L44: 0 | M44: 0 | N44: Not Started | O44: 0 | P44: 0 | Q44: 0 | R44: Not Started | S44: 0 | T44: 0 | U44: 0 | V44: =COUNTIF(J44:U44,"completed")/3 -> 0 | W44: =(_xlfn.XLOOKUP(M44,working!$R$3:$R$5,working!$S$3:$S$5,"0")+_xlfn.XLOOKUP(Q44,working!$R$3:$R$5,working!$S$3:$S$5,"0")+_xlfn.XLOOKUP(U44,working!$R$3:$R$5,working!$S$3:$S$5,"0"))/15 -> 0
D45: 39 | E45: I can use/write a procedure in a programming language/ERL | J45: Not Started | K45: 0 | L45: 0 | M45: 0 | N45: Not Started | O45: 0 | P45: 0 | Q45: 0 | R45: Not Started | S45: 0 | T45: 0 | U45: 0 | V45: =COUNTIF(J45:U45,"completed")/3 -> 0 | W45: =(_xlfn.XLOOKUP(M45,working!$R$3:$R$5,working!$S$3:$S$5,"0")+_xlfn.XLOOKUP(Q45,working!$R$3:$R$5,working!$S$3:$S$5,"0")+_xlfn.XLOOKUP(U45,working!$R$3:$R$5,working!$S$3:$S$5,"0"))/15 -> 0
D46: 40 | E46: I can use/write local variables/constants in a programming language/ERL | J46: Not Started | K46: 0 | L46: 0 | M46: 0 | N46: Not Started | O46: 0 | P46: 0 | Q46: 0 | R46: Not Started | S46: 0 | T46: 0 | U46: 0 | V46: =COUNTIF(J46:U46,"completed")/3 -> 0 | W46: =(_xlfn.XLOOKUP(M46,working!$R$3:$R$5,working!$S$3:$S$5,"0")+_xlfn.XLOOKUP(Q46,working!$R$3:$R$5,working!$S$3:$S$5,"0")+_xlfn.XLOOKUP(U46,working!$R$3:$R$5,working!$S$3:$S$5,"0"))/15 -> 0
D47: 41 | E47: I can use/write global variables/constants in a programming language/ERL | J47: Not Started | K47: 0 | L47: 0 | M47: 0 | N47: Not Started | O47: 0 | P47: 0 | Q47: 0 | R47: Not Started | S47: 0 | T47: 0 | U47: 0 | V47: =COUNTIF(J47:U47,"completed")/3 -> 0 | W47: =(_xlfn.XLOOKUP(M47,working!$R$3:$R$5,working!$S$3:$S$5,"0")+_xlfn.XLOOKUP(Q47,working!$R$3:$R$5,working!$S$3:$S$5,"0")+_xlfn.XLOOKUP(U47,working!$R$3:$R$5,working!$S$3:$S$5,"0"))/15 -> 0
D48: 42 | E48: I can use/write arrays in a programming language/ERL | J48: Not Started | K48: 0 | L48: 0 | M48: 0 | N48: Not Started | O48: 0 | P48: 0 | Q48: 0 | R48: Not Started | S48: 0 | T48: 0 | U48: 0 | V48: =COUNTIF(J48:U48,"completed")/3 -> 0 | W48: =(_xlfn.XLOOKUP(M48,working!$R$3:$R$5,working!$S$3:$S$5,"0")+_xlfn.XLOOKUP(Q48,working!$R$3:$R$5,working!$S$3:$S$5,"0")+_xlfn.XLOOKUP(U48,working!$R$3:$R$5,working!$S$3:$S$5,"0"))/15 -> 0
D49: 43 | E49: I can use/write a random number generation in a programming language/ERL | J49: Not Started | K49: 0 | L49: 0 | M49: 0 | N49: Not Started | O49: 0 | P49: 0 | Q49: 0 | R49: Not Started | S49: 0 | T49: 0 | U49: 0 | V49: =COUNTIF(J49:U49,"completed")/3 -> 0 | W49: =(_xlfn.XLOOKUP(M49,working!$R$3:$R$5,working!$S$3:$S$5,"0")+_xlfn.XLOOKUP(Q49,working!$R$3:$R$5,working!$S$3:$S$5,"0")+_xlfn.XLOOKUP(U49,working!$R$3:$R$5,working!$S$3:$S$5,"0"))/15 -> 0
A50: 2.3 – Producing robust programs | C50: 2.3.1 Defensive design | D50: 44 | E50: I can write SQL commands in a given scenario: Select From Where | J50: {=_xlfn.TOCOL('2.3'!J7:J21)} -> Started | K50: {=_xlfn.TOCOL('2.3'!K7:K21)} -> YouTube Videos | L50: {=_xlfn.TOCOL('2.3'!L7:L21)} -> 45328 | M50: {=_xlfn.TOCOL('2.3'!M7:M21)} -> Not Sure | N50: {=_xlfn.TOCOL('2.3'!N7:N21)} -> Not Started | O50: {=_xlfn.TOCOL('2.3'!O7:O21)} -> 0 | P50: {=_xlfn.TOCOL('2.3'!P7:P21)} -> 0 | Q50: {=_xlfn.TOCOL('2.3'!Q7:Q21)} -> 0 | ... U50: {=_xlfn.TOCOL('2.3'!U7:U21)} -> 0 | V50: =COUNTIF(J50:U50,"completed")/3 -> 0 | W50: =(_xlfn.XLOOKUP(M50,working!$R$3:$R$5,working!$S$3:$S$5,"0")+_xlfn.XLOOKUP(Q50,working!$R$3:$R$5,working!$S$3:$S$5,"0")+_xlfn.XLOOKUP(U50,working!$R$3:$R$5,working!$S$3:$S$5,"0"))/15 -> 0.2
D51: 45 | E51: I understand and can explain anticipating misuse when considering defensive design | J51: Not Started | K51: 0 | L51: 0 | M51: 0 | N51: Not Started | O51: 0 | P51: 0 | Q51: 0 | R51: Not Started | S51: 0 | T51: 0 | U51: 0 | V51: =COUNTIF(J51:U51,"completed")/3 -> 0 | W51: =(_xlfn.XLOOKUP(M51,working!$R$3:$R$5,working!$S$3:$S$5,"0")+_xlfn.XLOOKUP(Q51,working!$R$3:$R$5,working!$S$3:$S$5,"0")+_xlfn.XLOOKUP(U51,working!$R$3:$R$5,working!$S$3:$S$5,"0"))/15 -> 0
D52: 46 | E52: I understand and can explain authentication when considering defensive design to confirm the identity of a user | J52: Not Started | K52: 0 | L52: 0 | M52: 0 | N52: Not Started | O52: 0 | P52: 0 | Q52: 0 | R52: Not Started | S52: 0 | T52: 0 | U52: 0 | V52: =COUNTIF(J52:U52,"completed")/3 -> 0 | W52: =(_xlfn.XLOOKUP(M52,working!$R$3:$R$5,working!$S$3:$S$5,"0")+_xlfn.XLOOKUP(Q52,working!$R$3:$R$5,working!$S$3:$S$5,"0")+_xlfn.XLOOKUP(U52,working!$R$3:$R$5,working!$S$3:$S$5,"0"))/15 -> 0
D53: 47 | E53: I understand the issues a programmer should consider to ensure that a program caters for all likely input values | J53: Not Started | K53: 0 | L53: 0 | M53: 0 | N53: Not Started | O53: 0 | P53: 0 | Q53: 0 | R53: Not Started | S53: 0 | T53: 0 | U53: 0 | V53: =COUNTIF(J53:U53,"completed")/3 -> 0 | W53: =(_xlfn.XLOOKUP(M53,working!$R$3:$R$5,working!$S$3:$S$5,"0")+_xlfn.XLOOKUP(Q53,working!$R$3:$R$5,working!$S$3:$S$5,"0")+_xlfn.XLOOKUP(U53,working!$R$3:$R$5,working!$S$3:$S$5,"0"))/15 -> 0
D54: 48 | E54: I understand and can explain how to deal with invalid data in a program | J54: Not Started | K54: 0 | L54: 0 | M54: 0 | N54: Not Started | O54: 0 | P54: 0 | Q54: 0 | R54: Not Started | S54: 0 | T54: 0 | U54: 0 | V54: =COUNTIF(J54:U54,"completed")/3 -> 0 | W54: =(_xlfn.XLOOKUP(M54,working!$R$3:$R$5,working!$S$3:$S$5,"0")+_xlfn.XLOOKUP(Q54,working!$R$3:$R$5,working!$S$3:$S$5,"0")+_xlfn.XLOOKUP(U54,working!$R$3:$R$5,working!$S$3:$S$5,"0"))/15 -> 0
D55: 49 | E55: I can explan the benefits of sub programs for program maintainability | J55: Not Started | K55: 0 | L55: 0 | M55: 0 | N55: Not Started | O55: 0 | P55: 0 | Q55: 0 | R55: Not Started | S55: 0 | T55: 0 | U55: 0 | V55: =COUNTIF(J55:U55,"completed")/3 -> 0 | W55: =(_xlfn.XLOOKUP(M55,working!$R$3:$R$5,working!$S$3:$S$5,"0")+_xlfn.XLOOKUP(Q55,working!$R$3:$R$5,working!$S$3:$S$5,"0")+_xlfn.XLOOKUP(U55,working!$R$3:$R$5,working!$S$3:$S$5,"0"))/15 -> 0
D56: 50 | E56: I can explan the benefits of naming conventions for program maintainability | J56: Not Started | K56: 0 | L56: 0 | M56: 0 | N56: Not Started | O56: 0 | P56: 0 | Q56: 0 | R56: Not Started | S56: 0 | T56: 0 | U56: 0 | V56: =COUNTIF(J56:U56,"completed")/3 -> 0 | W56: =(_xlfn.XLOOKUP(M56,working!$R$3:$R$5,working!$S$3:$S$5,"0")+_xlfn.XLOOKUP(Q56,working!$R$3:$R$5,working!$S$3:$S$5,"0")+_xlfn.XLOOKUP(U56,working!$R$3:$R$5,working!$S$3:$S$5,"0"))/15 -> 0
D57: 51 | E57: I can explan the benefits of indentions for program maintainability | J57: Not Started | K57: 0 | L57: 0 | M57: 0 | N57: Not Started | O57: 0 | P57: 0 | Q57: 0 | R57: Not Started | S57: 0 | T57: 0 | U57: 0 | V57: =COUNTIF(J57:U57,"completed")/3 -> 0 | W57: =(_xlfn.XLOOKUP(M57,working!$R$3:$R$5,working!$S$3:$S$5,"0")+_xlfn.XLOOKUP(Q57,working!$R$3:$R$5,working!$S$3:$S$5,"0")+_xlfn.XLOOKUP(U57,working!$R$3:$R$5,working!$S$3:$S$5,"0"))/15 -> 0
C58: 2.3.2 Testing | D58: 52 | E58: I can explan the benefits of commenting for program maintainability | J58: Not Started | K58: 0 | L58: 0 | M58: 0 | N58: Not Started | O58: 0 | P58: 0 | Q58: 0 | R58: Not Started | S58: 0 | T58: 0 | U58: 0 | V58: =COUNTIF(J58:U58,"completed")/3 -> 0 | W58: =(_xlfn.XLOOKUP(M58,working!$R$3:$R$5,working!$S$3:$S$5,"0")+_xlfn.XLOOKUP(Q58,working!$R$3:$R$5,working!$S$3:$S$5,"0")+_xlfn.XLOOKUP(U58,working!$R$3:$R$5,working!$S$3:$S$5,"0"))/15 -> 0
D59: 53 | E59: I can explain the purpose of testing during development - Iterative | J59: Not Started | K59: 0 | L59: 0 | M59: 0 | N59: Not Started | O59: 0 | P59: 0 | Q59: 0 | R59: Not Started | S59: 0 | T59: 0 | U59: 0 | V59: =COUNTIF(J59:U59,"completed")/3 -> 0 | W59: =(_xlfn.XLOOKUP(M59,working!$R$3:$R$5,working!$S$3:$S$5,"0")+_xlfn.XLOOKUP(Q59,working!$R$3:$R$5,working!$S$3:$S$5,"0")+_xlfn.XLOOKUP(U59,working!$R$3:$R$5,working!$S$3:$S$5,"0"))/15 -> 0
D60: 54 | E60: I can explain the purpose of testing after development - Final/Terminal | J60: Not Started | K60: 0 | L60: 0 | M60: 0 | N60: Not Started | O60: 0 | P60: 0 | Q60: 0 | R60: Not Started | S60: 0 | T60: 0 | U60: 0 | V60: =COUNTIF(J60:U60,"completed")/3 -> 0 | W60: =(_xlfn.XLOOKUP(M60,working!$R$3:$R$5,working!$S$3:$S$5,"0")+_xlfn.XLOOKUP(Q60,working!$R$3:$R$5,working!$S$3:$S$5,"0")+_xlfn.XLOOKUP(U60,working!$R$3:$R$5,working!$S$3:$S$5,"0"))/15 -> 0
D61: 55 | E61: I can identify syntax and logic errors | J61: Not Started | K61: 0 | L61: 0 | M61: 0 | N61: Not Started | O61: 0 | P61: 0 | Q61: 0 | R61: Not Started | S61: 0 | T61: 0 | U61: 0 | V61: =COUNTIF(J61:U61,"completed")/3 -> 0 | W61: =(_xlfn.XLOOKUP(M61,working!$R$3:$R$5,working!$S$3:$S$5,"0")+_xlfn.XLOOKUP(Q61,working!$R$3:$R$5,working!$S$3:$S$5,"0")+_xlfn.XLOOKUP(U61,working!$R$3:$R$5,working!$S$3:$S$5,"0"))/15 -> 0
D62: 56 | E62: In a given scenario I can identify Normal test data | J62: Not Started | K62: 0 | L62: 0 | M62: 0 | N62: Not Started | O62: 0 | P62: 0 | Q62: 0 | R62: Not Started | S62: 0 | T62: 0 | U62: 0 | V62: =COUNTIF(J62:U62,"completed")/3 -> 0 | W62: =(_xlfn.XLOOKUP(M62,working!$R$3:$R$5,working!$S$3:$S$5,"0")+_xlfn.XLOOKUP(Q62,working!$R$3:$R$5,working!$S$3:$S$5,"0")+_xlfn.XLOOKUP(U62,working!$R$3:$R$5,working!$S$3:$S$5,"0"))/15 -> 0
D63: 57 | E63: In a given scenario I can identify Boundary test data | J63: Not Started | K63: 0 | L63: 0 | M63: 0 | N63: Not Started | O63: 0 | P63: 0 | Q63: 0 | R63: Not Started | S63: 0 | T63: 0 | U63: 0 | V63: =COUNTIF(J63:U63,"completed")/3 -> 0 | W63: =(_xlfn.XLOOKUP(M63,working!$R$3:$R$5,working!$S$3:$S$5,"0")+_xlfn.XLOOKUP(Q63,working!$R$3:$R$5,working!$S$3:$S$5,"0")+_xlfn.XLOOKUP(U63,working!$R$3:$R$5,working!$S$3:$S$5,"0"))/15 -> 0
D64: 58 | E64: In a given scenario I can identify Invalid test data | J64: Not Started | K64: 0 | L64: 0 | M64: 0 | N64: Not Started | O64: 0 | P64: 0 | Q64: 0 | R64: Not Started | S64: 0 | T64: 0 | U64: 0 | V64: =COUNTIF(J64:U64,"completed")/3 -> 0 | W64: =(_xlfn.XLOOKUP(M64,working!$R$3:$R$5,working!$S$3:$S$5,"0")+_xlfn.XLOOKUP(Q64,working!$R$3:$R$5,working!$S$3:$S$5,"0")+_xlfn.XLOOKUP(U64,working!$R$3:$R$5,working!$S$3:$S$5,"0"))/15 -> 0
A65: 2.4 – Boolean logic | C65: 2.4.1 Boolean logic | D65: 59 | E65: I can complete a test plan for a given scenario | J65: {=_xlfn.TOCOL('2.4'!J7:J13)} -> Started | K65: {=_xlfn.TOCOL('2.4'!K7:K13)} -> YouTube Videos | L65: {=_xlfn.TOCOL('2.4'!L7:L13)} -> 45328 | M65: {=_xlfn.TOCOL('2.4'!M7:M13)} -> Not Sure | N65: {=_xlfn.TOCOL('2.4'!N7:N13)} -> Not Started | O65: {=_xlfn.TOCOL('2.4'!O7:O13)} -> 0 | P65: {=_xlfn.TOCOL('2.4'!P7:P13)} -> 0 | Q65: {=_xlfn.TOCOL('2.4'!Q7:Q13)} -> 0 | ... U65: {=_xlfn.TOCOL('2.4'!U7:U13)} -> 0 | V65: =COUNTIF(J65:U65,"completed")/3 -> 0 | W65: =(_xlfn.XLOOKUP(M65,working!$R$3:$R$5,working!$S$3:$S$5,"0")+_xlfn.XLOOKUP(Q65,working!$R$3:$R$5,working!$S$3:$S$5,"0")+_xlfn.XLOOKUP(U65,working!$R$3:$R$5,working!$S$3:$S$5,"0"))/15 -> 0.2
D66: 60 | E66: I can create simple logic diagrams using the AND operator | J66: Not Started | K66: 0 | L66: 0 | M66: 0 | N66: Not Started | O66: 0 | P66: 0 | Q66: 0 | R66: Not Started | S66: 0 | T66: 0 | U66: 0 | V66: =COUNTIF(J66:U66,"completed")/3 -> 0 | W66: =(_xlfn.XLOOKUP(M66,working!$R$3:$R$5,working!$S$3:$S$5,"0")+_xlfn.XLOOKUP(Q66,working!$R$3:$R$5,working!$S$3:$S$5,"0")+_xlfn.XLOOKUP(U66,working!$R$3:$R$5,working!$S$3:$S$5,"0"))/15 -> 0
D67: 61 | E67: I can create simple logic diagrams using the OR operator | J67: Not Started | K67: 0 | L67: 0 | M67: 0 | N67: Not Started | O67: 0 | P67: 0 | Q67: 0 | R67: Not Started | S67: 0 | T67: 0 | U67: 0 | V67: =COUNTIF(J67:U67,"completed")/3 -> 0 | W67: =(_xlfn.XLOOKUP(M67,working!$R$3:$R$5,working!$S$3:$S$5,"0")+_xlfn.XLOOKUP(Q67,working!$R$3:$R$5,working!$S$3:$S$5,"0")+_xlfn.XLOOKUP(U67,working!$R$3:$R$5,working!$S$3:$S$5,"0"))/15 -> 0
D68: 62 | E68: I can create simple logic diagrams using the NOT operator | J68: Not Started | K68: 0 | L68: 0 | M68: 0 | N68: Not Started | O68: 0 | P68: 0 | Q68: 0 | R68: Not Started | S68: 0 | T68: 0 | U68: 0 | V68: =COUNTIF(J68:U68,"completed")/3 -> 0 | W68: =(_xlfn.XLOOKUP(M68,working!$R$3:$R$5,working!$S$3:$S$5,"0")+_xlfn.XLOOKUP(Q68,working!$R$3:$R$5,working!$S$3:$S$5,"0")+_xlfn.XLOOKUP(U68,working!$R$3:$R$5,working!$S$3:$S$5,"0"))/15 -> 0
D69: 63 | E69: I can create a truth table for a AND logic gate | J69: Not Started | K69: 0 | L69: 0 | M69: 0 | N69: Not Started | O69: 0 | P69: 0 | Q69: 0 | R69: Not Started | S69: 0 | T69: 0 | U69: 0 | V69: =COUNTIF(J69:U69,"completed")/3 -> 0 | W69: =(_xlfn.XLOOKUP(M69,working!$R$3:$R$5,working!$S$3:$S$5,"0")+_xlfn.XLOOKUP(Q69,working!$R$3:$R$5,working!$S$3:$S$5,"0")+_xlfn.XLOOKUP(U69,working!$R$3:$R$5,working!$S$3:$S$5,"0"))/15 -> 0
D70: 64 | E70: I can create a truth table for a OR logic gate | J70: Not Started | K70: 0 | L70: 0 | M70: 0 | N70: Not Started | O70: 0 | P70: 0 | Q70: 0 | R70: Not Started | S70: 0 | T70: 0 | U70: 0 | V70: =COUNTIF(J70:U70,"completed")/3 -> 0 | W70: =(_xlfn.XLOOKUP(M70,working!$R$3:$R$5,working!$S$3:$S$5,"0")+_xlfn.XLOOKUP(Q70,working!$R$3:$R$5,working!$S$3:$S$5,"0")+_xlfn.XLOOKUP(U70,working!$R$3:$R$5,working!$S$3:$S$5,"0"))/15 -> 0
D71: 65 | E71: I can create a truth table for a NOT logic gate | J71: Not Started | K71: 0 | L71: 0 | M71: 0 | N71: Not Started | O71: 0 | P71: 0 | Q71: 0 | R71: Not Started | S71: 0 | T71: 0 | U71: 0 | V71: =COUNTIF(J71:U71,"completed")/3 -> 0 | W71: =(_xlfn.XLOOKUP(M71,working!$R$3:$R$5,working!$S$3:$S$5,"0")+_xlfn.XLOOKUP(Q71,working!$R$3:$R$5,working!$S$3:$S$5,"0")+_xlfn.XLOOKUP(U71,working!$R$3:$R$5,working!$S$3:$S$5,"0"))/15 -> 0
A72: 2.5 – Programming languages and Integrated Development Environments | C72: 2.5.1 Languages | D72: 66 | E72: I can create a truth table and logic diagram using more than one gate | J72: {=_xlfn.TOCOL('2.5'!J7:J14)} -> Started | K72: {=_xlfn.TOCOL('2.5'!K7:K14)} -> YouTube Videos | L72: {=_xlfn.TOCOL('2.5'!L7:L14)} -> 45328 | M72: {=_xlfn.TOCOL('2.5'!M7:M14)} -> Not Sure | N72: {=_xlfn.TOCOL('2.5'!N7:N14)} -> Not Started | O72: {=_xlfn.TOCOL('2.5'!O7:O14)} -> 0 | P72: {=_xlfn.TOCOL('2.5'!P7:P14)} -> 0 | Q72: {=_xlfn.TOCOL('2.5'!Q7:Q14)} -> 0 | ... U72: {=_xlfn.TOCOL('2.5'!U7:U14)} -> 0 | V72: =COUNTIF(J72:U72,"completed")/3 -> 0 | W72: =(_xlfn.XLOOKUP(M72,working!$R$3:$R$5,working!$S$3:$S$5,"0")+_xlfn.XLOOKUP(Q72,working!$R$3:$R$5,working!$S$3:$S$5,"0")+_xlfn.XLOOKUP(U72,working!$R$3:$R$5,working!$S$3:$S$5,"0"))/15 -> 0.2
D73: 67 | E73: I can describe the characteristics and purpose of high-level languages | J73: Not Started | K73: 0 | L73: 0 | M73: 0 | N73: Not Started | O73: 0 | P73: 0 | Q73: 0 | R73: Not Started | S73: 0 | T73: 0 | U73: 0 | V73: =COUNTIF(J73:U73,"completed")/3 -> 0 | W73: =(_xlfn.XLOOKUP(M73,working!$R$3:$R$5,working!$S$3:$S$5,"0")+_xlfn.XLOOKUP(Q73,working!$R$3:$R$5,working!$S$3:$S$5,"0")+_xlfn.XLOOKUP(U73,working!$R$3:$R$5,working!$S$3:$S$5,"0"))/15 -> 0
D74: 68 | E74: I can describe the characteristics and purpose of low-level languages | J74: Not Started | K74: 0 | L74: 0 | M74: 0 | N74: Not Started | O74: 0 | P74: 0 | Q74: 0 | R74: Not Started | S74: 0 | T74: 0 | U74: 0 | V74: =COUNTIF(J74:U74,"completed")/3 -> 0 | W74: =(_xlfn.XLOOKUP(M74,working!$R$3:$R$5,working!$S$3:$S$5,"0")+_xlfn.XLOOKUP(Q74,working!$R$3:$R$5,working!$S$3:$S$5,"0")+_xlfn.XLOOKUP(U74,working!$R$3:$R$5,working!$S$3:$S$5,"0"))/15 -> 0
D75: 69 | E75: I can descirbe the differences between high-level and low-level languages | J75: Not Started | K75: 0 | L75: 0 | M75: 0 | N75: Not Started | O75: 0 | P75: 0 | Q75: 0 | R75: Not Started | S75: 0 | T75: 0 | U75: 0 | V75: =COUNTIF(J75:U75,"completed")/3 -> 0 | W75: =(_xlfn.XLOOKUP(M75,working!$R$3:$R$5,working!$S$3:$S$5,"0")+_xlfn.XLOOKUP(Q75,working!$R$3:$R$5,working!$S$3:$S$5,"0")+_xlfn.XLOOKUP(U75,working!$R$3:$R$5,working!$S$3:$S$5,"0"))/15 -> 0
D76: 70 | E76: I can explain the purpose and need of translators | J76: Not Started | K76: 0 | L76: 0 | M76: 0 | N76: Not Started | O76: 0 | P76: 0 | Q76: 0 | R76: Not Started | S76: 0 | T76: 0 | U76: 0 | V76: =COUNTIF(J76:U76,"completed")/3 -> 0 | W76: =(_xlfn.XLOOKUP(M76,working!$R$3:$R$5,working!$S$3:$S$5,"0")+_xlfn.XLOOKUP(Q76,working!$R$3:$R$5,working!$S$3:$S$5,"0")+_xlfn.XLOOKUP(U76,working!$R$3:$R$5,working!$S$3:$S$5,"0"))/15 -> 0
D77: 71 | E77: I can describe the characteristics of a compiler | J77: Not Started | K77: 0 | L77: 0 | M77: 0 | N77: Not Started | O77: 0 | P77: 0 | Q77: 0 | R77: Not Started | S77: 0 | T77: 0 | U77: 0 | V77: =COUNTIF(J77:U77,"completed")/3 -> 0 | W77: =(_xlfn.XLOOKUP(M77,working!$R$3:$R$5,working!$S$3:$S$5,"0")+_xlfn.XLOOKUP(Q77,working!$R$3:$R$5,working!$S$3:$S$5,"0")+_xlfn.XLOOKUP(U77,working!$R$3:$R$5,working!$S$3:$S$5,"0"))/15 -> 0
D78: 72 | E78: I can describe the characteristics of an interpreter | J78: Not Started | K78: 0 | L78: 0 | M78: 0 | N78: Not Started | O78: 0 | P78: 0 | Q78: 0 | R78: Not Started | S78: 0 | T78: 0 | U78: 0 | V78: =COUNTIF(J78:U78,"completed")/3 -> 0 | W78: =(_xlfn.XLOOKUP(M78,working!$R$3:$R$5,working!$S$3:$S$5,"0")+_xlfn.XLOOKUP(Q78,working!$R$3:$R$5,working!$S$3:$S$5,"0")+_xlfn.XLOOKUP(U78,working!$R$3:$R$5,working!$S$3:$S$5,"0"))/15 -> 0
D79: 73 | E79: I can describe the differences, benefits and drawbacks of using a compiler or an interpreter | J79: Not Started | K79: 0 | L79: 0 | M79: 0 | N79: Not Started | O79: 0 | P79: 0 | Q79: 0 | R79: Not Started | S79: 0 | T79: 0 | U79: 0 | V79: =COUNTIF(J79:U79,"completed")/3 -> 0 | W79: =(_xlfn.XLOOKUP(M79,working!$R$3:$R$5,working!$S$3:$S$5,"0")+_xlfn.XLOOKUP(Q79,working!$R$3:$R$5,working!$S$3:$S$5,"0")+_xlfn.XLOOKUP(U79,working!$R$3:$R$5,working!$S$3:$S$5,"0"))/15 -> 0
A80: 3. OCR Exam Reference Language (ERL) | D80: 74 | E80: I can explain the tools and features of an IDE to aid a programmer: Editors Error diagnostics Run-time environment Translators | J80: {=_xlfn.TOCOL('3.0'!J7:J35)} -> Started | K80: {=_xlfn.TOCOL('3.0'!K7:K35)} -> YouTube Videos | L80: {=_xlfn.TOCOL('3.0'!L7:L35)} -> 45328 | M80: {=_xlfn.TOCOL('3.0'!M7:M35)} -> Not Sure | N80: {=_xlfn.TOCOL('3.0'!N7:N35)} -> Not Started | O80: {=_xlfn.TOCOL('3.0'!O7:O35)} -> 0 | P80: {=_xlfn.TOCOL('3.0'!P7:P35)} -> 0 | Q80: {=_xlfn.TOCOL('3.0'!Q7:Q35)} -> 0 | ... U80: {=_xlfn.TOCOL('3.0'!U7:U35)} -> 0 | V80: =COUNTIF(J80:U80,"completed")/3 -> 0 | W80: =(_xlfn.XLOOKUP(M80,working!$R$3:$R$5,working!$S$3:$S$5,"0")+_xlfn.XLOOKUP(Q80,working!$R$3:$R$5,working!$S$3:$S$5,"0")+_xlfn.XLOOKUP(U80,working!$R$3:$R$5,working!$S$3:$S$5,"0"))/15 -> 0.2
D81: 75 | E81: I can write comments // | J81: Not Started | K81: 0 | L81: 0 | M81: 0 | N81: Not Started | O81: 0 | P81: 0 | Q81: 0 | R81: Not Started | S81: 0 | T81: 0 | U81: 0 | V81: =COUNTIF(J81:U81,"completed")/3 -> 0 | W81: =(_xlfn.XLOOKUP(M81,working!$R$3:$R$5,working!$S$3:$S$5,"0")+_xlfn.XLOOKUP(Q81,working!$R$3:$R$5,working!$S$3:$S$5,"0")+_xlfn.XLOOKUP(U81,working!$R$3:$R$5,working!$S$3:$S$5,"0"))/15 -> 0
D82: 76 | E82: I can assign values x = 3 global userID = "customer1" | J82: Not Started | K82: 0 | L82: 0 | M82: 0 | N82: Not Started | O82: 0 | P82: 0 | Q82: 0 | R82: Not Started | S82: 0 | T82: 0 | U82: 0 | V82: =COUNTIF(J82:U82,"completed")/3 -> 0 | W82: =(_xlfn.XLOOKUP(M82,working!$R$3:$R$5,working!$S$3:$S$5,"0")+_xlfn.XLOOKUP(Q82,working!$R$3:$R$5,working!$S$3:$S$5,"0")+_xlfn.XLOOKUP(U82,working!$R$3:$R$5,working!$S$3:$S$5,"0"))/15 -> 0
D83: 77 | E83: I can write inputs and outputs myName = input("Please enter a name")) print(myArray[2,3]) | J83: Not Started | K83: 0 | L83: 0 | M83: 0 | N83: Not Started | O83: 0 | P83: 0 | Q83: 0 | R83: Not Started | S83: 0 | T83: 0 | U83: 0 | V83: =COUNTIF(J83:U83,"completed")/3 -> 0 | W83: =(_xlfn.XLOOKUP(M83,working!$R$3:$R$5,working!$S$3:$S$5,"0")+_xlfn.XLOOKUP(Q83,working!$R$3:$R$5,working!$S$3:$S$5,"0")+_xlfn.XLOOKUP(U83,working!$R$3:$R$5,working!$S$3:$S$5,"0"))/15 -> 0
C84: iteration | D84: 78 | E84: I can convert to another data type: str(345) int("3") float("4.52") real("4.52") bool("True") | J84: Not Started | K84: 0 | L84: 0 | M84: 0 | N84: Not Started | O84: 0 | P84: 0 | Q84: 0 | R84: Not Started | S84: 0 | T84: 0 | U84: 0 | V84: =COUNTIF(J84:U84,"completed")/3 -> 0 | W84: =(_xlfn.XLOOKUP(M84,working!$R$3:$R$5,working!$S$3:$S$5,"0")+_xlfn.XLOOKUP(Q84,working!$R$3:$R$5,working!$S$3:$S$5,"0")+_xlfn.XLOOKUP(U84,working!$R$3:$R$5,working!$S$3:$S$5,"0"))/15 -> 0
D85: 79 | E85: I can write a FOR loop (count controlled) for i=10 to 0 step -1 print(i) next i This will print the numbers from 10 to 0 inclusive, i.e. 10, 9, 8,…, | J85: Not Started | K85: 0 | L85: 0 | M85: 0 | N85: Not Started | O85: 0 | P85: 0 | Q85: 0 | R85: Not Started | S85: 0 | T85: 0 | U85: 0 | V85: =COUNTIF(J85:U85,"completed")/3 -> 0 | W85: =(_xlfn.XLOOKUP(M85,working!$R$3:$R$5,working!$S$3:$S$5,"0")+_xlfn.XLOOKUP(Q85,working!$R$3:$R$5,working!$S$3:$S$5,"0")+_xlfn.XLOOKUP(U85,working!$R$3:$R$5,working!$S$3:$S$5,"0"))/15 -> 0
D86: 80 | E86: I can write a WHILE loop (condition controlled) while answer != "Correct" answer = input("New answer") endwhile Will loop until the user inputs the string “Correct”. Check condition is carried out before entering loop | J86: Not Started | K86: 0 | L86: 0 | M86: 0 | N86: Not Started | O86: 0 | P86: 0 | Q86: 0 | R86: Not Started | S86: 0 | T86: 0 | U86: 0 | V86: =COUNTIF(J86:U86,"completed")/3 -> 0 | W86: =(_xlfn.XLOOKUP(M86,working!$R$3:$R$5,working!$S$3:$S$5,"0")+_xlfn.XLOOKUP(Q86,working!$R$3:$R$5,working!$S$3:$S$5,"0")+_xlfn.XLOOKUP(U86,working!$R$3:$R$5,working!$S$3:$S$5,"0"))/15 -> 0
C87: selection | D87: 81 | E87: I can write a DO WHILE loop (condition controlled) do answer = input("New answer") until answer == "Correct" Will loop until the user inputs the string “Correct”. Loop iterates once before a check is carried out. | J87: Not Started | K87: 0 | L87: 0 | M87: 0 | N87: Not Started | O87: 0 | P87: 0 | Q87: 0 | R87: Not Started | S87: 0 | T87: 0 | U87: 0 | V87: =COUNTIF(J87:U87,"completed")/3 -> 0 | W87: =(_xlfn.XLOOKUP(M87,working!$R$3:$R$5,working!$S$3:$S$5,"0")+_xlfn.XLOOKUP(Q87,working!$R$3:$R$5,working!$S$3:$S$5,"0")+_xlfn.XLOOKUP(U87,working!$R$3:$R$5,working!$S$3:$S$5,"0"))/15 -> 0
D88: 82 | E88: I can write a IF-THEN -ELSE selection if answer == "Yes" then print("Correct") elseif answer == "No" then print("Wrong") else print("Error") endif | J88: Not Started | K88: 0 | L88: 0 | M88: 0 | N88: Not Started | O88: 0 | P88: 0 | Q88: 0 | R88: Not Started | S88: 0 | T88: 0 | U88: 0 | V88: =COUNTIF(J88:U88,"completed")/3 -> 0 | W88: =(_xlfn.XLOOKUP(M88,working!$R$3:$R$5,working!$S$3:$S$5,"0")+_xlfn.XLOOKUP(Q88,working!$R$3:$R$5,working!$S$3:$S$5,"0")+_xlfn.XLOOKUP(U88,working!$R$3:$R$5,working!$S$3:$S$5,"0"))/15 -> 0
D89: 83 | E89: I can write a CASE SELECT statement if answer == "Yes" then print("Correct") elseif answer == "No" then print("Wrong") else print("Error") endif | J89: Not Started | K89: 0 | L89: 0 | M89: 0 | N89: Not Started | O89: 0 | P89: 0 | Q89: 0 | R89: Not Started | S89: 0 | T89: 0 | U89: 0 | V89: =COUNTIF(J89:U89,"completed")/3 -> 0 | W89: =(_xlfn.XLOOKUP(M89,working!$R$3:$R$5,working!$S$3:$S$5,"0")+_xlfn.XLOOKUP(Q89,working!$R$3:$R$5,working!$S$3:$S$5,"0")+_xlfn.XLOOKUP(U89,working!$R$3:$R$5,working!$S$3:$S$5,"0"))/15 -> 0
C90: String handling/operations | D90: 84 | E90: I can write a SWITCH SELECT statement switch day : case "Sat": print("Saturday") case "Sun": print("Sunday") default: print("Weekday") endswitch | J90: Not Started | K90: 0 | L90: 0 | M90: 0 | N90: Not Started | O90: 0 | P90: 0 | Q90: 0 | R90: Not Started | S90: 0 | T90: 0 | U90: 0 | V90: =COUNTIF(J90:U90,"completed")/3 -> 0 | W90: =(_xlfn.XLOOKUP(M90,working!$R$3:$R$5,working!$S$3:$S$5,"0")+_xlfn.XLOOKUP(Q90,working!$R$3:$R$5,working!$S$3:$S$5,"0")+_xlfn.XLOOKUP(U90,working!$R$3:$R$5,working!$S$3:$S$5,"0"))/15 -> 0
D91: 85 | E91: I can use string length operation .length subject = "ComputerScience" subject.length gives the value 15 | J91: Not Started | K91: 0 | L91: 0 | M91: 0 | N91: Not Started | O91: 0 | P91: 0 | Q91: 0 | R91: Not Started | S91: 0 | T91: 0 | U91: 0 | V91: =COUNTIF(J91:U91,"completed")/3 -> 0 | W91: =(_xlfn.XLOOKUP(M91,working!$R$3:$R$5,working!$S$3:$S$5,"0")+_xlfn.XLOOKUP(Q91,working!$R$3:$R$5,working!$S$3:$S$5,"0")+_xlfn.XLOOKUP(U91,working!$R$3:$R$5,working!$S$3:$S$5,"0"))/15 -> 0
D92: 86 | E92: I can use substrings .substring(x , i) .left(i) .right(i) subject.substring(3,5) returns "puter" subject.left(4) returns "Comp" subject.right(3) returns "nce" | J92: Not Started | K92: 0 | L92: 0 | M92: 0 | N92: Not Started | O92: 0 | P92: 0 | Q92: 0 | R92: Not Started | S92: 0 | T92: 0 | U92: 0 | V92: =COUNTIF(J92:U92,"completed")/3 -> 0 | W92: =(_xlfn.XLOOKUP(M92,working!$R$3:$R$5,working!$S$3:$S$5,"0")+_xlfn.XLOOKUP(Q92,working!$R$3:$R$5,working!$S$3:$S$5,"0")+_xlfn.XLOOKUP(U92,working!$R$3:$R$5,working!$S$3:$S$5,"0"))/15 -> 0
D93: 87 | E93: I understand tthat x is starting index; i is number of characters; 0 indexed | J93: Not Started | K93: 0 | L93: 0 | M93: 0 | N93: Not Started | O93: 0 | P93: 0 | Q93: 0 | R93: Not Started | S93: 0 | T93: 0 | U93: 0 | V93: =COUNTIF(J93:U93,"completed")/3 -> 0 | W93: =(_xlfn.XLOOKUP(M93,working!$R$3:$R$5,working!$S$3:$S$5,"0")+_xlfn.XLOOKUP(Q93,working!$R$3:$R$5,working!$S$3:$S$5,"0")+_xlfn.XLOOKUP(U93,working!$R$3:$R$5,working!$S$3:$S$5,"0"))/15 -> 0
D94: 88 | E94: I can use concatenation to manipulate strings print(stringA + stringB) print("Hello, your name is: " + name) | J94: Not Started | K94: 0 | L94: 0 | M94: 0 | N94: Not Started | O94: 0 | P94: 0 | Q94: 0 | R94: Not Started | S94: 0 | T94: 0 | U94: 0 | V94: =COUNTIF(J94:U94,"completed")/3 -> 0 | W94: =(_xlfn.XLOOKUP(M94,working!$R$3:$R$5,working!$S$3:$S$5,"0")+_xlfn.XLOOKUP(Q94,working!$R$3:$R$5,working!$S$3:$S$5,"0")+_xlfn.XLOOKUP(U94,working!$R$3:$R$5,working!$S$3:$S$5,"0"))/15 -> 0
D95: 89 | E95: I can use the uppercase operation .upper subject.upper gives "COMPUTERSCIENCE" | J95: Not Started | K95: 0 | L95: 0 | M95: 0 | N95: Not Started | O95: 0 | P95: 0 | Q95: 0 | R95: Not Started | S95: 0 | T95: 0 | U95: 0 | V95: =COUNTIF(J95:U95,"completed")/3 -> 0 | W95: =(_xlfn.XLOOKUP(M95,working!$R$3:$R$5,working!$S$3:$S$5,"0")+_xlfn.XLOOKUP(Q95,working!$R$3:$R$5,working!$S$3:$S$5,"0")+_xlfn.XLOOKUP(U95,working!$R$3:$R$5,working!$S$3:$S$5,"0"))/15 -> 0
D96: 90 | E96: I can use the lowercase operation .lower subject.lower gives "computerscience" | J96: Not Started | K96: 0 | L96: 0 | M96: 0 | N96: Not Started | O96: 0 | P96: 0 | Q96: 0 | R96: Not Started | S96: 0 | T96: 0 | U96: 0 | V96: =COUNTIF(J96:U96,"completed")/3 -> 0 | W96: =(_xlfn.XLOOKUP(M96,working!$R$3:$R$5,working!$S$3:$S$5,"0")+_xlfn.XLOOKUP(Q96,working!$R$3:$R$5,working!$S$3:$S$5,"0")+_xlfn.XLOOKUP(U96,working!$R$3:$R$5,working!$S$3:$S$5,"0"))/15 -> 0
C97: File handling | D97: 91 | E97: I can use the ASCII conversion ASC(…) ASC(A) returns 65 (numerical) CHR(…) CHR(97) returns ‘a’ (char) | J97: Not Started | K97: 0 | L97: 0 | M97: 0 | N97: Not Started | O97: 0 | P97: 0 | Q97: 0 | R97: Not Started | S97: 0 | T97: 0 | U97: 0 | V97: =COUNTIF(J97:U97,"completed")/3 -> 0 | W97: =(_xlfn.XLOOKUP(M97,working!$R$3:$R$5,working!$S$3:$S$5,"0")+_xlfn.XLOOKUP(Q97,working!$R$3:$R$5,working!$S$3:$S$5,"0")+_xlfn.XLOOKUP(U97,working!$R$3:$R$5,working!$S$3:$S$5,"0"))/15 -> 0
D98: 92 | E98: I can use write/use the following commands when handling a file: open(…) myFile = open("sample.txt") | J98: Not Started | K98: 0 | L98: 0 | M98: 0 | N98: Not Started | O98: 0 | P98: 0 | Q98: 0 | R98: Not Started | S98: 0 | T98: 0 | U98: 0 | V98: =COUNTIF(J98:U98,"completed")/3 -> 0 | W98: =(_xlfn.XLOOKUP(M98,working!$R$3:$R$5,working!$S$3:$S$5,"0")+_xlfn.XLOOKUP(Q98,working!$R$3:$R$5,working!$S$3:$S$5,"0")+_xlfn.XLOOKUP(U98,working!$R$3:$R$5,working!$S$3:$S$5,"0"))/15 -> 0
D99: 93 | E99: I can use write/use the following commands when handling a file: .close() myFile.close() | J99: Not Started | K99: 0 | L99: 0 | M99: 0 | N99: Not Started | O99: 0 | P99: 0 | Q99: 0 | R99: Not Started | S99: 0 | T99: 0 | U99: 0 | V99: =COUNTIF(J99:U99,"completed")/3 -> 0 | W99: =(_xlfn.XLOOKUP(M99,working!$R$3:$R$5,working!$S$3:$S$5,"0")+_xlfn.XLOOKUP(Q99,working!$R$3:$R$5,working!$S$3:$S$5,"0")+_xlfn.XLOOKUP(U99,working!$R$3:$R$5,working!$S$3:$S$5,"0"))/15 -> 0
D100: 94 | E100: I can use write/use the following commands when handling a file: .readLine() myFile.readLine() returnsthe next line in the file | J100: Not Started | K100: 0 | L100: 0 | M100: 0 | N100: Not Started | O100: 0 | P100: 0 | Q100: 0 | R100: Not Started | S100: 0 | T100: 0 | U100: 0 | V100: =COUNTIF(J100:U100,"completed")/3 -> 0 | W100: =(_xlfn.XLOOKUP(M100,working!$R$3:$R$5,working!$S$3:$S$5,"0")+_xlfn.XLOOKUP(Q100,working!$R$3:$R$5,working!$S$3:$S$5,"0")+_xlfn.XLOOKUP(U100,working!$R$3:$R$5,working!$S$3:$S$5,"0"))/15 -> 0
D101: 95 | E101: I can use write/use the following commands when handling a file: .writeLine(…) myFile.writeLine("Add new line") | J101: Not Started | K101: 0 | L101: 0 | M101: 0 | N101: Not Started | O101: 0 | P101: 0 | Q101: 0 | R101: Not Started | S101: 0 | T101: 0 | U101: 0 | V101: =COUNTIF(J101:U101,"completed")/3 -> 0 | W101: =(_xlfn.XLOOKUP(M101,working!$R$3:$R$5,working!$S$3:$S$5,"0")+_xlfn.XLOOKUP(Q101,working!$R$3:$R$5,working!$S$3:$S$5,"0")+_xlfn.XLOOKUP(U101,working!$R$3:$R$5,working!$S$3:$S$5,"0"))/15 -> 0
...

Sheet 2.1
A2: Percentage of Course Revised | F2: =COUNTIF(J7:U22,"Completed")/48 -> 0.020833333 | H2: Not Sure | I2: =COUNTIF(J7:U22,H2)/48 -> 0 | J2: Getting There | K2: =COUNTIF(J7:U22,J2)/48 -> 0.020833333 | L2: Nailed It | M2: =COUNTIF(J7:U22,L2)/48 -> 0.020833333
A4: TOPIC | J4: Review 1 | N4: Review 2 | R4: Review 3 | V4: % Reviews Completed | W4: Average Confidence Level
J5: Status | K5: Revision Activity | L5: Date | M5: Confidence Level | N5: Status | O5: Revision Activity | P5: Date | Q5: Confidence Level | R5: Status | S5: Revision Activity | T5: Date | U5: Confidence Level
A6: Unit | D6: SL | E6: Section Title
A7: 2.1 – Algorithms | C7: 2.1.1 Computational thinking | D7: 1 | E7: Use of abstraction method to define and refine problems | J7: Started | K7: Active Recall Q | L7: 45356 | M7: Getting There | N7: Completed | O7: Learning Mark Scheme | P7: 45333 | Q7: Nailed It | R7: Not Started | V7: =COUNTIF(J7:U7,"completed")/3 -> 0.33333333 | W7: =(_xlfn.XLOOKUP(M7,working!$R$3:$R$5,working!$S$3:$S$5,"0")+_xlfn.XLOOKUP(Q7,working!$R$3:$R$5,working!$S$3:$S$5,"0")+_xlfn.XLOOKUP(U7,working!$R$3:$R$5,working!$S$3:$S$5,"0"))/15 -> 0.6
D8: 2 | E8: Use of decomposition to to define and refine problems | J8: Not Started | N8: Not Started | R8: Not Started | V8: =COUNTIF(J8:U8,"completed")/3 -> 0 | W8: =(_xlfn.XLOOKUP(M8,working!$R$3:$R$5,working!$S$3:$S$5,"0")+_xlfn.XLOOKUP(Q8,working!$R$3:$R$5,working!$S$3:$S$5,"0")+_xlfn.XLOOKUP(U8,working!$R$3:$R$5,working!$S$3:$S$5,"0"))/15 -> 0
D9: 3 | E9: Use of algorithmetic thinking to define and refine problems | J9: Not Started | N9: Not Started | R9: Not Started | V9: =COUNTIF(J9:U9,"completed")/3 -> 0 | W9: =(_xlfn.XLOOKUP(M9,working!$R$3:$R$5,working!$S$3:$S$5,"0")+_xlfn.XLOOKUP(Q9,working!$R$3:$R$5,working!$S$3:$S$5,"0")+_xlfn.XLOOKUP(U9,working!$R$3:$R$5,working!$S$3:$S$5,"0"))/15 -> 0
C10: 2.1.2 Designing, creating and refining algorithms | D10: 4 | E10: Identify the inputs, processes, and outputs for a problem | J10: Not Started | N10: Not Started | R10: Not Started | V10: =COUNTIF(J10:U10,"completed")/3 -> 0 | W10: =(_xlfn.XLOOKUP(M10,working!$R$3:$R$5,working!$S$3:$S$5,"0")+_xlfn.XLOOKUP(Q10,working!$R$3:$R$5,working!$S$3:$S$5,"0")+_xlfn.XLOOKUP(U10,working!$R$3:$R$5,working!$S$3:$S$5,"0"))/15 -> 0
D11: 5 | E11: Create, interpret, correct, complete, and refine algorithms using Pseudocode | J11: Not Started | N11: Not Started | R11: Not Started | V11: =COUNTIF(J11:U11,"completed")/3 -> 0 | W11: =(_xlfn.XLOOKUP(M11,working!$R$3:$R$5,working!$S$3:$S$5,"0")+_xlfn.XLOOKUP(Q11,working!$R$3:$R$5,working!$S$3:$S$5,"0")+_xlfn.XLOOKUP(U11,working!$R$3:$R$5,working!$S$3:$S$5,"0"))/15 -> 0
D12: 6 | E12: Create, interpret, correct, complete, and refine algorithms using Flowcharts | J12: Not Started | N12: Not Started | R12: Not Started | V12: =COUNTIF(J12:U12,"completed")/3 -> 0 | W12: =(_xlfn.XLOOKUP(M12,working!$R$3:$R$5,working!$S$3:$S$5,"0")+_xlfn.XLOOKUP(Q12,working!$R$3:$R$5,working!$S$3:$S$5,"0")+_xlfn.XLOOKUP(U12,working!$R$3:$R$5,working!$S$3:$S$5,"0"))/15 -> 0
D13: 7 | E13: Create, interpret, correct, complete, and refine algorithms using Exam Reference Language | J13: Not Started | N13: Not Started | R13: Not Started | V13: =COUNTIF(J13:U13,"completed")/3 -> 0 | W13: =(_xlfn.XLOOKUP(M13,working!$R$3:$R$5,working!$S$3:$S$5,"0")+_xlfn.XLOOKUP(Q13,working!$R$3:$R$5,working!$S$3:$S$5,"0")+_xlfn.XLOOKUP(U13,working!$R$3:$R$5,working!$S$3:$S$5,"0"))/15 -> 0
D14: 8 | E14: Identify syntax errors in code | J14: Not Started | N14: Not Started | R14: Not Started | V14: =COUNTIF(J14:U14,"completed")/3 -> 0 | W14: =(_xlfn.XLOOKUP(M14,working!$R$3:$R$5,working!$S$3:$S$5,"0")+_xlfn.XLOOKUP(Q14,working!$R$3:$R$5,working!$S$3:$S$5,"0")+_xlfn.XLOOKUP(U14,working!$R$3:$R$5,working!$S$3:$S$5,"0"))/15 -> 0
D15: 9 | E15: Identify logic errors in code | J15: Not Started | N15: Not Started | R15: Not Started | V15: =COUNTIF(J15:U15,"completed")/3 -> 0 | W15: =(_xlfn.XLOOKUP(M15,working!$R$3:$R$5,working!$S$3:$S$5,"0")+_xlfn.XLOOKUP(Q15,working!$R$3:$R$5,working!$S$3:$S$5,"0")+_xlfn.XLOOKUP(U15,working!$R$3:$R$5,working!$S$3:$S$5,"0"))/15 -> 0
D16: 10 | E16: Create a trace table to follow an algorithm | J16: Not Started | N16: Not Started | R16: Not Started | V16: =COUNTIF(J16:U16,"completed")/3 -> 0 | W16: =(_xlfn.XLOOKUP(M16,working!$R$3:$R$5,working!$S$3:$S$5,"0")+_xlfn.XLOOKUP(Q16,working!$R$3:$R$5,working!$S$3:$S$5,"0")+_xlfn.XLOOKUP(U16,working!$R$3:$R$5,working!$S$3:$S$5,"0"))/15 -> 0
D17: 11 | E17: Complete a trace table to follow an algorithm | J17: Not Started | N17: Not Started | R17: Not Started | V17: =COUNTIF(J17:U17,"completed")/3 -> 0 | W17: =(_xlfn.XLOOKUP(M17,working!$R$3:$R$5,working!$S$3:$S$5,"0")+_xlfn.XLOOKUP(Q17,working!$R$3:$R$5,working!$S$3:$S$5,"0")+_xlfn.XLOOKUP(U17,working!$R$3:$R$5,working!$S$3:$S$5,"0"))/15 -> 0
C18: 2.1.3 Searching and sorting algorithms | D18: 12 | E18: Apply a binary search to a problem | J18: Not Started | N18: Not Started | R18: Not Started | V18: =COUNTIF(J18:U18,"completed")/3 -> 0 | W18: =(_xlfn.XLOOKUP(M18,working!$R$3:$R$5,working!$S$3:$S$5,"0")+_xlfn.XLOOKUP(Q18,working!$R$3:$R$5,working!$S$3:$S$5,"0")+_xlfn.XLOOKUP(U18,working!$R$3:$R$5,working!$S$3:$S$5,"0"))/15 -> 0
D19: 13 | E19: Apply a linear search to a problem | J19: Not Started | N19: Not Started | R19: Not Started | V19: =COUNTIF(J19:U19,"completed")/3 -> 0 | W19: =(_xlfn.XLOOKUP(M19,working!$R$3:$R$5,working!$S$3:$S$5,"0")+_xlfn.XLOOKUP(Q19,working!$R$3:$R$5,working!$S$3:$S$5,"0")+_xlfn.XLOOKUP(U19,working!$R$3:$R$5,working!$S$3:$S$5,"0"))/15 -> 0
D20: 14 | E20: Apply a bubble sort to a problem | J20: Not Started | N20: Not Started | R20: Not Started | V20: =COUNTIF(J20:U20,"completed")/3 -> 0 | W20: =(_xlfn.XLOOKUP(M20,working!$R$3:$R$5,working!$S$3:$S$5,"0")+_xlfn.XLOOKUP(Q20,working!$R$3:$R$5,working!$S$3:$S$5,"0")+_xlfn.XLOOKUP(U20,working!$R$3:$R$5,working!$S$3:$S$5,"0"))/15 -> 0
D21: 15 | E21: Apply a merge sort to a problem | J21: Not Started | N21: Not Started | R21: Not Started | V21: =COUNTIF(J21:U21,"completed")/3 -> 0 | W21: =(_xlfn.XLOOKUP(M21,working!$R$3:$R$5,working!$S$3:$S$5,"0")+_xlfn.XLOOKUP(Q21,working!$R$3:$R$5,working!$S$3:$S$5,"0")+_xlfn.XLOOKUP(U21,working!$R$3:$R$5,working!$S$3:$S$5,"0"))/15 -> 0
D22: 16 | E22: Apply an insertion sort to a problem | J22: Not Started | N22: Not Started | R22: Not Started | V22: =COUNTIF(J22:U22,"completed")/3 -> 0 | W22: =(_xlfn.XLOOKUP(M22,working!$R$3:$R$5,working!$S$3:$S$5,"0")+_xlfn.XLOOKUP(Q22,working!$R$3:$R$5,working!$S$3:$S$5,"0")+_xlfn.XLOOKUP(U22,working!$R$3:$R$5,working!$S$3:$S$5,"0"))/15 -> 0

Sheet 2.2
A2: Percentage of Course Revised | F2: =COUNTIF(J7:U33,"Completed")/81 -> 0.012345679 | H2: Not Sure | I2: =COUNTIF(J7:U33,H2)/81 -> 0 | J2: Getting There | K2: =COUNTIF(J7:U33,J2)/81 -> 0.012345679 | L2: Nailed It | M2: =COUNTIF(J7:U33,L2)/81 -> 0
A4: TOPIC | J4: Review 1 | N4: Review 2 | R4: Review 3 | V4: % Reviews Completed | W4: Average Confidence Level
J5: Status | K5: Revision Activity | L5: Date | M5: Confidence Level | N5: Status | O5: Revision Activity | P5: Date | Q5: Confidence Level | R5: Status | S5: Revision Activity | T5: Date | U5: Confidence Level
A6: Unit | D6: SL | E6: Section Title
A7: 2.2 – Programming fundamentals | C7: 2.2.1 Programming fundamentals | D7: 17 | E7: I can use/identify variables in a programming language/ERL | J7: Completed | K7: YouTube Videos | M7: Getting There | N7: Not Started | R7: Not Started | V7: =COUNTIF(J7:U7,"completed")/3 -> 0.33333333 | W7: =(_xlfn.XLOOKUP(M7,working!$R$3:$R$5,working!$S$3:$S$5,"0")+_xlfn.XLOOKUP(Q7,working!$R$3:$R$5,working!$S$3:$S$5,"0")+_xlfn.XLOOKUP(U7,working!$R$3:$R$5,working!$S$3:$S$5,"0"))/15 -> 0.26666667
D8: 18 | E8: I can use/identify constants in a programming language/ERL | J8: Not Started | N8: Not Started | R8: Not Started | V8: =COUNTIF(J8:U8,"completed")/3 -> 0 | W8: =(_xlfn.XLOOKUP(M8,working!$R$3:$R$5,working!$S$3:$S$5,"0")+_xlfn.XLOOKUP(Q8,working!$R$3:$R$5,working!$S$3:$S$5,"0")+_xlfn.XLOOKUP(U8,working!$R$3:$R$5,working!$S$3:$S$5,"0"))/15 -> 0
D9: 19 | E9: I can use/identify constants in a programming language/ERL | J9: Not Started | N9: Not Started | R9: Not Started | V9: =COUNTIF(J9:U9,"completed")/3 -> 0 | W9: =(_xlfn.XLOOKUP(M9,working!$R$3:$R$5,working!$S$3:$S$5,"0")+_xlfn.XLOOKUP(Q9,working!$R$3:$R$5,working!$S$3:$S$5,"0")+_xlfn.XLOOKUP(U9,working!$R$3:$R$5,working!$S$3:$S$5,"0"))/15 -> 0
D10: 20 | E10: I can use /identify operators in a programming language/ERL | J10: Not Started | N10: Not Started | R10: Not Started | V10: =COUNTIF(J10:U10,"completed")/3 -> 0 | W10: =(_xlfn.XLOOKUP(M10,working!$R$3:$R$5,working!$S$3:$S$5,"0")+_xlfn.XLOOKUP(Q10,working!$R$3:$R$5,working!$S$3:$S$5,"0")+_xlfn.XLOOKUP(U10,working!$R$3:$R$5,working!$S$3:$S$5,"0"))/15 -> 0
D11: 21 | E11: I can use/identify inputs/outputs in a programming language/ERL | J11: Not Started | N11: Not Started | R11: Not Started | V11: =COUNTIF(J11:U11,"completed")/3 -> 0 | W11: =(_xlfn.XLOOKUP(M11,working!$R$3:$R$5,working!$S$3:$S$5,"0")+_xlfn.XLOOKUP(Q11,working!$R$3:$R$5,working!$S$3:$S$5,"0")+_xlfn.XLOOKUP(U11,working!$R$3:$R$5,working!$S$3:$S$5,"0"))/15 -> 0
D12: 22 | E12: I can use sequences to control the flow of a program | J12: Not Started | N12: Not Started | R12: Not Started | V12: =COUNTIF(J12:U12,"completed")/3 -> 0 | W12: =(_xlfn.XLOOKUP(M12,working!$R$3:$R$5,working!$S$3:$S$5,"0")+_xlfn.XLOOKUP(Q12,working!$R$3:$R$5,working!$S$3:$S$5,"0")+_xlfn.XLOOKUP(U12,working!$R$3:$R$5,working!$S$3:$S$5,"0"))/15 -> 0
D13: 23 | E13: I can use selection to control the flow of a program | J13: Not Started | N13: Not Started | R13: Not Started | V13: =COUNTIF(J13:U13,"completed")/3 -> 0 | W13: =(_xlfn.XLOOKUP(M13,working!$R$3:$R$5,working!$S$3:$S$5,"0")+_xlfn.XLOOKUP(Q13,working!$R$3:$R$5,working!$S$3:$S$5,"0")+_xlfn.XLOOKUP(U13,working!$R$3:$R$5,working!$S$3:$S$5,"0"))/15 -> 0
D14: 24 | E14: I can use iteration to control the flow of a program | J14: Not Started | N14: Not Started | R14: Not Started | V14: =COUNTIF(J14:U14,"completed")/3 -> 0 | W14: =(_xlfn.XLOOKUP(M14,working!$R$3:$R$5,working!$S$3:$S$5,"0")+_xlfn.XLOOKUP(Q14,working!$R$3:$R$5,working!$S$3:$S$5,"0")+_xlfn.XLOOKUP(U14,working!$R$3:$R$5,working!$S$3:$S$5,"0"))/15 -> 0
D15: 25 | E15: I can use + - * / operators | J15: Not Started | N15: Not Started | R15: Not Started | V15: =COUNTIF(J15:U15,"completed")/3 -> 0 | W15: =(_xlfn.XLOOKUP(M15,working!$R$3:$R$5,working!$S$3:$S$5,"0")+_xlfn.XLOOKUP(Q15,working!$R$3:$R$5,working!$S$3:$S$5,"0")+_xlfn.XLOOKUP(U15,working!$R$3:$R$5,working!$S$3:$S$5,"0"))/15 -> 0
D16: 26 | E16: I understand and can use Modulus | J16: Not Started | N16: Not Started | R16: Not Started | V16: =COUNTIF(J16:U16,"completed")/3 -> 0 | W16: =(_xlfn.XLOOKUP(M16,working!$R$3:$R$5,working!$S$3:$S$5,"0")+_xlfn.XLOOKUP(Q16,working!$R$3:$R$5,working!$S$3:$S$5,"0")+_xlfn.XLOOKUP(U16,working!$R$3:$R$5,working!$S$3:$S$5,"0"))/15 -> 0
D17: 27 | E17: I understand and can use DIV | J17: Not Started | N17: Not Started | R17: Not Started | V17: =COUNTIF(J17:U17,"completed")/3 -> 0 | W17: =(_xlfn.XLOOKUP(M17,working!$R$3:$R$5,working!$S$3:$S$5,"0")+_xlfn.XLOOKUP(Q17,working!$R$3:$R$5,working!$S$3:$S$5,"0")+_xlfn.XLOOKUP(U17,working!$R$3:$R$5,working!$S$3:$S$5,"0"))/15 -> 0
D18: 28 | E18: I understand and can use ^ Exponetiation | J18: Not Started | N18: Not Started | R18: Not Started | V18: =COUNTIF(J18:U18,"completed")/3 -> 0 | W18: =(_xlfn.XLOOKUP(M18,working!$R$3:$R$5,working!$S$3:$S$5,"0")+_xlfn.XLOOKUP(Q18,working!$R$3:$R$5,working!$S$3:$S$5,"0")+_xlfn.XLOOKUP(U18,working!$R$3:$R$5,working!$S$3:$S$5,"0"))/15 -> 0
C19: 2.2.2 Data types | D19: 29 | E19: I can use the Boolean operators AND, OR and NOT | J19: Not Started | N19: Not Started | R19: Not Started | V19: =COUNTIF(J19:U19,"completed")/3 -> 0 | W19: =(_xlfn.XLOOKUP(M19,working!$R$3:$R$5,working!$S$3:$S$5,"0")+_xlfn.XLOOKUP(Q19,working!$R$3:$R$5,working!$S$3:$S$5,"0")+_xlfn.XLOOKUP(U19,working!$R$3:$R$5,working!$S$3:$S$5,"0"))/15 -> 0
C20: 2.2.3 Additional programming techniques | D20: 30 | E20: I am able to choose suitable data types in a given scenario: * Integer *Real * Boolean * Character and string * Casting | J20: Not Started | N20: Not Started | R20: Not Started | V20: =COUNTIF(J20:U20,"completed")/3 -> 0 | W20: =(_xlfn.XLOOKUP(M20,working!$R$3:$R$5,working!$S$3:$S$5,"0")+_xlfn.XLOOKUP(Q20,working!$R$3:$R$5,working!$S$3:$S$5,"0")+_xlfn.XLOOKUP(U20,working!$R$3:$R$5,working!$S$3:$S$5,"0"))/15 -> 0
D21: 31 | E21: I can use Concatenation to manipulate strings | J21: Not Started | N21: Not Started | R21: Not Started | V21: =COUNTIF(J21:U21,"completed")/3 -> 0 | W21: =(_xlfn.XLOOKUP(M21,working!$R$3:$R$5,working!$S$3:$S$5,"0")+_xlfn.XLOOKUP(Q21,working!$R$3:$R$5,working!$S$3:$S$5,"0")+_xlfn.XLOOKUP(U21,working!$R$3:$R$5,working!$S$3:$S$5,"0"))/15 -> 0
D22: 32 | E22: I can use Slicing to manipulate strings | J22: Not Started | N22: Not Started | R22: Not Started | V22: =COUNTIF(J22:U22,"completed")/3 -> 0 | W22: =(_xlfn.XLOOKUP(M22,working!$R$3:$R$5,working!$S$3:$S$5,"0")+_xlfn.XLOOKUP(Q22,working!$R$3:$R$5,working!$S$3:$S$5,"0")+_xlfn.XLOOKUP(U22,working!$R$3:$R$5,working!$S$3:$S$5,"0"))/15 -> 0
D23: 33 | E23: I understand that arrays are fixed length or static structures | J23: Not Started | N23: Not Started | R23: Not Started | V23: =COUNTIF(J23:U23,"completed")/3 -> 0 | W23: =(_xlfn.XLOOKUP(M23,working!$R$3:$R$5,working!$S$3:$S$5,"0")+_xlfn.XLOOKUP(Q23,working!$R$3:$R$5,working!$S$3:$S$5,"0")+_xlfn.XLOOKUP(U23,working!$R$3:$R$5,working!$S$3:$S$5,"0"))/15 -> 0
D24: 34 | E24: I can use basic file handling operations and write these in ERL - Open | J24: Not Started | N24: Not Started | R24: Not Started | V24: =COUNTIF(J24:U24,"completed")/3 -> 0 | W24: =(_xlfn.XLOOKUP(M24,working!$R$3:$R$5,working!$S$3:$S$5,"0")+_xlfn.XLOOKUP(Q24,working!$R$3:$R$5,working!$S$3:$S$5,"0")+_xlfn.XLOOKUP(U24,working!$R$3:$R$5,working!$S$3:$S$5,"0"))/15 -> 0
D25: 35 | E25: I can use basic file handling operations and write these in ERL - Read | J25: Not Started | N25: Not Started | R25: Not Started | V25: =COUNTIF(J25:U25,"completed")/3 -> 0 | W25: =(_xlfn.XLOOKUP(M25,working!$R$3:$R$5,working!$S$3:$S$5,"0")+_xlfn.XLOOKUP(Q25,working!$R$3:$R$5,working!$S$3:$S$5,"0")+_xlfn.XLOOKUP(U25,working!$R$3:$R$5,working!$S$3:$S$5,"0"))/15 -> 0
D26: 36 | E26: I can use basic file handling operations and write these in ERL - Write | J26: Not Started | N26: Not Started | R26: Not Started | V26: =COUNTIF(J26:U26,"completed")/3 -> 0 | W26: =(_xlfn.XLOOKUP(M26,working!$R$3:$R$5,working!$S$3:$S$5,"0")+_xlfn.XLOOKUP(Q26,working!$R$3:$R$5,working!$S$3:$S$5,"0")+_xlfn.XLOOKUP(U26,working!$R$3:$R$5,working!$S$3:$S$5,"0"))/15 -> 0
D27: 37 | E27: I can use basic file handling operations and write these in ERL - Close | J27: Not Started | N27: Not Started | R27: Not Started | V27: =COUNTIF(J27:U27,"completed")/3 -> 0 | W27: =(_xlfn.XLOOKUP(M27,working!$R$3:$R$5,working!$S$3:$S$5,"0")+_xlfn.XLOOKUP(Q27,working!$R$3:$R$5,working!$S$3:$S$5,"0")+_xlfn.XLOOKUP(U27,working!$R$3:$R$5,working!$S$3:$S$5,"0"))/15 -> 0
D28: 38 | E28: I can use/write a function in a programming language/ERL | J28: Not Started | N28: Not Started | R28: Not Started | V28: =COUNTIF(J28:U28,"completed")/3 -> 0 | W28: =(_xlfn.XLOOKUP(M28,working!$R$3:$R$5,working!$S$3:$S$5,"0")+_xlfn.XLOOKUP(Q28,working!$R$3:$R$5,working!$S$3:$S$5,"0")+_xlfn.XLOOKUP(U28,working!$R$3:$R$5,working!$S$3:$S$5,"0"))/15 -> 0
D29: 39 | E29: I can use/write a procedure in a programming language/ERL | J29: Not Started | N29: Not Started | R29: Not Started | V29: =COUNTIF(J29:U29,"completed")/3 -> 0 | W29: =(_xlfn.XLOOKUP(M29,working!$R$3:$R$5,working!$S$3:$S$5,"0")+_xlfn.XLOOKUP(Q29,working!$R$3:$R$5,working!$S$3:$S$5,"0")+_xlfn.XLOOKUP(U29,working!$R$3:$R$5,working!$S$3:$S$5,"0"))/15 -> 0
D30: 40 | E30: I can use/write local variables/constants in a programming language/ERL | J30: Not Started | N30: Not Started | R30: Not Started | V30: =COUNTIF(J30:U30,"completed")/3 -> 0 | W30: =(_xlfn.XLOOKUP(M30,working!$R$3:$R$5,working!$S$3:$S$5,"0")+_xlfn.XLOOKUP(Q30,working!$R$3:$R$5,working!$S$3:$S$5,"0")+_xlfn.XLOOKUP(U30,working!$R$3:$R$5,working!$S$3:$S$5,"0"))/15 -> 0
D31: 41 | E31: I can use/write global variables/constants in a programming language/ERL | J31: Not Started | N31: Not Started | R31: Not Started | V31: =COUNTIF(J31:U31,"completed")/3 -> 0 | W31: =(_xlfn.XLOOKUP(M31,working!$R$3:$R$5,working!$S$3:$S$5,"0")+_xlfn.XLOOKUP(Q31,working!$R$3:$R$5,working!$S$3:$S$5,"0")+_xlfn.XLOOKUP(U31,working!$R$3:$R$5,working!$S$3:$S$5,"0"))/15 -> 0
D32: 42 | E32: I can use/write arrays in a programming language/ERL | J32: Not Started | N32: Not Started | R32: Not Started | V32: =COUNTIF(J32:U32,"completed")/3 -> 0 | W32: =(_xlfn.XLOOKUP(M32,working!$R$3:$R$5,working!$S$3:$S$5,"0")+_xlfn.XLOOKUP(Q32,working!$R$3:$R$5,working!$S$3:$S$5,"0")+_xlfn.XLOOKUP(U32,working!$R$3:$R$5,working!$S$3:$S$5,"0"))/15 -> 0
D33: 43 | E33: I can use/write a random number generation in a programming language/ERL | J33: Not Started | N33: Not Started | R33: Not Started | V33: =COUNTIF(J33:U33,"completed")/3 -> 0 | W33: =(_xlfn.XLOOKUP(M33,working!$R$3:$R$5,working!$S$3:$S$5,"0")+_xlfn.XLOOKUP(Q33,working!$R$3:$R$5,working!$S$3:$S$5,"0")+_xlfn.XLOOKUP(U33,working!$R$3:$R$5,working!$S$3:$S$5,"0"))/15 -> 0

Sheet 2.3
A2: Percentage of Course Revised | F2: =COUNTIF(J7:U21,"Completed")/45 -> 0 | H2: Not Sure | I2: =COUNTIF(J7:U21,H2)/45 -> 0.022222222 | J2: Getting There | K2: =COUNTIF(J7:U21,J2)/45 -> 0 | L2: Nailed It | M2: =COUNTIF(J7:U21,L2)/45 -> 0
A4: TOPIC | J4: Review 1 | N4: Review 2 | R4: Review 3 | V4: % Reviews Completed | W4: Average Confidence Level
J5: Status | K5: Revision Activity | L5: Date | M5: Confidence Level | N5: Status | O5: Revision Activity | P5: Date | Q5: Confidence Level | R5: Status | S5: Revision Activity | T5: Date | U5: Confidence Level
A6: Unit | D6: SL | E6: Section Title
A7: 2.3 – Producing robust programs | C7: 2.3.1 Defensive design | D7: 44 | E7: I can write SQL commands in a given scenario: Select From Where | J7: Started | K7: YouTube Videos | L7: 45328 | M7: Not Sure | N7: Not Started | R7: Not Started | V7: =COUNTIF(J7:U7,"completed")/3 -> 0 | W7: =(_xlfn.XLOOKUP(M7,working!$R$3:$R$5,working!$S$3:$S$5,"0")+_xlfn.XLOOKUP(Q7,working!$R$3:$R$5,working!$S$3:$S$5,"0")+_xlfn.XLOOKUP(U7,working!$R$3:$R$5,working!$S$3:$S$5,"0"))/15 -> 0.2
D8: 45 | E8: I understand and can explain anticipating misuse when considering defensive design | J8: Not Started | N8: Not Started | R8: Not Started | V8: =COUNTIF(J8:U8,"completed")/3 -> 0 | W8: =(_xlfn.XLOOKUP(M8,working!$R$3:$R$5,working!$S$3:$S$5,"0")+_xlfn.XLOOKUP(Q8,working!$R$3:$R$5,working!$S$3:$S$5,"0")+_xlfn.XLOOKUP(U8,working!$R$3:$R$5,working!$S$3:$S$5,"0"))/15 -> 0
D9: 46 | E9: I understand and can explain authentication when considering defensive design to confirm the identity of a user | J9: Not Started | N9: Not Started | R9: Not Started | V9: =COUNTIF(J9:U9,"completed")/3 -> 0 | W9: =(_xlfn.XLOOKUP(M9,working!$R$3:$R$5,working!$S$3:$S$5,"0")+_xlfn.XLOOKUP(Q9,working!$R$3:$R$5,working!$S$3:$S$5,"0")+_xlfn.XLOOKUP(U9,working!$R$3:$R$5,working!$S$3:$S$5,"0"))/15 -> 0
D10: 47 | E10: I understand the issues a programmer should consider to ensure that a program caters for all likely input values | J10: Not Started | N10: Not Started | R10: Not Started | V10: =COUNTIF(J10:U10,"completed")/3 -> 0 | W10: =(_xlfn.XLOOKUP(M10,working!$R$3:$R$5,working!$S$3:$S$5,"0")+_xlfn.XLOOKUP(Q10,working!$R$3:$R$5,working!$S$3:$S$5,"0")+_xlfn.XLOOKUP(U10,working!$R$3:$R$5,working!$S$3:$S$5,"0"))/15 -> 0
D11: 48 | E11: I understand and can explain how to deal with invalid data in a program | J11: Not Started | N11: Not Started | R11: Not Started | V11: =COUNTIF(J11:U11,"completed")/3 -> 0 | W11: =(_xlfn.XLOOKUP(M11,working!$R$3:$R$5,working!$S$3:$S$5,"0")+_xlfn.XLOOKUP(Q11,working!$R$3:$R$5,working!$S$3:$S$5,"0")+_xlfn.XLOOKUP(U11,working!$R$3:$R$5,working!$S$3:$S$5,"0"))/15 -> 0
D12: 49 | E12: I can explan the benefits of sub programs for program maintainability | J12: Not Started | N12: Not Started | R12: Not Started | V12: =COUNTIF(J12:U12,"completed")/3 -> 0 | W12: =(_xlfn.XLOOKUP(M12,working!$R$3:$R$5,working!$S$3:$S$5,"0")+_xlfn.XLOOKUP(Q12,working!$R$3:$R$5,working!$S$3:$S$5,"0")+_xlfn.XLOOKUP(U12,working!$R$3:$R$5,working!$S$3:$S$5,"0"))/15 -> 0
D13: 50 | E13: I can explan the benefits of naming conventions for program maintainability | J13: Not Started | N13: Not Started | R13: Not Started | V13: =COUNTIF(J13:U13,"completed")/3 -> 0 | W13: =(_xlfn.XLOOKUP(M13,working!$R$3:$R$5,working!$S$3:$S$5,"0")+_xlfn.XLOOKUP(Q13,working!$R$3:$R$5,working!$S$3:$S$5,"0")+_xlfn.XLOOKUP(U13,working!$R$3:$R$5,working!$S$3:$S$5,"0"))/15 -> 0
D14: 51 | E14: I can explan the benefits of indentions for program maintainability | J14: Not Started | N14: Not Started | R14: Not Started | V14: =COUNTIF(J14:U14,"completed")/3 -> 0 | W14: =(_xlfn.XLOOKUP(M14,working!$R$3:$R$5,working!$S$3:$S$5,"0")+_xlfn.XLOOKUP(Q14,working!$R$3:$R$5,working!$S$3:$S$5,"0")+_xlfn.XLOOKUP(U14,working!$R$3:$R$5,working!$S$3:$S$5,"0"))/15 -> 0
C15: 2.3.2 Testing | D15: 52 | E15: I can explan the benefits of commenting for program maintainability | J15: Not Started | N15: Not Started | R15: Not Started | V15: =COUNTIF(J15:U15,"completed")/3 -> 0 | W15: =(_xlfn.XLOOKUP(M15,working!$R$3:$R$5,working!$S$3:$S$5,"0")+_xlfn.XLOOKUP(Q15,working!$R$3:$R$5,working!$S$3:$S$5,"0")+_xlfn.XLOOKUP(U15,working!$R$3:$R$5,working!$S$3:$S$5,"0"))/15 -> 0
D16: 53 | E16: I can explain the purpose of testing during development - Iterative | J16: Not Started | N16: Not Started | R16: Not Started | V16: =COUNTIF(J16:U16,"completed")/3 -> 0 | W16: =(_xlfn.XLOOKUP(M16,working!$R$3:$R$5,working!$S$3:$S$5,"0")+_xlfn.XLOOKUP(Q16,working!$R$3:$R$5,working!$S$3:$S$5,"0")+_xlfn.XLOOKUP(U16,working!$R$3:$R$5,working!$S$3:$S$5,"0"))/15 -> 0
D17: 54 | E17: I can explain the purpose of testing after development - Final/Terminal | J17: Not Started | N17: Not Started | R17: Not Started | V17: =COUNTIF(J17:U17,"completed")/3 -> 0 | W17: =(_xlfn.XLOOKUP(M17,working!$R$3:$R$5,working!$S$3:$S$5,"0")+_xlfn.XLOOKUP(Q17,working!$R$3:$R$5,working!$S$3:$S$5,"0")+_xlfn.XLOOKUP(U17,working!$R$3:$R$5,working!$S$3:$S$5,"0"))/15 -> 0
D18: 55 | E18: I can identify syntax and logic errors | J18: Not Started | N18: Not Started | R18: Not Started | V18: =COUNTIF(J18:U18,"completed")/3 -> 0 | W18: =(_xlfn.XLOOKUP(M18,working!$R$3:$R$5,working!$S$3:$S$5,"0")+_xlfn.XLOOKUP(Q18,working!$R$3:$R$5,working!$S$3:$S$5,"0")+_xlfn.XLOOKUP(U18,working!$R$3:$R$5,working!$S$3:$S$5,"0"))/15 -> 0
D19: 56 | E19: In a given scenario I can identify Normal test data | J19: Not Started | N19: Not Started | R19: Not Started | V19: =COUNTIF(J19:U19,"completed")/3 -> 0 | W19: =(_xlfn.XLOOKUP(M19,working!$R$3:$R$5,working!$S$3:$S$5,"0")+_xlfn.XLOOKUP(Q19,working!$R$3:$R$5,working!$S$3:$S$5,"0")+_xlfn.XLOOKUP(U19,working!$R$3:$R$5,working!$S$3:$S$5,"0"))/15 -> 0
D20: 57 | E20: In a given scenario I can identify Boundary test data | J20: Not Started | N20: Not Started | R20: Not Started | V20: =COUNTIF(J20:U20,"completed")/3 -> 0 | W20: =(_xlfn.XLOOKUP(M20,working!$R$3:$R$5,working!$S$3:$S$5,"0")+_xlfn.XLOOKUP(Q20,working!$R$3:$R$5,working!$S$3:$S$5,"0")+_xlfn.XLOOKUP(U20,working!$R$3:$R$5,working!$S$3:$S$5,"0"))/15 -> 0
D21: 58 | E21: In a given scenario I can identify Invalid test data | J21: Not Started | N21: Not Started | R21: Not Started | V21: =COUNTIF(J21:U21,"completed")/3 -> 0 | W21: =(_xlfn.XLOOKUP(M21,working!$R$3:$R$5,working!$S$3:$S$5,"0")+_xlfn.XLOOKUP(Q21,working!$R$3:$R$5,working!$S$3:$S$5,"0")+_xlfn.XLOOKUP(U21,working!$R$3:$R$5,working!$S$3:$S$5,"0"))/15 -> 0

Sheet 2.4
A2: Percentage of Course Revised | F2: =COUNTIF(J7:U13,"Completed")/21 -> 0 | H2: Not Sure | I2: =COUNTIF(J7:U13,H2)/21 -> 0.047619048 | J2: Getting There | K2: =COUNTIF(J7:U13,J2)/21 -> 0 | L2: Nailed It | M2: =COUNTIF(J7:U13,L2)/21 -> 0
A4: TOPIC | J4: Review 1 | N4: Review 2 | R4: Review 3 | V4: % Reviews Completed | W4: Average Confidence Level
J5: Status | K5: Revision Activity | L5: Date | M5: Confidence Level | N5: Status | O5: Revision Activity | P5: Date | Q5: Confidence Level | R5: Status | S5: Revision Activity | T5: Date | U5: Confidence Level
A6: Unit | D6: SL | E6: Section Title
A7: 2.4 – Boolean logic | C7: 2.4.1 Boolean logic | D7: 59 | E7: I can complete a test plan for a given scenario | J7: Started | K7: YouTube Videos | L7: 45328 | M7: Not Sure | N7: Not Started | R7: Not Started | V7: =COUNTIF(J7:U7,"completed")/3 -> 0 | W7: =(_xlfn.XLOOKUP(M7,working!$R$3:$R$5,working!$S$3:$S$5,"0")+_xlfn.XLOOKUP(Q7,working!$R$3:$R$5,working!$S$3:$S$5,"0")+_xlfn.XLOOKUP(U7,working!$R$3:$R$5,working!$S$3:$S$5,"0"))/15 -> 0.2
D8: 60 | E8: I can create simple logic diagrams using the AND operator | J8: Not Started | N8: Not Started | R8: Not Started | V8: =COUNTIF(J8:U8,"completed")/3 -> 0 | W8: =(_xlfn.XLOOKUP(M8,working!$R$3:$R$5,working!$S$3:$S$5,"0")+_xlfn.XLOOKUP(Q8,working!$R$3:$R$5,working!$S$3:$S$5,"0")+_xlfn.XLOOKUP(U8,working!$R$3:$R$5,working!$S$3:$S$5,"0"))/15 -> 0
D9: 61 | E9: I can create simple logic diagrams using the OR operator | J9: Not Started | N9: Not Started | R9: Not Started | V9: =COUNTIF(J9:U9,"completed")/3 -> 0 | W9: =(_xlfn.XLOOKUP(M9,working!$R$3:$R$5,working!$S$3:$S$5,"0")+_xlfn.XLOOKUP(Q9,working!$R$3:$R$5,working!$S$3:$S$5,"0")+_xlfn.XLOOKUP(U9,working!$R$3:$R$5,working!$S$3:$S$5,"0"))/15 -> 0
D10: 62 | E10: I can create simple logic diagrams using the NOT operator | J10: Not Started | N10: Not Started | R10: Not Started | V10: =COUNTIF(J10:U10,"completed")/3 -> 0 | W10: =(_xlfn.XLOOKUP(M10,working!$R$3:$R$5,working!$S$3:$S$5,"0")+_xlfn.XLOOKUP(Q10,working!$R$3:$R$5,working!$S$3:$S$5,"0")+_xlfn.XLOOKUP(U10,working!$R$3:$R$5,working!$S$3:$S$5,"0"))/15 -> 0
D11: 63 | E11: I can create a truth table for a AND logic gate | J11: Not Started | N11: Not Started | R11: Not Started | V11: =COUNTIF(J11:U11,"completed")/3 -> 0 | W11: =(_xlfn.XLOOKUP(M11,working!$R$3:$R$5,working!$S$3:$S$5,"0")+_xlfn.XLOOKUP(Q11,working!$R$3:$R$5,working!$S$3:$S$5,"0")+_xlfn.XLOOKUP(U11,working!$R$3:$R$5,working!$S$3:$S$5,"0"))/15 -> 0
D12: 64 | E12: I can create a truth table for a OR logic gate | J12: Not Started | N12: Not Started | R12: Not Started | V12: =COUNTIF(J12:U12,"completed")/3 -> 0 | W12: =(_xlfn.XLOOKUP(M12,working!$R$3:$R$5,working!$S$3:$S$5,"0")+_xlfn.XLOOKUP(Q12,working!$R$3:$R$5,working!$S$3:$S$5,"0")+_xlfn.XLOOKUP(U12,working!$R$3:$R$5,working!$S$3:$S$5,"0"))/15 -> 0
D13: 65 | E13: I can create a truth table for a NOT logic gate | J13: Not Started | N13: Not Started | R13: Not Started | V13: =COUNTIF(J13:U13,"completed")/3 -> 0 | W13: =(_xlfn.XLOOKUP(M13,working!$R$3:$R$5,working!$S$3:$S$5,"0")+_xlfn.XLOOKUP(Q13,working!$R$3:$R$5,working!$S$3:$S$5,"0")+_xlfn.XLOOKUP(U13,working!$R$3:$R$5,working!$S$3:$S$5,"0"))/15 -> 0

Sheet 2.5
A2: Percentage of Course Revised | F2: =COUNTIF(J7:U14,"Completed")/24 -> 0 | H2: Not Sure | I2: =COUNTIF(J7:U14,H2)/24 -> 0.041666667 | J2: Getting There | K2: =COUNTIF(J7:U14,J2)/24 -> 0 | L2: Nailed It | M2: =COUNTIF(J7:U14,L2)/24 -> 0
A4: TOPIC | J4: Review 1 | N4: Review 2 | R4: Review 3 | V4: % Reviews Completed | W4: Average Confidence Level
J5: Status | K5: Revision Activity | L5: Date | M5: Confidence Level | N5: Status | O5: Revision Activity | P5: Date | Q5: Confidence Level | R5: Status | S5: Revision Activity | T5: Date | U5: Confidence Level
A6: Unit | D6: SL | E6: Section Title
A7: 2.5 – Programming languages and Integrated Development Environments | C7: 2.5.1 Languages | D7: 66 | E7: I can create a truth table and logic diagram using more than one gate | J7: Started | K7: YouTube Videos | L7: 45328 | M7: Not Sure | N7: Not Started | R7: Not Started | V7: =COUNTIF(J7:U7,"completed")/3 -> 0 | W7: =(_xlfn.XLOOKUP(M7,working!$R$3:$R$5,working!$S$3:$S$5,"0")+_xlfn.XLOOKUP(Q7,working!$R$3:$R$5,working!$S$3:$S$5,"0")+_xlfn.XLOOKUP(U7,working!$R$3:$R$5,working!$S$3:$S$5,"0"))/15 -> 0.2
D8: 67 | E8: I can describe the characteristics and purpose of high-level languages | J8: Not Started | N8: Not Started | R8: Not Started | V8: =COUNTIF(J8:U8,"completed")/3 -> 0 | W8: =(_xlfn.XLOOKUP(M8,working!$R$3:$R$5,working!$S$3:$S$5,"0")+_xlfn.XLOOKUP(Q8,working!$R$3:$R$5,working!$S$3:$S$5,"0")+_xlfn.XLOOKUP(U8,working!$R$3:$R$5,working!$S$3:$S$5,"0"))/15 -> 0
D9: 68 | E9: I can describe the characteristics and purpose of low-level languages | J9: Not Started | N9: Not Started | R9: Not Started | V9: =COUNTIF(J9:U9,"completed")/3 -> 0 | W9: =(_xlfn.XLOOKUP(M9,working!$R$3:$R$5,working!$S$3:$S$5,"0")+_xlfn.XLOOKUP(Q9,working!$R$3:$R$5,working!$S$3:$S$5,"0")+_xlfn.XLOOKUP(U9,working!$R$3:$R$5,working!$S$3:$S$5,"0"))/15 -> 0
D10: 69 | E10: I can descirbe the differences between high-level and low-level languages | J10: Not Started | N10: Not Started | R10: Not Started | V10: =COUNTIF(J10:U10,"completed")/3 -> 0 | W10: =(_xlfn.XLOOKUP(M10,working!$R$3:$R$5,working!$S$3:$S$5,"0")+_xlfn.XLOOKUP(Q10,working!$R$3:$R$5,working!$S$3:$S$5,"0")+_xlfn.XLOOKUP(U10,working!$R$3:$R$5,working!$S$3:$S$5,"0"))/15 -> 0
D11: 70 | E11: I can explain the purpose and need of translators | J11: Not Started | N11: Not Started | R11: Not Started | V11: =COUNTIF(J11:U11,"completed")/3 -> 0 | W11: =(_xlfn.XLOOKUP(M11,working!$R$3:$R$5,working!$S$3:$S$5,"0")+_xlfn.XLOOKUP(Q11,working!$R$3:$R$5,working!$S$3:$S$5,"0")+_xlfn.XLOOKUP(U11,working!$R$3:$R$5,working!$S$3:$S$5,"0"))/15 -> 0
D12: 71 | E12: I can describe the characteristics of a compiler | J12: Not Started | N12: Not Started | R12: Not Started | V12: =COUNTIF(J12:U12,"completed")/3 -> 0 | W12: =(_xlfn.XLOOKUP(M12,working!$R$3:$R$5,working!$S$3:$S$5,"0")+_xlfn.XLOOKUP(Q12,working!$R$3:$R$5,working!$S$3:$S$5,"0")+_xlfn.XLOOKUP(U12,working!$R$3:$R$5,working!$S$3:$S$5,"0"))/15 -> 0
D13: 72 | E13: I can describe the characteristics of an interpreter | J13: Not Started | N13: Not Started | R13: Not Started | V13: =COUNTIF(J13:U13,"completed")/3 -> 0 | W13: =(_xlfn.XLOOKUP(M13,working!$R$3:$R$5,working!$S$3:$S$5,"0")+_xlfn.XLOOKUP(Q13,working!$R$3:$R$5,working!$S$3:$S$5,"0")+_xlfn.XLOOKUP(U13,working!$R$3:$R$5,working!$S$3:$S$5,"0"))/15 -> 0
D14: 73 | E14: I can describe the differences, benefits and drawbacks of using a compiler or an interpreter | J14: Not Started | N14: Not Started | R14: Not Started | V14: =COUNTIF(J14:U14,"completed")/3 -> 0 | W14: =(_xlfn.XLOOKUP(M14,working!$R$3:$R$5,working!$S$3:$S$5,"0")+_xlfn.XLOOKUP(Q14,working!$R$3:$R$5,working!$S$3:$S$5,"0")+_xlfn.XLOOKUP(U14,working!$R$3:$R$5,working!$S$3:$S$5,"0"))/15 -> 0

Sheet 3.0
A2: Percentage of Course Revised | F2: =COUNTIF(J7:U35,"Completed")/87 -> 0 | H2: Not Sure | I2: =COUNTIF(J7:U35,H2)/87 -> 0.011494253 | J2: Getting There | K2: =COUNTIF(J7:U35,J2)/87 -> 0 | L2: Nailed It | M2: =COUNTIF(J7:U35,L2)/87 -> 0
A4: TOPIC | J4: Review 1 | N4: Review 2 | R4: Review 3 | V4: % Reviews Completed | W4: Average Confidence Level
J5: Status | K5: Revision Activity | L5: Date | M5: Confidence Level | N5: Status | O5: Revision Activity | P5: Date | Q5: Confidence Level | R5: Status | S5: Revision Activity | T5: Date | U5: Confidence Level
A6: Unit | D6: SL | E6: Section Title
A7: 3. OCR Exam Reference Language (ERL) | D7: 74 | E7: I can explain the tools and features of an IDE to aid a programmer: Editors Error diagnostics Run-time environment Translators | J7: Started | K7: YouTube Videos | L7: 45328 | M7: Not Sure | N7: Not Started | R7: Not Started | V7: =COUNTIF(J7:U7,"completed")/3 -> 0 | W7: =(_xlfn.XLOOKUP(M7,working!$R$3:$R$5,working!$S$3:$S$5,"0")+_xlfn.XLOOKUP(Q7,working!$R$3:$R$5,working!$S$3:$S$5,"0")+_xlfn.XLOOKUP(U7,working!$R$3:$R$5,working!$S$3:$S$5,"0"))/15 -> 0.2
D8: 75 | E8: I can write comments // | J8: Not Started | N8: Not Started | R8: Not Started | V8: =COUNTIF(J8:U8,"completed")/3 -> 0 | W8: =(_xlfn.XLOOKUP(M8,working!$R$3:$R$5,working!$S$3:$S$5,"0")+_xlfn.XLOOKUP(Q8,working!$R$3:$R$5,working!$S$3:$S$5,"0")+_xlfn.XLOOKUP(U8,working!$R$3:$R$5,working!$S$3:$S$5,"0"))/15 -> 0
D9: 76 | E9: I can assign values x = 3 global userID = "customer1" | J9: Not Started | N9: Not Started | R9: Not Started | V9: =COUNTIF(J9:U9,"completed")/3 -> 0 | W9: =(_xlfn.XLOOKUP(M9,working!$R$3:$R$5,working!$S$3:$S$5,"0")+_xlfn.XLOOKUP(Q9,working!$R$3:$R$5,working!$S$3:$S$5,"0")+_xlfn.XLOOKUP(U9,working!$R$3:$R$5,working!$S$3:$S$5,"0"))/15 -> 0
D10: 77 | E10: I can write inputs and outputs myName = input("Please enter a name")) print(myArray[2,3]) | J10: Not Started | N10: Not Started | R10: Not Started | V10: =COUNTIF(J10:U10,"completed")/3 -> 0 | W10: =(_xlfn.XLOOKUP(M10,working!$R$3:$R$5,working!$S$3:$S$5,"0")+_xlfn.XLOOKUP(Q10,working!$R$3:$R$5,working!$S$3:$S$5,"0")+_xlfn.XLOOKUP(U10,working!$R$3:$R$5,working!$S$3:$S$5,"0"))/15 -> 0
C11: iteration | D11: 78 | E11: I can convert to another data type: str(345) int("3") float("4.52") real("4.52") bool("True") | J11: Not Started | N11: Not Started | R11: Not Started | V11: =COUNTIF(J11:U11,"completed")/3 -> 0 | W11: =(_xlfn.XLOOKUP(M11,working!$R$3:$R$5,working!$S$3:$S$5,"0")+_xlfn.XLOOKUP(Q11,working!$R$3:$R$5,working!$S$3:$S$5,"0")+_xlfn.XLOOKUP(U11,working!$R$3:$R$5,working!$S$3:$S$5,"0"))/15 -> 0
D12: 79 | E12: I can write a FOR loop (count controlled) for i=10 to 0 step -1 print(i) next i This will print the numbers from 10 to 0 inclusive, i.e. 10, 9, 8,…, | J12: Not Started | N12: Not Started | R12: Not Started | V12: =COUNTIF(J12:U12,"completed")/3 -> 0 | W12: =(_xlfn.XLOOKUP(M12,working!$R$3:$R$5,working!$S$3:$S$5,"0")+_xlfn.XLOOKUP(Q12,working!$R$3:$R$5,working!$S$3:$S$5,"0")+_xlfn.XLOOKUP(U12,working!$R$3:$R$5,working!$S$3:$S$5,"0"))/15 -> 0
D13: 80 | E13: I can write a WHILE loop (condition controlled) while answer != "Correct" answer = input("New answer") endwhile Will loop until the user inputs the string “Correct”. Check condition is carried out before entering loop | J13: Not Started | N13: Not Started | R13: Not Started | V13: =COUNTIF(J13:U13,"completed")/3 -> 0 | W13: =(_xlfn.XLOOKUP(M13,working!$R$3:$R$5,working!$S$3:$S$5,"0")+_xlfn.XLOOKUP(Q13,working!$R$3:$R$5,working!$S$3:$S$5,"0")+_xlfn.XLOOKUP(U13,working!$R$3:$R$5,working!$S$3:$S$5,"0"))/15 -> 0
C14: selection | D14: 81 | E14: I can write a DO WHILE loop (condition controlled) do answer = input("New answer") until answer == "Correct" Will loop until the user inputs the string “Correct”. Loop iterates once before a check is carried out. | J14: Not Started | N14: Not Started | R14: Not Started | V14: =COUNTIF(J14:U14,"completed")/3 -> 0 | W14: =(_xlfn.XLOOKUP(M14,working!$R$3:$R$5,working!$S$3:$S$5,"0")+_xlfn.XLOOKUP(Q14,working!$R$3:$R$5,working!$S$3:$S$5,"0")+_xlfn.XLOOKUP(U14,working!$R$3:$R$5,working!$S$3:$S$5,"0"))/15 -> 0
D15: 82 | E15: I can write a IF-THEN -ELSE selection if answer == "Yes" then print("Correct") elseif answer == "No" then print("Wrong") else print("Error") endif | J15: Not Started | N15: Not Started | R15: Not Started | V15: =COUNTIF(J15:U15,"completed")/3 -> 0 | W15: =(_xlfn.XLOOKUP(M15,working!$R$3:$R$5,working!$S$3:$S$5,"0")+_xlfn.XLOOKUP(Q15,working!$R$3:$R$5,working!$S$3:$S$5,"0")+_xlfn.XLOOKUP(U15,working!$R$3:$R$5,working!$S$3:$S$5,"0"))/15 -> 0
D16: 83 | E16: I can write a CASE SELECT statement if answer == "Yes" then print("Correct") elseif answer == "No" then print("Wrong") else print("Error") endif | J16: Not Started | N16: Not Started | R16: Not Started | V16: =COUNTIF(J16:U16,"completed")/3 -> 0 | W16: =(_xlfn.XLOOKUP(M16,working!$R$3:$R$5,working!$S$3:$S$5,"0")+_xlfn.XLOOKUP(Q16,working!$R$3:$R$5,working!$S$3:$S$5,"0")+_xlfn.XLOOKUP(U16,working!$R$3:$R$5,working!$S$3:$S$5,"0"))/15 -> 0
C17: String handling/operations | D17: 84 | E17: I can write a SWITCH SELECT statement switch day : case "Sat": print("Saturday") case "Sun": print("Sunday") default: print("Weekday") endswitch | J17: Not Started | N17: Not Started | R17: Not Started | V17: =COUNTIF(J17:U17,"completed")/3 -> 0 | W17: =(_xlfn.XLOOKUP(M17,working!$R$3:$R$5,working!$S$3:$S$5,"0")+_xlfn.XLOOKUP(Q17,working!$R$3:$R$5,working!$S$3:$S$5,"0")+_xlfn.XLOOKUP(U17,working!$R$3:$R$5,working!$S$3:$S$5,"0"))/15 -> 0
D18: 85 | E18: I can use string length operation .length subject = "ComputerScience" subject.length gives the value 15 | J18: Not Started | N18: Not Started | R18: Not Started | V18: =COUNTIF(J18:U18,"completed")/3 -> 0 | W18: =(_xlfn.XLOOKUP(M18,working!$R$3:$R$5,working!$S$3:$S$5,"0")+_xlfn.XLOOKUP(Q18,working!$R$3:$R$5,working!$S$3:$S$5,"0")+_xlfn.XLOOKUP(U18,working!$R$3:$R$5,working!$S$3:$S$5,"0"))/15 -> 0
D19: 86 | E19: I can use substrings .substring(x , i) .left(i) .right(i) subject.substring(3,5) returns "puter" subject.left(4) returns "Comp" subject.right(3) returns "nce" | J19: Not Started | N19: Not Started | R19: Not Started | V19: =COUNTIF(J19:U19,"completed")/3 -> 0 | W19: =(_xlfn.XLOOKUP(M19,working!$R$3:$R$5,working!$S$3:$S$5,"0")+_xlfn.XLOOKUP(Q19,working!$R$3:$R$5,working!$S$3:$S$5,"0")+_xlfn.XLOOKUP(U19,working!$R$3:$R$5,working!$S$3:$S$5,"0"))/15 -> 0
D20: 87 | E20: I understand tthat x is starting index; i is number of characters; 0 indexed | J20: Not Started | N20: Not Started | R20: Not Started | V20: =COUNTIF(J20:U20,"completed")/3 -> 0 | W20: =(_xlfn.XLOOKUP(M20,working!$R$3:$R$5,working!$S$3:$S$5,"0")+_xlfn.XLOOKUP(Q20,working!$R$3:$R$5,working!$S$3:$S$5,"0")+_xlfn.XLOOKUP(U20,working!$R$3:$R$5,working!$S$3:$S$5,"0"))/15 -> 0
D21: 88 | E21: I can use concatenation to manipulate strings print(stringA + stringB) print("Hello, your name is: " + name) | J21: Not Started | N21: Not Started | R21: Not Started | V21: =COUNTIF(J21:U21,"completed")/3 -> 0 | W21: =(_xlfn.XLOOKUP(M21,working!$R$3:$R$5,working!$S$3:$S$5,"0")+_xlfn.XLOOKUP(Q21,working!$R$3:$R$5,working!$S$3:$S$5,"0")+_xlfn.XLOOKUP(U21,working!$R$3:$R$5,working!$S$3:$S$5,"0"))/15 -> 0
D22: 89 | E22: I can use the uppercase operation .upper subject.upper gives "COMPUTERSCIENCE" | J22: Not Started | N22: Not Started | R22: Not Started | V22: =COUNTIF(J22:U22,"completed")/3 -> 0 | W22: =(_xlfn.XLOOKUP(M22,working!$R$3:$R$5,working!$S$3:$S$5,"0")+_xlfn.XLOOKUP(Q22,working!$R$3:$R$5,working!$S$3:$S$5,"0")+_xlfn.XLOOKUP(U22,working!$R$3:$R$5,working!$S$3:$S$5,"0"))/15 -> 0
D23: 90 | E23: I can use the lowercase operation .lower subject.lower gives "computerscience" | J23: Not Started | N23: Not Started | R23: Not Started | V23: =COUNTIF(J23:U23,"completed")/3 -> 0 | W23: =(_xlfn.XLOOKUP(M23,working!$R$3:$R$5,working!$S$3:$S$5,"0")+_xlfn.XLOOKUP(Q23,working!$R$3:$R$5,working!$S$3:$S$5,"0")+_xlfn.XLOOKUP(U23,working!$R$3:$R$5,working!$S$3:$S$5,"0"))/15 -> 0
C24: File handling | D24: 91 | E24: I can use the ASCII conversion ASC(…) ASC(A) returns 65 (numerical) CHR(…) CHR(97) returns ‘a’ (char) | J24: Not Started | N24: Not Started | R24: Not Started | V24: =COUNTIF(J24:U24,"completed")/3 -> 0 | W24: =(_xlfn.XLOOKUP(M24,working!$R$3:$R$5,working!$S$3:$S$5,"0")+_xlfn.XLOOKUP(Q24,working!$R$3:$R$5,working!$S$3:$S$5,"0")+_xlfn.XLOOKUP(U24,working!$R$3:$R$5,working!$S$3:$S$5,"0"))/15 -> 0
D25: 92 | E25: I can use write/use the following commands when handling a file: open(…) myFile = open("sample.txt") | J25: Not Started | N25: Not Started | R25: Not Started | V25: =COUNTIF(J25:U25,"completed")/3 -> 0 | W25: =(_xlfn.XLOOKUP(M25,working!$R$3:$R$5,working!$S$3:$S$5,"0")+_xlfn.XLOOKUP(Q25,working!$R$3:$R$5,working!$S$3:$S$5,"0")+_xlfn.XLOOKUP(U25,working!$R$3:$R$5,working!$S$3:$S$5,"0"))/15 -> 0
D26: 93 | E26: I can use write/use the following commands when handling a file: .close() myFile.close() | J26: Not Started | N26: Not Started | R26: Not Started | V26: =COUNTIF(J26:U26,"completed")/3 -> 0 | W26: =(_xlfn.XLOOKUP(M26,working!$R$3:$R$5,working!$S$3:$S$5,"0")+_xlfn.XLOOKUP(Q26,working!$R$3:$R$5,working!$S$3:$S$5,"0")+_xlfn.XLOOKUP(U26,working!$R$3:$R$5,working!$S$3:$S$5,"0"))/15 -> 0
D27: 94 | E27: I can use write/use the following commands when handling a file: .readLine() myFile.readLine() returnsthe next line in the file | J27: Not Started | N27: Not Started | R27: Not Started | V27: =COUNTIF(J27:U27,"completed")/3 -> 0 | W27: =(_xlfn.XLOOKUP(M27,working!$R$3:$R$5,working!$S$3:$S$5,"0")+_xlfn.XLOOKUP(Q27,working!$R$3:$R$5,working!$S$3:$S$5,"0")+_xlfn.XLOOKUP(U27,working!$R$3:$R$5,working!$S$3:$S$5,"0"))/15 -> 0
D28: 95 | E28: I can use write/use the following commands when handling a file: .writeLine(…) myFile.writeLine("Add new line") | J28: Not Started | N28: Not Started | R28: Not Started | V28: =COUNTIF(J28:U28,"completed")/3 -> 0 | W28: =(_xlfn.XLOOKUP(M28,working!$R$3:$R$5,working!$S$3:$S$5,"0")+_xlfn.XLOOKUP(Q28,working!$R$3:$R$5,working!$S$3:$S$5,"0")+_xlfn.XLOOKUP(U28,working!$R$3:$R$5,working!$S$3:$S$5,"0"))/15 -> 0
C29: Arrays | D29: 96 | E29: I can use write/use the following commands when handling a file: .endOfFile() while NOT myFile.endOfFile() print(myFile.readLine()) endwhile newFile("myText.txt") | J29: Not Started | N29: Not Started | R29: Not Started | V29: =COUNTIF(J29:U29,"completed")/3 -> 0 | W29: =(_xlfn.XLOOKUP(M29,working!$R$3:$R$5,working!$S$3:$S$5,"0")+_xlfn.XLOOKUP(Q29,working!$R$3:$R$5,working!$S$3:$S$5,"0")+_xlfn.XLOOKUP(U29,working!$R$3:$R$5,working!$S$3:$S$5,"0"))/15 -> 0
D30: 97 | E30: I can use the declaration command in arrays array colours[…] array colours[5] Creates 1D array with 5 elements (index 0 to 4). | J30: Not Started | N30: Not Started | R30: Not Started | V30: =COUNTIF(J30:U30,"completed")/3 -> 0 | W30: =(_xlfn.XLOOKUP(M30,working!$R$3:$R$5,working!$S$3:$S$5,"0")+_xlfn.XLOOKUP(Q30,working!$R$3:$R$5,working!$S$3:$S$5,"0")+_xlfn.XLOOKUP(U30,working!$R$3:$R$5,working!$S$3:$S$5,"0"))/15 -> 0
C31: Sub programs | D31: 98 | E31: I can use the assignment command in arrays names[…] = … names[3] = "Noni" | J31: Not Started | N31: Not Started | R31: Not Started | V31: =COUNTIF(J31:U31,"completed")/3 -> 0 | W31: =(_xlfn.XLOOKUP(M31,working!$R$3:$R$5,working!$S$3:$S$5,"0")+_xlfn.XLOOKUP(Q31,working!$R$3:$R$5,working!$S$3:$S$5,"0")+_xlfn.XLOOKUP(U31,working!$R$3:$R$5,working!$S$3:$S$5,"0"))/15 -> 0
D32: 99 | E32: I can write a sub program procedure in a programming language/ERL procedure name(…) endprocedure procedure printName(name) print(name) endprocedure | J32: Not Started | N32: Not Started | R32: Not Started | V32: =COUNTIF(J32:U32,"completed")/3 -> 0 | W32: =(_xlfn.XLOOKUP(M32,working!$R$3:$R$5,working!$S$3:$S$5,"0")+_xlfn.XLOOKUP(Q32,working!$R$3:$R$5,working!$S$3:$S$5,"0")+_xlfn.XLOOKUP(U32,working!$R$3:$R$5,working!$S$3:$S$5,"0"))/15 -> 0
D33: 100 | E33: I can write a sub program procedure in a programming language/ERL to call a procedure procedure(parameters) agePass() | J33: Not Started | N33: Not Started | R33: Not Started | V33: =COUNTIF(J33:U33,"completed")/3 -> 0 | W33: =(_xlfn.XLOOKUP(M33,working!$R$3:$R$5,working!$S$3:$S$5,"0")+_xlfn.XLOOKUP(Q33,working!$R$3:$R$5,working!$S$3:$S$5,"0")+_xlfn.XLOOKUP(U33,working!$R$3:$R$5,working!$S$3:$S$5,"0"))/15 -> 0
D34: 101 | E34: I can write a function procedure in a programming language/ERL function squared(number) squared = number^2 return squared endfunction | J34: Not Started | N34: Not Started | R34: Not Started | V34: =COUNTIF(J34:U34,"completed")/3 -> 0 | W34: =(_xlfn.XLOOKUP(M34,working!$R$3:$R$5,working!$S$3:$S$5,"0")+_xlfn.XLOOKUP(Q34,working!$R$3:$R$5,working!$S$3:$S$5,"0")+_xlfn.XLOOKUP(U34,working!$R$3:$R$5,working!$S$3:$S$5,"0"))/15 -> 0
C35: Random Numbers | D35: 102 | E35: I can write the procedure for calling a function function(parameters) print(squared(4)) newValue = squared(4) Note: Function returns should be stored in a variable if needed for later use in a program. | J35: Not Started | N35: Not Started | R35: Not Started | V35: =COUNTIF(J35:U35,"completed")/3 -> 0 | W35: =(_xlfn.XLOOKUP(M35,working!$R$3:$R$5,working!$S$3:$S$5,"0")+_xlfn.XLOOKUP(Q35,working!$R$3:$R$5,working!$S$3:$S$5,"0")+_xlfn.XLOOKUP(U35,working!$R$3:$R$5,working!$S$3:$S$5,"0"))/15 -> 0

Sheet working
B1: paper 1 | C1: Revision method | F1: paper 1 | G1: topic wise revision count
B2: =MAX(Dashboard!J44:J58) -> 1 | C2: =_xlfn.XLOOKUP(B2,Dashboard!J44:J58,Dashboard!C44:C58,"") -> Active Recall Q | F2: =MAX(Dashboard!F81:F98) -> 0 | G2: =_xlfn.XLOOKUP(F2,Dashboard!F81:F98,Dashboard!C81:C98,"") -> 1.1.1 Architecture of the CPU | M2: =MAX(Dashboard!I39:K39) -> 0.66666667 | P2: do not edit or delete
B3: =MIN(Dashboard!J44:J58) -> 0 | C3: =_xlfn.XLOOKUP(B3,Dashboard!J43:J58,Dashboard!C43:C58,"") -> Coded Small Algorithm | F3: =MIN(Dashboard!F81:F98) -> 0 | G3: =_xlfn.XLOOKUP(F3,Dashboard!F81:F98,Dashboard!C81:C98,"") -> 1.1.1 Architecture of the CPU | M3: =_xlfn.XLOOKUP(M2,Dashboard!I39:K39,Dashboard!I32:K32,"") -> Getting There | P3: Not Started | Q3: Revision Notes | R3: Not Sure | S3: 3 | U3: 45427 | V3: =U3-TODAY() -> 29 | W3: paper1
B4: Complete Count % | C4: =Paper1!F2 -> 0 | P4: Started | Q4: Concept Map | R4: Getting There | S4: 4 | U4: 45433 | V4: =U4-TODAY() -> 35 | W4: paper2
B5: Missing | C5: =1-C4 -> 1 | P5: Completed | Q5: Flashcard Review | R5: Nailed It | S5: 5
Q6: Active Recall Q
Q7: YouTube Videos
B8: paper 2 | C8: Revision method | F8: paper 2 | G8: Section Title | M8: =MAX(Dashboard!N39:P39) -> 0.57142857 | Q8: Blurting
B9: =MAX(Dashboard!J62:J76) -> 5 | C9: =_xlfn.XLOOKUP(B9,Dashboard!J62:J76,Dashboard!C62:C76,"") -> YouTube Videos | E9: max | F9: =MAX(Dashboard!D103:E204) -> 1 | G9: =_xlfn.XLOOKUP(F9,G14:G115,I14:I115,"") -> Use of abstraction method to define and refine problems | M9: =_xlfn.XLOOKUP(M8,Dashboard!N39:P39,Dashboard!N32:P32,"") -> Not sure | Q9: Exam Questions
B10: =MIN(Dashboard!J62:J76) -> 0 | C10: =_xlfn.XLOOKUP(B10,Dashboard!J62:J76,Dashboard!C62:C76,"") -> Blurting | E10: min | F10: =MIN(Dashboard!D103:E204) -> 0 | G10: =_xlfn.XLOOKUP(F10,G14:G115,I14:I115,"") -> Use of decomposition to to define and refine problems | Q10: Organise Notes
B11: complete % | C11: =Paper2!F2 -> 0.0065359477 | Q11: Learning Mark Scheme
B12: Missing | C12: =1-C11 -> 0.99346405 | F12: topic wise revision count | Q12: Spider Diagram
F13: SL | G13: Number of Review Completed | H13: SL | I13: Section Title | J13: . | M13: Unit | N13: Complete % | Q13: Knowledge Organiser
F14: 1 | G14: =COUNTIF(Paper2!J7:U7,"Completed") -> 1 | H14: 1 | I14: Use of abstraction method to define and refine problems | J14: . | M14: Unit 1.1 | N14: {='1.1'!F2:F2} -> 0 | Q14: Coded Small Algorithm
F15: 2 | G15: =COUNTIF(Paper2!J8:U8,"Completed") -> 0 | H15: 2 | I15: Use of decomposition to to define and refine problems | J15: . | M15: Unit 1.2 | N15: ='1.2'!F2 -> 0 | Q15: Write Algorithm With Bullet Points
F16: 3 | G16: =COUNTIF(Paper2!J9:U9,"Completed") -> 0 | H16: 3 | I16: Use of algorithmetic thinking to define and refine problems | J16: . | M16: Unit 1.3 | N16: ='1.3'!F2 -> 0 | Q16: Debugged Coding
F17: 4 | G17: =COUNTIF(Paper2!J10:U10,"Completed") -> 0 | H17: 4 | I17: Identify the inputs, processes, and outputs for a problem | J17: . | M17: Unit 1.4 | N17: ='1.4'!F2 -> 0 | Q17: Reading Textbook
C18: 45323 | F18: 5 | G18: =COUNTIF(Paper2!J11:U11,"Completed") -> 0 | H18: 5 | I18: Create, interpret, correct, complete, and refine algorithms using Pseudocode | J18: . | M18: Unit 1.5 | N18: ='1.5'!F2 -> 0
C19: 45324 | F19: 6 | G19: =COUNTIF(Paper2!J12:U12,"Completed") -> 0 | H19: 6 | I19: Create, interpret, correct, complete, and refine algorithms using Flowcharts | J19: . | M19: Unit 1.6 | N19: ='1.6'!F2 -> 0
C20: 45325 | F20: 7 | G20: =COUNTIF(Paper2!J13:U13,"Completed") -> 0 | H20: 7 | I20: Create, interpret, correct, complete, and refine algorithms using Exam Reference Language | J20: .
C21: 45326 | F21: 8 | G21: =COUNTIF(Paper2!J14:U14,"Completed") -> 0 | H21: 8 | I21: Identify syntax errors in code | J21: .
C22: 45327 | F22: 9 | G22: =COUNTIF(Paper2!J15:U15,"Completed") -> 0 | H22: 9 | I22: Identify logic errors in code | J22: . | M22: Unit | N22: Complete %
C23: 45328 | F23: 10 | G23: =COUNTIF(Paper2!J16:U16,"Completed") -> 0 | H23: 10 | I23: Create a trace table to follow an algorithm | J23: . | M23: Unit 2.1 | N23: ='2.1'!F2 -> 0.020833333
C24: 45329 | F24: 11 | G24: =COUNTIF(Paper2!J17:U17,"Completed") -> 0 | H24: 11 | I24: Complete a trace table to follow an algorithm | J24: . | M24: Unit 2.2 | N24: ='2.2'!F2 -> 0.012345679
C25: 45330 | F25: 12 | G25: =COUNTIF(Paper2!J18:U18,"Completed") -> 0 | H25: 12 | I25: Apply a binary search to a problem | J25: . | M25: Unit 2.3 | N25: ='2.3'!F2 -> 0
C26: 45331 | F26: 13 | G26: =COUNTIF(Paper2!J19:U19,"Completed") -> 0 | H26: 13 | I26: Apply a linear search to a problem | J26: . | M26: Unit 2.4 | N26: ='2.4'!F2 -> 0
C27: 45332 | F27: 14 | G27: =COUNTIF(Paper2!J20:U20,"Completed") -> 0 | H27: 14 | I27: Apply a bubble sort to a problem | J27: . | M27: Unit 2.5 | N27: ='2.5'!F2 -> 0
C28: 45333 | F28: 15 | G28: =COUNTIF(Paper2!J21:U21,"Completed") -> 0 | H28: 15 | I28: Apply a merge sort to a problem | J28: . | M28: Unit 3.0 | N28: ='3.0'!F2 -> 0
C29: 45334 | F29: 16 | G29: =COUNTIF(Paper2!J22:U22,"Completed") -> 0 | H29: 16 | I29: Apply an insertion sort to a problem | J29: .
C30: 45335 | F30: 17 | G30: =COUNTIF(Paper2!J23:U23,"Completed") -> 1 | H30: 17 | I30: I can use/identify variables in a programming language/ERL | J30: .
C31: 45336 | F31: 18 | G31: =COUNTIF(Paper2!J24:U24,"Completed") -> 0 | H31: 18 | I31: I can use/identify constants in a programming language/ERL | J31: .
C32: 45337 | F32: 19 | G32: =COUNTIF(Paper2!J25:U25,"Completed") -> 0 | H32: 19 | I32: I can use/identify constants in a programming language/ERL | J32: .
C33: 45338 | F33: 20 | G33: =COUNTIF(Paper2!J26:U26,"Completed") -> 0 | H33: 20 | I33: I can use /identify operators in a programming language/ERL | J33: .
C34: 45339 | F34: 21 | G34: =COUNTIF(Paper2!J27:U27,"Completed") -> 0 | H34: 21 | I34: I can use/identify inputs/outputs in a programming language/ERL | J34: .
C35: 45340 | F35: 22 | G35: =COUNTIF(Paper2!J28:U28,"Completed") -> 0 | H35: 22 | I35: I can use sequences to control the flow of a program | J35: .
C36: 45341 | F36: 23 | G36: =COUNTIF(Paper2!J29:U29,"Completed") -> 0 | H36: 23 | I36: I can use selection to control the flow of a program | J36: .
C37: 45342 | F37: 24 | G37: =COUNTIF(Paper2!J30:U30,"Completed") -> 0 | H37: 24 | I37: I can use iteration to control the flow of a program | J37: .
C38: 45343 | F38: 25 | G38: =COUNTIF(Paper2!J31:U31,"Completed") -> 0 | H38: 25 | I38: I can use + - * / operators | J38: .
C39: 45344 | F39: 26 | G39: =COUNTIF(Paper2!J32:U32,"Completed") -> 0 | H39: 26 | I39: I understand and can use Modulus | J39: .
C40: 45345 | F40: 27 | G40: =COUNTIF(Paper2!J33:U33,"Completed") -> 0 | H40: 27 | I40: I understand and can use DIV | J40: .
... C115: 45420 | F115: 102 | G115: =COUNTIF(Paper2!J108:U108,"Completed") -> 0 | H115: 102 | I115: I can write the procedure for calling a function function(parameters) print(squared(4)) newValue = squared(4) Note: Function returns should be stored in a variable if needed for later use in a program. | J115: .
C116: 45421
C117: 45422
C118: 45423
C119: 45424
C120: 45425
C121: 45426
C122: 45427
C123: 45428
C124: 45429
C125: 45430
C126: 45431
C127: 45432
... C564: 45869
