Workbook

Sheet Thank You
A1: Hope the Revision Tracker is rocking your study game! If it's been a game-changer for you, we'd love to hear about it on Google Reviews. Your quick testimonial on Google Review could help a fellow student out big time. | J1: https://g.page/r/CdSBsfxLx4GCEAI/review
A2: As a thanks, subscribe to our mailing list for freebies to level up your study vibes. 🌟 | I2: https://stemtutoring.typeform.com/email

Sheet Dashboard
B31: Paper 1 | E31: Paper 2 | H31: Paper 1 | M31: Paper 2
B32: Unit | C32: Total Completed Review | E32: Unit | F32: Total Completed Review | H32: Unit | I32: Not sure | J32: Getting There | K32: Nailed It | M32: Unit | N32: Not sure | O32: Getting There | P32: Nailed It
B33: 1.1 | C33: =COUNTIF(Paper1!H7:S9,"Completed") -> 0 | E33: 2.1 | F33: =COUNTIF(Paper2!J7:U22,"Completed") -> 1 | H33: 1.1 | I33: =COUNTIF(Paper1!$H$7:$S$9,I$32) -> 1 | J33: =COUNTIF(Paper1!$H$7:$S$9,J$32) -> 0 | K33: =COUNTIF(Paper1!$H$7:$S$9,K$32) -> 0 | M33: 2.1 | N33: =COUNTIF(Paper2!$J$7:$U$22,N$32) -> 0 | O33: =COUNTIF(Paper2!$J$7:$U$22,O$32) -> 1 | P33: =COUNTIF(Paper2!$J$7:$U$22,P$32) -> 1
B34: 1.2 | C34: =COUNTIF(Paper1!H10:S17,"Completed") -> 0 | E34: 2.2 | F34: =COUNTIF(Paper2!J23:U49,"Completed") -> 1 | H34: 1.2 | I34: =COUNTIF(Paper1!$H$10:$S$17,I$32) -> 0 | J34: =COUNTIF(Paper1!$H$10:$S$17,J$32) -> 1 | K34: =COUNTIF(Paper1!$H$10:$S$17,K$32) -> 0 | M34: 2.2 | N34: =COUNTIF(Paper2!$J$23:$U$49,N$32) -> 0 | O34: =COUNTIF(Paper2!$J$23:$U$49,O$32) -> 1 | P34: =COUNTIF(Paper2!$J$23:$U$49,P$32) -> 0
B35: 1.3 | C35: =COUNTIF(Paper1!H18:S19,"Completed") -> 0 | E35: 2.3 | F35: =COUNTIF(Paper2!J50:U64,"Completed") -> 0 | H35: 1.3 | I35: =COUNTIF(Paper1!$H$18:$S$19,I$32) -> 0 | J35: =COUNTIF(Paper1!$H$18:$S$19,J$32) -> 1 | K35: =COUNTIF(Paper1!$H$18:$S$19,K$32) -> 0 | M35: 2.3 | N35: =COUNTIF(Paper2!$J$50:$U$64,N$32) -> 1 | O35: =COUNTIF(Paper2!$J$50:$U$64,O$32) -> 0 | P35: =COUNTIF(Paper2!$J$50:$U$64,P$32) -> 0
B36: 1.4 | C36: =COUNTIF(Paper1!$H$20:$S$21,"Completed") -> 0 | E36: 2.4 | F36: =COUNTIF(Paper2!J65:U71,"Completed") -> 0 | H36: 1.4 | I36: =COUNTIF(Paper1!$H$20:$S$21,I$32) -> 0 | J36: =COUNTIF(Paper1!$H$20:$S$21,J$32) -> 1 | K36: =COUNTIF(Paper1!$H$20:$S$21,K$32) -> 0 | M36: 2.4 | N36: =COUNTIF(Paper2!$J$65:$U$71,N$32) -> 1 | O36: =COUNTIF(Paper2!$J$65:$U$71,O$32) -> 0 | P36: =COUNTIF(Paper2!$J$65:$U$71,P$32) -> 0
B37: 1.5 | C37: =COUNTIF(Paper1!H22:S23,"Completed") -> 0 | E37: 2.5 | F37: =COUNTIF(Paper2!J72:U79,"Completed") -> 0 | H37: 1.5 | I37: =COUNTIF(Paper1!$H$22:$S$23,I$32) -> 0 | J37: =COUNTIF(Paper1!$H$22:$S$23,J$32) -> 1 | K37: =COUNTIF(Paper1!$H$22:$S$23,K$32) -> 0 | M37: 2.5 | N37: =COUNTIF(Paper2!$J$71:$U$79,N$32) -> 1 | O37: =COUNTIF(Paper2!$J$71:$U$79,O$32) -> 0 | P37: =COUNTIF(Paper2!$J$71:$U$79,P$32) -> 0
B38: 1.6 | C38: =COUNTIF(Paper1!H24:S24,"Completed") -> 0 | E38: 3 | F38: =COUNTIF(Paper2!J80:U108,"Completed") -> 0 | H38: 1.6 | I38: =COUNTIF(Paper1!$H$24:$S$24,I$32) -> 1 | J38: =COUNTIF(Paper1!$H$24:$S$24,J$32) -> 0 | K38: =COUNTIF(Paper1!$H$24:$S$24,K$32) -> 0 | M38: 3 | N38: =COUNTIF(Paper2!$J$80:$U$108,N$32) -> 1 | O38: =COUNTIF(Paper2!$J$80:$U$108,O$32) -> 0 | P38: =COUNTIF(Paper2!$J$80:$U$108,P$32) -> 0
B39: Total | C39: =SUM(C33:C38) -> 0 | E39: Total | F39: =SUM(F33:F38) -> 2 | H39: % | I39: =SUM(I33:I38)/SUM(I33:K38) -> 0.33333333 | J39: =SUM(J33:J38)/SUM(I33:K38) -> 0.66666667 | K39: =SUM(K33:K38)/SUM(I33:K38) -> 0 | M39: % | N39: =SUM(N33:N38)/SUM(N33:P38) -> 0.57142857 | O39: =SUM(O33:O38)/SUM(N33:P38) -> 0.28571429 | P39: =SUM(P33:P38)/SUM(N33:P38) -> 0.14285714
C43: Revision Activity | D43: 1.1 | E43: 1.2 | F43: 1.3 | G43: 1.4 | H43: 1.5 | I43: 1.6 | J43: Total | K43: Nailed It Count | M43: Most Recommendad Method
C44: Active Recall Q | D44: =COUNTIF(Paper1!$H$7:$S$9,C44) -> 0 | E44: =COUNTIF(Paper1!$H$10:$S$17,C44) -> 1 | F44: =COUNTIF(Paper1!$H$18:$S$19,C44) -> 0 | G44: =COUNTIF(Paper1!$H$20:$S$21,C44) -> 0 | H44: =COUNTIF(Paper1!$H$22:$S$23,C44) -> 0 | I44: =COUNTIF(Paper1!$H$24:$S$24,C44) -> 0 | J44: =SUM(D44:I44) -> 1 | K44: =COUNTIFS(Paper1!$I$5:$I$24,Dashboard!C44,Paper1!$K$5:$K$24,"Nailed it")+COUNTIFS(Paper1!$M$5:$M$24,Dashboard!C44,Paper1!$O$5:$O$24,"Nailed it")+COUNTIFS(Paper1!$Q$5:$Q$24,Dashboard!C44,Paper1!$S$5:$S$24,"Nailed it") -> 0 | M44: =_xlfn.XLOOKUP((MAX(K44:K58)),K44:K58,C44:C58,"") -> Active Recall Q
C45: Blurting | D45: =COUNTIF(Paper1!$H$7:$S$9,C45) -> 0 | E45: =COUNTIF(Paper1!$H$10:$S$17,C45) -> 0 | F45: =COUNTIF(Paper1!$H$18:$S$19,C45) -> 0 | G45: =COUNTIF(Paper1!$H$20:$S$21,C45) -> 1 | H45: =COUNTIF(Paper1!$H$22:$S$23,C45) -> 0 | I45: =COUNTIF(Paper1!$H$24:$S$24,C45) -> 0 | J45: =SUM(D45:I45) -> 1 | K45: =COUNTIFS(Paper1!$I$5:$I$24,Dashboard!C45,Paper1!$K$5:$K$24,"Nailed it")+COUNTIFS(Paper1!$M$5:$M$24,Dashboard!C45,Paper1!$O$5:$O$24,"Nailed it")+COUNTIFS(Paper1!$Q$5:$Q$24,Dashboard!C45,Paper1!$S$5:$S$24,"Nailed it") -> 0
C46: Coded Small Algorithm | D46: =COUNTIF(Paper1!$H$7:$S$9,C46) -> 0 | E46: =COUNTIF(Paper1!$H$10:$S$17,C46) -> 0 | F46: =COUNTIF(Paper1!$H$18:$S$19,C46) -> 0 | G46: =COUNTIF(Paper1!$H$20:$S$21,C46) -> 0 | H46: =COUNTIF(Paper1!$H$22:$S$23,C46) -> 0 | I46: =COUNTIF(Paper1!$H$24:$S$24,C46) -> 0 | J46: =SUM(D46:I46) -> 0 | K46: =COUNTIFS(Paper1!$I$5:$I$24,Dashboard!C46,Paper1!$K$5:$K$24,"Nailed it")+COUNTIFS(Paper1!$M$5:$M$24,Dashboard!C46,Paper1!$O$5:$O$24,"Nailed it")+COUNTIFS(Paper1!$Q$5:$Q$24,Dashboard!C46,Paper1!$S$5:$S$24,"Nailed it") -> 0
C47: Concept Map | D47: =COUNTIF(Paper1!$H$7:$S$9,C47) -> 0 | E47: =COUNTIF(Paper1!$H$10:$S$17,C47) -> 0 | F47: =COUNTIF(Paper1!$H$18:$S$19,C47) -> 1 | G47: =COUNTIF(Paper1!$H$20:$S$21,C47) -> 0 | H47: =COUNTIF(Paper1!$H$22:$S$23,C47) -> 0 | I47: =COUNTIF(Paper1!$H$24:$S$24,C47) -> 0 | J47: =SUM(D47:I47) -> 1 | K47: =COUNTIFS(Paper1!$I$5:$I$24,Dashboard!C47,Paper1!$K$5:$K$24,"Nailed it")+COUNTIFS(Paper1!$M$5:$M$24,Dashboard!C47,Paper1!$O$5:$O$24,"Nailed it")+COUNTIFS(Paper1!$Q$5:$Q$24,Dashboard!C47,Paper1!$S$5:$S$24,"Nailed it") -> 0
C48: Debugged Coding | D48: =COUNTIF(Paper1!$H$7:$S$9,C48) -> 0 | E48: =COUNTIF(Paper1!$H$10:$S$17,C48) -> 0 | F48: =COUNTIF(Paper1!$H$18:$S$19,C48) -> 0 | G48: =COUNTIF(Paper1!$H$20:$S$21,C48) -> 0 | H48: =COUNTIF(Paper1!$H$22:$S$23,C48) -> 0 | I48: =COUNTIF(Paper1!$H$24:$S$24,C48) -> 0 | J48: =SUM(D48:I48) -> 0 | K48: =COUNTIFS(Paper1!$I$5:$I$24,Dashboard!C48,Paper1!$K$5:$K$24,"Nailed it")+COUNTIFS(Paper1!$M$5:$M$24,Dashboard!C48,Paper1!$O$5:$O$24,"Nailed it")+COUNTIFS(Paper1!$Q$5:$Q$24,Dashboard!C48,Paper1!$S$5:$S$24,"Nailed it") -> 0
C49: Exam Questions | D49: =COUNTIF(Paper1!$H$7:$S$9,C49) -> 1 | E49: =COUNTIF(Paper1!$H$10:$S$17,C49) -> 0 | F49: =COUNTIF(Paper1!$H$18:$S$19,C49) -> 0 | G49: =COUNTIF(Paper1!$H$20:$S$21,C49) -> 0 | H49: =COUNTIF(Paper1!$H$22:$S$23,C49) -> 0 | I49: =COUNTIF(Paper1!$H$24:$S$24,C49) -> 0 | J49: =SUM(D49:I49) -> 1 | K49: =COUNTIFS(Paper1!$I$5:$I$24,Dashboard!C49,Paper1!$K$5:$K$24,"Nailed it")+COUNTIFS(Paper1!$M$5:$M$24,Dashboard!C49,Paper1!$O$5:$O$24,"Nailed it")+COUNTIFS(Paper1!$Q$5:$Q$24,Dashboard!C49,Paper1!$S$5:$S$24,"Nailed it") -> 0
C50: Flashcard Review | D50: =COUNTIF(Paper1!$H$7:$S$9,C50) -> 0 | E50: =COUNTIF(Paper1!$H$10:$S$17,C50) -> 0 | F50: =COUNTIF(Paper1!$H$18:$S$19,C50) -> 0 | G50: =COUNTIF(Paper1!$H$20:$S$21,C50) -> 0 | H50: =COUNTIF(Paper1!$H$22:$S$23,C50) -> 0 | I50: =COUNTIF(Paper1!$H$24:$S$24,C50) -> 0 | J50: =SUM(D50:I50) -> 0 | K50: =COUNTIFS(Paper1!$I$5:$I$24,Dashboard!C50,Paper1!$K$5:$K$24,"Nailed it")+COUNTIFS(Paper1!$M$5:$M$24,Dashboard!C50,Paper1!$O$5:$O$24,"Nailed it")+COUNTIFS(Paper1!$Q$5:$Q$24,Dashboard!C50,Paper1!$S$5:$S$24,"Nailed it") -> 0
C51: Knowledge Organiser | D51: =COUNTIF(Paper1!$H$7:$S$9,C51) -> 0 | E51: =COUNTIF(Paper1!$H$10:$S$17,C51) -> 0 | F51: =COUNTIF(Paper1!$H$18:$S$19,C51) -> 0 | G51: =COUNTIF(Paper1!$H$20:$S$21,C51) -> 0 | H51: =COUNTIF(Paper1!$H$22:$S$23,C51) -> 1 | I51: =COUNTIF(Paper1!$H$24:$S$24,C51) -> 0 | J51: =SUM(D51:I51) -> 1 | K51: =COUNTIFS(Paper1!$I$5:$I$24,Dashboard!C51,Paper1!$K$5:$K$24,"Nailed it")+COUNTIFS(Paper1!$M$5:$M$24,Dashboard!C51,Paper1!$O$5:$O$24,"Nailed it")+COUNTIFS(Paper1!$Q$5:$Q$24,Dashboard!C51,Paper1!$S$5:$S$24,"Nailed it") -> 0
C52: Learning Mark Scheme | D52: =COUNTIF(Paper1!$H$7:$S$9,C52) -> 0 | E52: =COUNTIF(Paper1!$H$10:$S$17,C52) -> 0 | F52: =COUNTIF(Paper1!$H$18:$S$19,C52) -> 0 | G52: =COUNTIF(Paper1!$H$20:$S$21,C52) -> 0 | H52: =COUNTIF(Paper1!$H$22:$S$23,C52) -> 0 | I52: =COUNTIF(Paper1!$H$24:$S$24,C52) -> 0 | J52: =SUM(D52:I52) -> 0 | K52: =COUNTIFS(Paper1!$I$5:$I$24,Dashboard!C52,Paper1!$K$5:$K$24,"Nailed it")+COUNTIFS(Paper1!$M$5:$M$24,Dashboard!C52,Paper1!$O$5:$O$24,"Nailed it")+COUNTIFS(Paper1!$Q$5:$Q$24,Dashboard!C52,Paper1!$S$5:$S$24,"Nailed it") -> 0
C53: Organise Notes | D53: =COUNTIF(Paper1!$H$7:$S$9,C53) -> 0 | E53: =COUNTIF(Paper1!$H$10:$S$17,C53) -> 0 | F53: =COUNTIF(Paper1!$H$18:$S$19,C53) -> 0 | G53: =COUNTIF(Paper1!$H$20:$S$21,C53) -> 0 | H53: =COUNTIF(Paper1!$H$22:$S$23,C53) -> 0 | I53: =COUNTIF(Paper1!$H$24:$S$24,C53) -> 0 | J53: =SUM(D53:I53) -> 0 | K53: =COUNTIFS(Paper1!$I$5:$I$24,Dashboard!C53,Paper1!$K$5:$K$24,"Nailed it")+COUNTIFS(Paper1!$M$5:$M$24,Dashboard!C53,Paper1!$O$5:$O$24,"Nailed it")+COUNTIFS(Paper1!$Q$5:$Q$24,Dashboard!C53,Paper1!$S$5:$S$24,"Nailed it") -> 0
C54: Reading Textbook | D54: =COUNTIF(Paper1!$H$7:$S$9,C54) -> 0 | E54: =COUNTIF(Paper1!$H$10:$S$17,C54) -> 0 | F54: =COUNTIF(Paper1!$H$18:$S$19,C54) -> 0 | G54: =COUNTIF(Paper1!$H$20:$S$21,C54) -> 0 | H54: =COUNTIF(Paper1!$H$22:$S$23,C54) -> 0 | I54: =COUNTIF(Paper1!$H$24:$S$24,C54) -> 0 | J54: =SUM(D54:I54) -> 0 | K54: =COUNTIFS(Paper1!$I$5:$I$24,Dashboard!C54,Paper1!$K$5:$K$24,"Nailed it")+COUNTIFS(Paper1!$M$5:$M$24,Dashboard!C54,Paper1!$O$5:$O$24,"Nailed it")+COUNTIFS(Paper1!$Q$5:$Q$24,Dashboard!C54,Paper1!$S$5:$S$24,"Nailed it") -> 0
C55: Revision Notes | D55: =COUNTIF(Paper1!$H$7:$S$9,C55) -> 0 | E55: =COUNTIF(Paper1!$H$10:$S$17,C55) -> 0 | F55: =COUNTIF(Paper1!$H$18:$S$19,C55) -> 0 | G55: =COUNTIF(Paper1!$H$20:$S$21,C55) -> 0 | H55: =COUNTIF(Paper1!$H$22:$S$23,C55) -> 0 | I55: =COUNTIF(Paper1!$H$24:$S$24,C55) -> 0 | J55: =SUM(D55:I55) -> 0 | K55: =COUNTIFS(Paper1!$I$5:$I$24,Dashboard!C55,Paper1!$K$5:$K$24,"Nailed it")+COUNTIFS(Paper1!$M$5:$M$24,Dashboard!C55,Paper1!$O$5:$O$24,"Nailed it")+COUNTIFS(Paper1!$Q$5:$Q$24,Dashboard!C55,Paper1!$S$5:$S$24,"Nailed it") -> 0
C56: Spider Diagram | D56: =COUNTIF(Paper1!$H$7:$S$9,C56) -> 0 | E56: =COUNTIF(Paper1!$H$10:$S$17,C56) -> 0 | F56: =COUNTIF(Paper1!$H$18:$S$19,C56) -> 0 | G56: =COUNTIF(Paper1!$H$20:$S$21,C56) -> 0 | H56: =COUNTIF(Paper1!$H$22:$S$23,C56) -> 0 | I56: =COUNTIF(Paper1!$H$24:$S$24,C56) -> 0 | J56: =SUM(D56:I56) -> 0 | K56: =COUNTIFS(Paper1!$I$5:$I$24,Dashboard!C56,Paper1!$K$5:$K$24,"Nailed it")+COUNTIFS(Paper1!$M$5:$M$24,Dashboard!C56,Paper1!$O$5:$O$24,"Nailed it")+COUNTIFS(Paper1!$Q$5:$Q$24,Dashboard!C56,Paper1!$S$5:$S$24,"Nailed it") -> 0
... C58: YouTube Videos | D58: =COUNTIF(Paper1!$H$7:$S$9,C58) -> 0 | E58: =COUNTIF(Paper1!$H$10:$S$17,C58) -> 0 | F58: =COUNTIF(Paper1!$H$18:$S$19,C58) -> 0 | G58: =COUNTIF(Paper1!$H$20:$S$21,C58) -> 0 | H58: =COUNTIF(Paper1!$H$22:$S$23,C58) -> 0 | I58: =COUNTIF(Paper1!$H$24:$S$24,C58) -> 0 | J58: =SUM(D58:I58) -> 0 | K58: =COUNTIFS(Paper1!$I$5:$I$24,Dashboard!C58,Paper1!$K$5:$K$24,"Nailed it")+COUNTIFS(Paper1!$M$5:$M$24,Dashboard!C58,Paper1!$O$5:$O$24,"Nailed it")+COUNTIFS(Paper1!$Q$5:$Q$24,Dashboard!C58,Paper1!$S$5:$S$24,"Nailed it") -> 0
C61: Revision Activity | D61: 2.1 | E61: 2.2 | F61: 2.3 | G61: 2.4 | H61: 2.5 | I61: 3 | J61: Total | K61: Nailed It Count | M61: Most Recommendad Method
C62: Active Recall Q | D62: =COUNTIF(Paper2!$J$7:$U$22,C62) -> 1 | E62: =COUNTIF(Paper2!$J$23:$U$49,C62) -> 0 | F62: =COUNTIF(Paper2!$J$50:$U$64,C62) -> 0 | G62: =COUNTIF(Paper2!$J$65:$U$71,C62) -> 0 | H62: =COUNTIF(Paper2!$J$72:$U$79,C62) -> 0 | I62: =COUNTIF(Paper2!$J$80:$U$108,C62) -> 0 | J62: =SUM(D62:I62) -> 1 | K62: =COUNTIFS(Paper2!$K$5:$K$108,Dashboard!C62,Paper2!$M$5:$M$108,"Nailed it")+COUNTIFS(Paper2!$O$5:$O$108,Dashboard!C62,Paper2!$Q$5:$Q$108,"Nailed it")+COUNTIFS(Paper2!$S$5:$S$108,Dashboard!C62,Paper2!$U$5:$U$108,"Nailed it") -> 0 | M62: =_xlfn.XLOOKUP((MAX(K62:K76)),K62:K76,C62:C76,"") -> Learning Mark Scheme
C63: Blurting | D63: =COUNTIF(Paper2!$J$7:$U$22,C63) -> 0 | E63: =COUNTIF(Paper2!$J$23:$U$49,C63) -> 0 | F63: =COUNTIF(Paper2!$J$50:$U$64,C63) -> 0 | G63: =COUNTIF(Paper2!$J$65:$U$71,C63) -> 0 | H63: =COUNTIF(Paper2!$J$72:$U$79,C63) -> 0 | I63: =COUNTIF(Paper2!$J$80:$U$108,C63) -> 0 | J63: =SUM(D63:I63) -> 0 | K63: =COUNTIFS(Paper2!$K$5:$K$108,Dashboard!C63,Paper2!$M$5:$M$108,"Nailed it")+COUNTIFS(Paper2!$O$5:$O$108,Dashboard!C63,Paper2!$Q$5:$Q$108,"Nailed it")+COUNTIFS(Paper2!$S$5:$S$108,Dashboard!C63,Paper2!$U$5:$U$108,"Nailed it") -> 0
C64: Coded Small Algorithm | D64: =COUNTIF(Paper2!$J$7:$U$22,C64) -> 0 | E64: =COUNTIF(Paper2!$J$23:$U$49,C64) -> 0 | F64: =COUNTIF(Paper2!$J$50:$U$64,C64) -> 0 | G64: =COUNTIF(Paper2!$J$65:$U$71,C64) -> 0 | H64: =COUNTIF(Paper2!$J$72:$U$79,C64) -> 0 | I64: =COUNTIF(Paper2!$J$80:$U$108,C64) -> 0 | J64: =SUM(D64:I64) -> 0 | K64: =COUNTIFS(Paper2!$K$5:$K$108,Dashboard!C64,Paper2!$M$5:$M$108,"Nailed it")+COUNTIFS(Paper2!$O$5:$O$108,Dashboard!C64,Paper2!$Q$5:$Q$108,"Nailed it")+COUNTIFS(Paper2!$S$5:$S$108,Dashboard!C64,Paper2!$U$5:$U$108,"Nailed it") -> 0
C65: Concept Map | D65: =COUNTIF(Paper2!$J$7:$U$22,C65) -> 0 | E65: =COUNTIF(Paper2!$J$23:$U$49,C65) -> 0 | F65: =COUNTIF(Paper2!$J$50:$U$64,C65) -> 0 | G65: =COUNTIF(Paper2!$J$65:$U$71,C65) -> 0 | H65: =COUNTIF(Paper2!$J$72:$U$79,C65) -> 0 | I65: =COUNTIF(Paper2!$J$80:$U$108,C65) -> 0 | J65: =SUM(D65:I65) -> 0 | K65: =COUNTIFS(Paper2!$K$5:$K$108,Dashboard!C65,Paper2!$M$5:$M$108,"Nailed it")+COUNTIFS(Paper2!$O$5:$O$108,Dashboard!C65,Paper2!$Q$5:$Q$108,"Nailed it")+COUNTIFS(Paper2!$S$5:$S$108,Dashboard!C65,Paper2!$U$5:$U$108,"Nailed it") -> 0
C66: Debugged Coding | D66: =COUNTIF(Paper2!$J$7:$U$22,C66) -> 0 | E66: =COUNTIF(Paper2!$J$23:$U$49,C66) -> 0 | F66: =COUNTIF(Paper2!$J$50:$U$64,C66) -> 0 | G66: =COUNTIF(Paper2!$J$65:$U$71,C66) -> 0 | H66: =COUNTIF(Paper2!$J$72:$U$79,C66) -> 0 | I66: =COUNTIF(Paper2!$J$80:$U$108,C66) -> 0 | J66: =SUM(D66:I66) -> 0 | K66: =COUNTIFS(Paper2!$K$5:$K$108,Dashboard!C66,Paper2!$M$5:$M$108,"Nailed it")+COUNTIFS(Paper2!$O$5:$O$108,Dashboard!C66,Paper2!$Q$5:$Q$108,"Nailed it")+COUNTIFS(Paper2!$S$5:$S$108,Dashboard!C66,Paper2!$U$5:$U$108,"Nailed it") -> 0
C67: Exam Questions | D67: =COUNTIF(Paper2!$J$7:$U$22,C67) -> 0 | E67: =COUNTIF(Paper2!$J$23:$U$49,C67) -> 0 | F67: =COUNTIF(Paper2!$J$50:$U$64,C67) -> 0 | G67: =COUNTIF(Paper2!$J$65:$U$71,C67) -> 0 | H67: =COUNTIF(Paper2!$J$72:$U$79,C67) -> 0 | I67: =COUNTIF(Paper2!$J$80:$U$108,C67) -> 0 | J67: =SUM(D67:I67) -> 0 | K67: =COUNTIFS(Paper2!$K$5:$K$108,Dashboard!C67,Paper2!$M$5:$M$108,"Nailed it")+COUNTIFS(Paper2!$O$5:$O$108,Dashboard!C67,Paper2!$Q$5:$Q$108,"Nailed it")+COUNTIFS(Paper2!$S$5:$S$108,Dashboard!C67,Paper2!$U$5:$U$108,"Nailed it") -> 0
C68: Flashcard Review | D68: =COUNTIF(Paper2!$J$7:$U$22,C68) -> 0 | E68: =COUNTIF(Paper2!$J$23:$U$49,C68) -> 0 | F68: =COUNTIF(Paper2!$J$50:$U$64,C68) -> 0 | G68: =COUNTIF(Paper2!$J$65:$U$71,C68) -> 0 | H68: =COUNTIF(Paper2!$J$72:$U$79,C68) -> 0 | I68: =COUNTIF(Paper2!$J$80:$U$108,C68) -> 0 | J68: =SUM(D68:I68) -> 0 | K68: =COUNTIFS(Paper2!$K$5:$K$108,Dashboard!C68,Paper2!$M$5:$M$108,"Nailed it")+COUNTIFS(Paper2!$O$5:$O$108,Dashboard!C68,Paper2!$Q$5:$Q$108,"Nailed it")+COUNTIFS(Paper2!$S$5:$S$108,Dashboard!C68,Paper2!$U$5:$U$108,"Nailed it") -> 0
C69: Knowledge Organiser | D69: =COUNTIF(Paper2!$J$7:$U$22,C69) -> 0 | E69: =COUNTIF(Paper2!$J$23:$U$49,C69) -> 0 | F69: =COUNTIF(Paper2!$J$50:$U$64,C69) -> 0 | G69: =COUNTIF(Paper2!$J$65:$U$71,C69) -> 0 | H69: =COUNTIF(Paper2!$J$72:$U$79,C69) -> 0 | I69: =COUNTIF(Paper2!$J$80:$U$108,C69) -> 0 | J69: =SUM(D69:I69) -> 0 | K69: =COUNTIFS(Paper2!$K$5:$K$108,Dashboard!C69,Paper2!$M$5:$M$108,"Nailed it")+COUNTIFS(Paper2!$O$5:$O$108,Dashboard!C69,Paper2!$Q$5:$Q$108,"Nailed it")+COUNTIFS(Paper2!$S$5:$S$108,Dashboard!C69,Paper2!$U$5:$U$108,"Nailed it") -> 0
C70: Learning Mark Scheme | D70: =COUNTIF(Paper2!$J$7:$U$22,C70) -> 1 | E70: =COUNTIF(Paper2!$J$23:$U$49,C70) -> 0 | F70: =COUNTIF(Paper2!$J$50:$U$64,C70) -> 0 | G70: =COUNTIF(Paper2!$J$65:$U$71,C70) -> 0 | H70: =COUNTIF(Paper2!$J$72:$U$79,C70) -> 0 | I70: =COUNTIF(Paper2!$J$80:$U$108,C70) -> 0 | J70: =SUM(D70:I70) -> 1 | K70: =COUNTIFS(Paper2!$K$5:$K$108,Dashboard!C70,Paper2!$M$5:$M$108,"Nailed it")+COUNTIFS(Paper2!$O$5:$O$108,Dashboard!C70,Paper2!$Q$5:$Q$108,"Nailed it")+COUNTIFS(Paper2!$S$5:$S$108,Dashboard!C70,Paper2!$U$5:$U$108,"Nailed it") -> 1
C71: Organise Notes | D71: =COUNTIF(Paper2!$J$7:$U$22,C71) -> 0 | E71: =COUNTIF(Paper2!$J$23:$U$49,C71) -> 0 | F71: =COUNTIF(Paper2!$J$50:$U$64,C71) -> 0 | G71: =COUNTIF(Paper2!$J$65:$U$71,C71) -> 0 | H71: =COUNTIF(Paper2!$J$72:$U$79,C71) -> 0 | I71: =COUNTIF(Paper2!$J$80:$U$108,C71) -> 0 | J71: =SUM(D71:I71) -> 0 | K71: =COUNTIFS(Paper2!$K$5:$K$108,Dashboard!C71,Paper2!$M$5:$M$108,"Nailed it")+COUNTIFS(Paper2!$O$5:$O$108,Dashboard!C71,Paper2!$Q$5:$Q$108,"Nailed it")+COUNTIFS(Paper2!$S$5:$S$108,Dashboard!C71,Paper2!$U$5:$U$108,"Nailed it") -> 0
C72: Reading Textbook | D72: =COUNTIF(Paper2!$J$7:$U$22,C72) -> 0 | E72: =COUNTIF(Paper2!$J$23:$U$49,C72) -> 0 | F72: =COUNTIF(Paper2!$J$50:$U$64,C72) -> 0 | G72: =COUNTIF(Paper2!$J$65:$U$71,C72) -> 0 | H72: =COUNTIF(Paper2!$J$72:$U$79,C72) -> 0 | I72: =COUNTIF(Paper2!$J$80:$U$108,C72) -> 0 | J72: =SUM(D72:I72) -> 0 | K72: =COUNTIFS(Paper2!$K$5:$K$108,Dashboard!C72,Paper2!$M$5:$M$108,"Nailed it")+COUNTIFS(Paper2!$O$5:$O$108,Dashboard!C72,Paper2!$Q$5:$Q$108,"Nailed it")+COUNTIFS(Paper2!$S$5:$S$108,Dashboard!C72,Paper2!$U$5:$U$108,"Nailed it") -> 0
C73: Revision Notes | D73: =COUNTIF(Paper2!$J$7:$U$22,C73) -> 0 | E73: =COUNTIF(Paper2!$J$23:$U$49,C73) -> 0 | F73: =COUNTIF(Paper2!$J$50:$U$64,C73) -> 0 | G73: =COUNTIF(Paper2!$J$65:$U$71,C73) -> 0 | H73: =COUNTIF(Paper2!$J$72:$U$79,C73) -> 0 | I73: =COUNTIF(Paper2!$J$80:$U$108,C73) -> 0 | J73: =SUM(D73:I73) -> 0 | K73: =COUNTIFS(Paper2!$K$5:$K$108,Dashboard!C73,Paper2!$M$5:$M$108,"Nailed it")+COUNTIFS(Paper2!$O$5:$O$108,Dashboard!C73,Paper2!$Q$5:$Q$108,"Nailed it")+COUNTIFS(Paper2!$S$5:$S$108,Dashboard!C73,Paper2!$U$5:$U$108,"Nailed it") -> 0
C74: Spider Diagram | D74: =COUNTIF(Paper2!$J$7:$U$22,C74) -> 0 | E74: =COUNTIF(Paper2!$J$23:$U$49,C74) -> 0 | F74: =COUNTIF(Paper2!$J$50:$U$64,C74) -> 0 | G74: =COUNTIF(Paper2!$J$65:$U$71,C74) -> 0 | H74: =COUNTIF(Paper2!$J$72:$U$79,C74) -> 0 | I74: =COUNTIF(Paper2!$J$80:$U$108,C74) -> 0 | J74: =SUM(D74:I74) -> 0 | K74: =COUNTIFS(Paper2!$K$5:$K$108,Dashboard!C74,Paper2!$M$5:$M$108,"Nailed it")+COUNTIFS(Paper2!$O$5:$O$108,Dashboard!C74,Paper2!$Q$5:$Q$108,"Nailed it")+COUNTIFS(Paper2!$S$5:$S$108,Dashboard!C74,Paper2!$U$5:$U$108,"Nailed it") -> 0
... C76: YouTube Videos | D76: =COUNTIF(Paper2!$J$7:$U$22,C76) -> 0 | E76: =COUNTIF(Paper2!$J$23:$U$49,C76) -> 1 | F76: =COUNTIF(Paper2!$J$50:$U$64,C76) -> 1 | G76: =COUNTIF(Paper2!$J$65:$U$71,C76) -> 1 | H76: =COUNTIF(Paper2!$J$72:$U$79,C76) -> 1 | I76: =COUNTIF(Paper2!$J$80:$U$108,C76) -> 1 | J76: =SUM(D76:I76) -> 5 | K76: =COUNTIFS(Paper2!$K$5:$K$108,Dashboard!C76,Paper2!$M$5:$M$108,"Nailed it")+COUNTIFS(Paper2!$O$5:$O$108,Dashboard!C76,Paper2!$Q$5:$Q$108,"Nailed it")+COUNTIFS(Paper2!$S$5:$S$108,Dashboard!C76,Paper2!$U$5:$U$108,"Nailed it") -> 0
C79: Paper 1
...

Sheet Paper1
A2: Percentage of Course Revised | F2: =COUNTIF(H7:S24,"Completed")/54 -> 0 | H2: UNIT 1.1 | I2: UNIT 1.2 | K2: UNIT 1.3 | L2: UNIT 1.4 | M2: UNIT 1.5 | O2: UNIT 1.6 | T2: Nailed It | U2: =COUNTIF(H7:S24,T2)/54 -> 0
H3: =COUNTIF(H7:S9,"Completed")/9 -> 0 | I3: =COUNTIF(H10:S17,"Completed")/24 -> 0 | K3: =COUNTIF(H18:S19,"Completed")/6 -> 0 | L3: =COUNTIF(H20:S21,"Completed")/6 -> 0 | M3: =COUNTIF(H22:S23,"Completed")/6 -> 0 | O3: =COUNTIF(H24:S24,"Completed")/3 -> 0
A4: TOPIC | H4: Review 1 | L4: Review 2 | P4: Review 3 | T4: % Reviews Completed | U4: Average Confidence Level
H5: Status | I5: Revision Activity | J5: Date | K5: Confidence Level | L5: Status | M5: Revision Activity | N5: Date | O5: Confidence Level | P5: Status | Q5: Revision Activity | R5: Date | S5: Confidence Level | AB5: do not edit or delete
A6: Unit | C6: Section Title | AB6: Not Started | AC6: Revision Notes | AD6: Not Sure | AE6: 3 | AG6: 45427 | AH6: =AG6-TODAY() -> 29 | AI6: paper1
A7: 1.1 Systems Architecture | C7: 1.1.1 Architecture of the CPU * The purpose of the CPU * Common CPU components and their function * Von Neumann architecture | H7: {=_xlfn.TOCOL('1.1'!H7:H9)} -> Started | I7: {=_xlfn.TOCOL('1.1'!I7:I9)} -> Exam Questions | J7: {=_xlfn.TOCOL('1.1'!J7:J9)} -> 45356 | K7: {=_xlfn.TOCOL('1.1'!K7:K9)} -> Not Sure | L7: {=_xlfn.TOCOL('1.1'!L7:L9)} -> Not Started | M7: {=_xlfn.TOCOL('1.1'!M7:M9)} -> 0 | N7: {=_xlfn.TOCOL('1.1'!N7:N9)} -> 0 | O7: {=_xlfn.TOCOL('1.1'!O7:O9)} -> 0 | ... S7: {=_xlfn.TOCOL('1.1'!S7:S9)} -> 0 | T7: =COUNTIF(H7:S7,"completed")/3 -> 0 | U7: =(_xlfn.XLOOKUP(K7,working!$R$3:$R$5,working!$S$3:$S$5,"0")+_xlfn.XLOOKUP(O7,working!$R$3:$R$5,working!$S$3:$S$5,"0")+_xlfn.XLOOKUP(S7,working!$R$3:$R$5,working!$S$3:$S$5,"0"))/15 -> 0.2 | AB7: Started | AC7: Concept Map | AD7: Getting There | AE7: 4 | AG7: 45433 | AH7: =AG7-TODAY() -> 35 | AI7: paper2
C8: 1.1.2 CPU Performance * How common characteristics of CPUs affect their performance | H8: Not Started | I8: 0 | J8: 0 | K8: 0 | L8: Not Started | M8: 0 | N8: 0 | O8: 0 | P8: Not Started | Q8: 0 | R8: 0 | S8: 0 | T8: =COUNTIF(H8:S8,"completed")/3 -> 0 | U8: =(_xlfn.XLOOKUP(K8,working!$R$3:$R$5,working!$S$3:$S$5,"0")+_xlfn.XLOOKUP(O8,working!$R$3:$R$5,working!$S$3:$S$5,"0")+_xlfn.XLOOKUP(S8,working!$R$3:$R$5,working!$S$3:$S$5,"0"))/15 -> 0 | AB8: Completed | AC8: Flashcard Review | AD8: Nailed It | AE8: 5
C9: 1.1.3 Embedded Systems * The purpose and characteristics of embedded systems * Examples of embedded systems | H9: Not Started | I9: 0 | J9: 0 | K9: 0 | L9: Not Started | M9: 0 | N9: 0 | O9: 0 | P9: Not Started | Q9: 0 | R9: 0 | S9: 0 | T9: =COUNTIF(H9:S9,"completed")/3 -> 0 | U9: =(_xlfn.XLOOKUP(K9,working!$R$3:$R$5,working!$S$3:$S$5,"0")+_xlfn.XLOOKUP(O9,working!$R$3:$R$5,working!$S$3:$S$5,"0")+_xlfn.XLOOKUP(S9,working!$R$3:$R$5,working!$S$3:$S$5,"0"))/15 -> 0 | AC9: Active Recall Q
A10: 1.2 Memory & Storage | C10: 1.2.1 Primary Storage * The need for primary storage * The difference between RAM and ROM * The purpose of ROM in a computer system * The purpose of RAM in a computer system * Virtual memory | H10: {=_xlfn.TOCOL('1.2'!H7:H14)} -> Started | I10: {=_xlfn.TOCOL('1.2'!I7:I14)} -> Active Recall Q | J10: {=_xlfn.TOCOL('1.2'!J7:J14)} -> 0 | K10: {=_xlfn.TOCOL('1.2'!K7:K14)} -> Getting There | L10: {=_xlfn.TOCOL('1.2'!L7:L14)} -> Not Started | M10: {=_xlfn.TOCOL('1.2'!M7:M14)} -> 0 | N10: {=_xlfn.TOCOL('1.2'!N7:N14)} -> 0 | O10: {=_xlfn.TOCOL('1.2'!O7:O14)} -> 0 | ... S10: {=_xlfn.TOCOL('1.2'!S7:S14)} -> 0 | T10: =COUNTIF(H10:S10,"completed")/3 -> 0 | U10: =(_xlfn.XLOOKUP(K10,working!$R$3:$R$5,working!$S$3:$S$5,"0")+_xlfn.XLOOKUP(O10,working!$R$3:$R$5,working!$S$3:$S$5,"0")+_xlfn.XLOOKUP(S10,working!$R$3:$R$5,working!$S$3:$S$5,"0"))/15 -> 0.26666667 | AC10: YouTube Videos
C11: 1.2.2 Secondary Storage * The need for secondary storage * Common types of storage * Suitable storage devices and storage media for a given application * The advantages and disadvantages of different storage devices and storage media relating to these characteristics | H11: Not Started | I11: 0 | J11: 0 | K11: 0 | L11: Not Started | M11: 0 | N11: 0 | O11: 0 | P11: Not Started | Q11: 0 | R11: 0 | S11: 0 | T11: =COUNTIF(H11:S11,"completed")/3 -> 0 | U11: =(_xlfn.XLOOKUP(K11,working!$R$3:$R$5,working!$S$3:$S$5,"0")+_xlfn.XLOOKUP(O11,working!$R$3:$R$5,working!$S$3:$S$5,"0")+_xlfn.XLOOKUP(S11,working!$R$3:$R$5,working!$S$3:$S$5,"0"))/15 -> 0 | AC11: Blurting
C12: 1.2.3 Units * The units of data storage * How data needs to be converted into a binary format to be processed by a computer * Data capacity and calculation of data capacity requirements | H12: Not Started | I12: 0 | J12: 0 | K12: 0 | L12: Not Started | M12: 0 | N12: 0 | O12: 0 | P12: Not Started | Q12: 0 | R12: 0 | S12: 0 | T12: =COUNTIF(H12:S12,"completed")/3 -> 0 | U12: =(_xlfn.XLOOKUP(K12,working!$R$3:$R$5,working!$S$3:$S$5,"0")+_xlfn.XLOOKUP(O12,working!$R$3:$R$5,working!$S$3:$S$5,"0")+_xlfn.XLOOKUP(S12,working!$R$3:$R$5,working!$S$3:$S$5,"0"))/15 -> 0 | AC12: Exam Questions
C13: 1.2.4 Data Storage Numbers * How to convert positive denary whole numbers to binary numbers (up to 8 bits) and vice versa * How to add two binary integers together (up to 8 bits) and explain overflow errors which may occur * How to convert positive denary whole numbers into 2-digit hexadecimal numbers and vice versa * How to convert binary integers to their hexadecimal equivalents and vice versa * Binary shifts | H13: Not Started | I13: 0 | J13: 0 | K13: 0 | L13: Not Started | M13: 0 | N13: 0 | O13: 0 | P13: Not Started | Q13: 0 | R13: 0 | S13: 0 | T13: =COUNTIF(H13:S13,"completed")/3 -> 0 | U13: =(_xlfn.XLOOKUP(K13,working!$R$3:$R$5,working!$S$3:$S$5,"0")+_xlfn.XLOOKUP(O13,working!$R$3:$R$5,working!$S$3:$S$5,"0")+_xlfn.XLOOKUP(S13,working!$R$3:$R$5,working!$S$3:$S$5,"0"))/15 -> 0 | AC13: Organise Notes
C14: 1.2.4 Data Storage Characters * The use of binary codes to represent characters * The term ‘character set’ * The relationship between the number of bits per character in a character set, and the number of characters which can be represented | H14: Not Started | I14: 0 | J14: 0 | K14: 0 | L14: Not Started | M14: 0 | N14: 0 | O14: 0 | P14: Not Started | Q14: 0 | R14: 0 | S14: 0 | T14: =COUNTIF(H14:S14,"completed")/3 -> 0 | U14: =(_xlfn.XLOOKUP(K14,working!$R$3:$R$5,working!$S$3:$S$5,"0")+_xlfn.XLOOKUP(O14,working!$R$3:$R$5,working!$S$3:$S$5,"0")+_xlfn.XLOOKUP(S14,working!$R$3:$R$5,working!$S$3:$S$5,"0"))/15 -> 0 | AC14: Learning Mark Scheme
C15: 1.2.4 Data Storage Images * How an image is represented as a series of pixels, represented in binary * Metadata * The effect of colour depth and resolution on | H15: Not Started | I15: 0 | J15: 0 | K15: 0 | L15: Not Started | M15: 0 | N15: 0 | O15: 0 | P15: Not Started | Q15: 0 | R15: 0 | S15: 0 | T15: =COUNTIF(H15:S15,"completed")/3 -> 0 | U15: =(_xlfn.XLOOKUP(K15,working!$R$3:$R$5,working!$S$3:$S$5,"0")+_xlfn.XLOOKUP(O15,working!$R$3:$R$5,working!$S$3:$S$5,"0")+_xlfn.XLOOKUP(S15,working!$R$3:$R$5,working!$S$3:$S$5,"0"))/15 -> 0 | AC15: Spider Diagram
C16: 1.2.4 Data Storage Sound * How sound can be sampled and stored in digital form * The effect of sample rate, duration and bit depth | H16: Not Started | I16: 0 | J16: 0 | K16: 0 | L16: Not Started | M16: 0 | N16: 0 | O16: 0 | P16: Not Started | Q16: 0 | R16: 0 | S16: 0 | T16: =COUNTIF(H16:S16,"completed")/3 -> 0 | U16: =(_xlfn.XLOOKUP(K16,working!$R$3:$R$5,working!$S$3:$S$5,"0")+_xlfn.XLOOKUP(O16,working!$R$3:$R$5,working!$S$3:$S$5,"0")+_xlfn.XLOOKUP(S16,working!$R$3:$R$5,working!$S$3:$S$5,"0"))/15 -> 0 | AC16: Knowledge Organiser
C17: 1.2.5 Compression * The need for compression * Types of compression | H17: Not Started | I17: 0 | J17: 0 | K17: 0 | L17: Not Started | M17: 0 | N17: 0 | O17: 0 | P17: Not Started | Q17: 0 | R17: 0 | S17: 0 | T17: =COUNTIF(H17:S17,"completed")/3 -> 0 | U17: =(_xlfn.XLOOKUP(K17,working!$R$3:$R$5,working!$S$3:$S$5,"0")+_xlfn.XLOOKUP(O17,working!$R$3:$R$5,working!$S$3:$S$5,"0")+_xlfn.XLOOKUP(S17,working!$R$3:$R$5,working!$S$3:$S$5,"0"))/15 -> 0 | AC17: Coded Small Algorithm
A18: 1.3 – Computer networks, connections and protocols | C18: 1.3.1 Networks and topologies * Types of network * Factors that affect the performance of networks * The different roles of computers in a client-server and a peer-topeer network * The hardware needed to connect stand-alone computers into a Local Area Network * The Internet as a worldwide collection of computer networks * Star and Mesh network topologies | H18: {=_xlfn.TOCOL('1.3'!H7:H8)} -> Started | I18: {=_xlfn.TOCOL('1.3'!I7:I8)} -> Concept Map | J18: {=_xlfn.TOCOL('1.3'!J7:J8)} -> 45358 | K18: {=_xlfn.TOCOL('1.3'!K7:K8)} -> Getting There | L18: {=_xlfn.TOCOL('1.3'!L7:L8)} -> Not Started | M18: {=_xlfn.TOCOL('1.3'!M7:M8)} -> 0 | N18: {=_xlfn.TOCOL('1.3'!N7:N8)} -> 0 | O18: {=_xlfn.TOCOL('1.3'!O7:O8)} -> 0 | ... S18: {=_xlfn.TOCOL('1.3'!S7:S8)} -> 0 | T18: =COUNTIF(H18:S18,"completed")/3 -> 0 | U18: =(_xlfn.XLOOKUP(K18,working!$R$3:$R$5,working!$S$3:$S$5,"0")+_xlfn.XLOOKUP(O18,working!$R$3:$R$5,working!$S$3:$S$5,"0")+_xlfn.XLOOKUP(S18,working!$R$3:$R$5,working!$S$3:$S$5,"0"))/15 -> 0.26666667 | AC18: Write Algorithm With Bullet Points
C19: 1.3.2 Wired and wireless networks, protocols and layer * Modes of connection * Encryption * IP addressing and MAC addressing Standards * Common protocols including * The concept of layers | H19: Not Started | I19: 0 | J19: 0 | K19: 0 | L19: Not Started | M19: 0 | N19: 0 | O19: 0 | P19: Not Started | Q19: 0 | R19: 0 | S19: 0 | T19: =COUNTIF(H19:S19,"completed")/3 -> 0 | U19: =(_xlfn.XLOOKUP(K19,working!$R$3:$R$5,working!$S$3:$S$5,"0")+_xlfn.XLOOKUP(O19,working!$R$3:$R$5,working!$S$3:$S$5,"0")+_xlfn.XLOOKUP(S19,working!$R$3:$R$5,working!$S$3:$S$5,"0"))/15 -> 0 | AC19: Debugged Coding
A20: 1.4 – Network security | C20: 1.4.1 Threats to computer systems and networks Forms of attack : * Malware * Social engineering * Brute-force attacks * Denial of service attacks * Data interception and theft * The concept of SQL injection | H20: {=_xlfn.TOCOL('1.4'!H7:H8)} -> Started | I20: {=_xlfn.TOCOL('1.4'!I7:I8)} -> Blurting | J20: {=_xlfn.TOCOL('1.4'!J7:J8)} -> 0 | K20: {=_xlfn.TOCOL('1.4'!K7:K8)} -> Getting There | L20: {=_xlfn.TOCOL('1.4'!L7:L8)} -> Not Started | M20: {=_xlfn.TOCOL('1.4'!M7:M8)} -> 0 | N20: {=_xlfn.TOCOL('1.4'!N7:N8)} -> 0 | O20: {=_xlfn.TOCOL('1.4'!O7:O8)} -> 0 | ... S20: {=_xlfn.TOCOL('1.4'!S7:S8)} -> 0 | T20: =COUNTIF(H20:S20,"completed")/3 -> 0 | U20: =(_xlfn.XLOOKUP(K20,working!$R$3:$R$5,working!$S$3:$S$5,"0")+_xlfn.XLOOKUP(O20,working!$R$3:$R$5,working!$S$3:$S$5,"0")+_xlfn.XLOOKUP(S20,working!$R$3:$R$5,working!$S$3:$S$5,"0"))/15 -> 0.26666667 | AC20: Reading Textbook
C21: 1.4.2 Identifying and preventing vulnerabilities Common prevention methods: * Penetration testing * Anti-malware software * Firewalls * User access levels * Passwords * Encryption * Physical security | H21: Not Started | I21: 0 | J21: 0 | K21: 0 | L21: Not Started | M21: 0 | N21: 0 | O21: 0 | P21: Not Started | Q21: 0 | R21: 0 | S21: 0 | T21: =COUNTIF(H21:S21,"completed")/3 -> 0 | U21: =(_xlfn.XLOOKUP(K21,working!$R$3:$R$5,working!$S$3:$S$5,"0")+_xlfn.XLOOKUP(O21,working!$R$3:$R$5,working!$S$3:$S$5,"0")+_xlfn.XLOOKUP(S21,working!$R$3:$R$5,working!$S$3:$S$5,"0"))/15 -> 0
A22: 1.5 – Systems software | C22: 1.5.1 Operating systems * The purpose and functionality of operating systems | H22: {=_xlfn.TOCOL('1.5'!H7:H8)} -> Started | I22: {=_xlfn.TOCOL('1.5'!I7:I8)} -> Knowledge Organiser | J22: {=_xlfn.TOCOL('1.5'!J7:J8)} -> 45334 | K22: {=_xlfn.TOCOL('1.5'!K7:K8)} -> Getting There | L22: {=_xlfn.TOCOL('1.5'!L7:L8)} -> Not Started | M22: {=_xlfn.TOCOL('1.5'!M7:M8)} -> 0 | N22: {=_xlfn.TOCOL('1.5'!N7:N8)} -> 0 | O22: {=_xlfn.TOCOL('1.5'!O7:O8)} -> 0 | ... S22: {=_xlfn.TOCOL('1.5'!S7:S8)} -> 0 | T22: =COUNTIF(H22:S22,"completed")/3 -> 0 | U22: =(_xlfn.XLOOKUP(K22,working!$R$3:$R$5,working!$S$3:$S$5,"0")+_xlfn.XLOOKUP(O22,working!$R$3:$R$5,working!$S$3:$S$5,"0")+_xlfn.XLOOKUP(S22,working!$R$3:$R$5,working!$S$3:$S$5,"0"))/15 -> 0.26666667
C23: 1.5.2 Utility software * The purpose and functionality of utility software * Utility system software | H23: Not Started | I23: 0 | J23: 0 | K23: 0 | L23: Not Started | M23: 0 | N23: 0 | O23: 0 | P23: Not Started | Q23: 0 | R23: 0 | S23: 0 | T23: =COUNTIF(H23:S23,"completed")/3 -> 0 | U23: =(_xlfn.XLOOKUP(K23,working!$R$3:$R$5,working!$S$3:$S$5,"0")+_xlfn.XLOOKUP(O23,working!$R$3:$R$5,working!$S$3:$S$5,"0")+_xlfn.XLOOKUP(S23,working!$R$3:$R$5,working!$S$3:$S$5,"0"))/15 -> 0
A24: 1.6 – Ethical, legal, cultural and environmental impacts of digital technology | C24: 1.6.1 Ethical, legal, cultural and environmental impact * Impacts of digital technology on wider society * Legislation relevant to Computer Science | H24: {=_xlfn.TOROW('1.6'!H7:S7)} -> Started | I24: 0 | J24: 0 | K24: Not Sure | L24: Not Started | M24: 0 | N24: 0 | O24: 0 | P24: Not Started | Q24: 0 | R24: 0 | S24: 0 | T24: =COUNTIF(H24:S24,"completed")/3 -> 0 | U24: =(_xlfn.XLOOKUP(K24,working!$R$3:$R$5,working!$S$3:$S$5,"0")+_xlfn.XLOOKUP(O24,working!$R$3:$R$5,working!$S$3:$S$5,"0")+_xlfn.XLOOKUP(S24,working!$R$3:$R$5,working!$S$3:$S$5,"0"))/15 -> 0.2

Sheet 1.1
A2: Percentage of Course Revised | F2: =COUNTIF(H7:S9,"Completed")/9 -> 0 | H2: Not Sure | I2: =COUNTIF(H7:S9,H2)/9 -> 0.11111111 | J2: Getting There | K2: =COUNTIF(H7:S9,J2)/9 -> 0 | L2: Nailed It | M2: =COUNTIF(H7:S9,L2)/9 -> 0
A4: TOPIC | H4: Review 1 | L4: Review 2 | P4: Review 3 | T4: % Reviews Completed | U4: Average Confidence Level
H5: Status | I5: Revision Activity | J5: Date | K5: Confidence Level | L5: Status | M5: Revision Activity | N5: Date | O5: Confidence Level | P5: Status | Q5: Revision Activity | R5: Date | S5: Confidence Level
A6: Unit | C6: Section Title
A7: 1.1 Systems Architecture | C7: 1.1.1 Architecture of the CPU * The purpose of the CPU * Common CPU components and their function * Von Neumann architecture | H7: Started | I7: Exam Questions | J7: 45356 | K7: Not Sure | L7: Not Started | P7: Not Started | T7: =COUNTIF(H7:S7,"completed")/3 -> 0 | U7: =(_xlfn.XLOOKUP(K7,working!$R$3:$R$5,working!$S$3:$S$5,"0")+_xlfn.XLOOKUP(O7,working!$R$3:$R$5,working!$S$3:$S$5,"0")+_xlfn.XLOOKUP(S7,working!$R$3:$R$5,working!$S$3:$S$5,"0"))/15 -> 0.2
C8: 1.1.2 CPU Performance * How common characteristics of CPUs affect their performance | H8: Not Started | L8: Not Started | P8: Not Started | T8: =COUNTIF(H8:S8,"completed")/3 -> 0 | U8: =(_xlfn.XLOOKUP(K8,working!$R$3:$R$5,working!$S$3:$S$5,"0")+_xlfn.XLOOKUP(O8,working!$R$3:$R$5,working!$S$3:$S$5,"0")+_xlfn.XLOOKUP(S8,working!$R$3:$R$5,working!$S$3:$S$5,"0"))/15 -> 0
C9: 1.1.3 Embedded Systems * The purpose and characteristics of embedded systems * Examples of embedded systems | H9: Not Started | L9: Not Started | P9: Not Started | T9: =COUNTIF(H9:S9,"completed")/3 -> 0 | U9: =(_xlfn.XLOOKUP(K9,working!$R$3:$R$5,working!$S$3:$S$5,"0")+_xlfn.XLOOKUP(O9,working!$R$3:$R$5,working!$S$3:$S$5,"0")+_xlfn.XLOOKUP(S9,working!$R$3:$R$5,working!$S$3:$S$5,"0"))/15 -> 0

Sheet 1.2
A2: Percentage of Course Revised | F2: =COUNTIF(H7:S14,"Completed")/24 -> 0 | H2: Not Sure | I2: =COUNTIF(H7:S14,H2)/24 -> 0 | J2: Getting There | K2: =COUNTIF(H7:S14,J2)/24 -> 0.041666667 | L2: Nailed It | M2: =COUNTIF(H7:S14,L2)/24 -> 0
A4: TOPIC | H4: Review 1 | L4: Review 2 | P4: Review 3 | T4: % Reviews Completed | U4: Average Confidence Level
H5: Status | I5: Revision Activity | J5: Date | K5: Confidence Level | L5: Status | M5: Revision Activity | N5: Date | O5: Confidence Level | P5: Status | Q5: Revision Activity | R5: Date | S5: Confidence Level
A6: Unit | C6: Section Title
A7: 1.2 Memory & Storage | C7: 1.2.1 Primary Storage * The need for primary storage * The difference between RAM and ROM * The purpose of ROM in a computer system * The purpose of RAM in a computer system * Virtual memory | H7: Started | I7: Active Recall Q | K7: Getting There | L7: Not Started | P7: Not Started | T7: =COUNTIF(H7:S7,"completed")/5 -> 0 | U7: =(_xlfn.XLOOKUP(K7,working!$R$3:$R$5,working!$S$3:$S$5,"0")+_xlfn.XLOOKUP(O7,working!$R$3:$R$5,working!$S$3:$S$5,"0")+_xlfn.XLOOKUP(S7,working!$R$3:$R$5,working!$S$3:$S$5,"0"))/15 -> 0.26666667
C8: 1.2.2 Secondary Storage * The need for secondary storage * Common types of storage * Suitable storage devices and storage media for a given application * The advantages and disadvantages of different storage devices and storage media relating to these characteristics | H8: Not Started | L8: Not Started | P8: Not Started | T8: =COUNTIF(H8:S8,"completed")/5 -> 0 | U8: =(_xlfn.XLOOKUP(K8,working!$R$3:$R$5,working!$S$3:$S$5,"0")+_xlfn.XLOOKUP(O8,working!$R$3:$R$5,working!$S$3:$S$5,"0")+_xlfn.XLOOKUP(S8,working!$R$3:$R$5,working!$S$3:$S$5,"0"))/15 -> 0
C9: 1.2.3 Units * The units of data storage * How data needs to be converted into a binary format to be processed by a computer * Data capacity and calculation of data capacity requirements | H9: Not Started | L9: Not Started | P9: Not Started | T9: =COUNTIF(H9:S9,"completed")/5 -> 0 | U9: =(_xlfn.XLOOKUP(K9,working!$R$3:$R$5,working!$S$3:$S$5,"0")+_xlfn.XLOOKUP(O9,working!$R$3:$R$5,working!$S$3:$S$5,"0")+_xlfn.XLOOKUP(S9,working!$R$3:$R$5,working!$S$3:$S$5,"0"))/15 -> 0
C10: 1.2.4 Data Storage Numbers * How to convert positive denary whole numbers to binary numbers (up to 8 bits) and vice versa * How to add two binary integers together (up to 8 bits) and explain overflow errors which may occur * How to convert positive denary whole numbers into 2-digit hexadecimal numbers and vice versa * How to convert binary integers to their hexadecimal equivalents and vice versa * Binary shifts | H10: Not Started | L10: Not Started | P10: Not Started | T10: =COUNTIF(H10:S10,"completed")/5 -> 0 | U10: =(_xlfn.XLOOKUP(K10,working!$R$3:$R$5,working!$S$3:$S$5,"0")+_xlfn.XLOOKUP(O10,working!$R$3:$R$5,working!$S$3:$S$5,"0")+_xlfn.XLOOKUP(S10,working!$R$3:$R$5,working!$S$3:$S$5,"0"))/15 -> 0
C11: 1.2.4 Data Storage Characters * The use of binary codes to represent characters * The term ‘character set’ * The relationship between the number of bits per character in a character set, and the number of characters which can be represented | H11: Not Started | L11: Not Started | P11: Not Started | T11: =COUNTIF(H11:S11,"completed")/5 -> 0 | U11: =(_xlfn.XLOOKUP(K11,working!$R$3:$R$5,working!$S$3:$S$5,"0")+_xlfn.XLOOKUP(O11,working!$R$3:$R$5,working!$S$3:$S$5,"0")+_xlfn.XLOOKUP(S11,working!$R$3:$R$5,working!$S$3:$S$5,"0"))/15 -> 0
C12: 1.2.4 Data Storage Images * How an image is represented as a series of pixels, represented in binary * Metadata * The effect of colour depth and resolution on | H12: Not Started | L12: Not Started | P12: Not Started | T12: =COUNTIF(H12:S12,"completed")/5 -> 0 | U12: =(_xlfn.XLOOKUP(K12,working!$R$3:$R$5,working!$S$3:$S$5,"0")+_xlfn.XLOOKUP(O12,working!$R$3:$R$5,working!$S$3:$S$5,"0")+_xlfn.XLOOKUP(S12,working!$R$3:$R$5,working!$S$3:$S$5,"0"))/15 -> 0
C13: 1.2.4 Data Storage Sound * How sound can be sampled and stored in digital form * The effect of sample rate, duration and bit depth | H13: Not Started | L13: Not Started | P13: Not Started | T13: =COUNTIF(H13:S13,"completed")/5 -> 0 | U13: =(_xlfn.XLOOKUP(K13,working!$R$3:$R$5,working!$S$3:$S$5,"0")+_xlfn.XLOOKUP(O13,working!$R$3:$R$5,working!$S$3:$S$5,"0")+_xlfn.XLOOKUP(S13,working!$R$3:$R$5,working!$S$3:$S$5,"0"))/15 -> 0
C14: 1.2.5 Compression * The need for compression * Types of compression | H14: Not Started | L14: Not Started | P14: Not Started | T14: =COUNTIF(H14:S14,"completed")/5 -> 0 | U14: =(_xlfn.XLOOKUP(K14,working!$R$3:$R$5,working!$S$3:$S$5,"0")+_xlfn.XLOOKUP(O14,working!$R$3:$R$5,working!$S$3:$S$5,"0")+_xlfn.XLOOKUP(S14,working!$R$3:$R$5,working!$S$3:$S$5,"0"))/15 -> 0

Sheet 1.3
A2: Percentage of Course Revised | F2: =COUNTIF(H7:S8,"Completed")/6 -> 0 | H2: Not Sure | I2: =COUNTIF(H7:S8,H2)/6 -> 0 | J2: Getting There | K2: =COUNTIF(H7:S8,J2)/6 -> 0.16666667 | L2: Nailed It | M2: =COUNTIF(H7:S8,L2)/6 -> 0
A4: TOPIC | H4: Review 1 | L4: Review 2 | P4: Review 3 | T4: % Reviews Completed | U4: Average Confidence Level
H5: Status | I5: Revision Activity | J5: Date | K5: Confidence Level | L5: Status | M5: Revision Activity | N5: Date | O5: Confidence Level | P5: Status | Q5: Revision Activity | R5: Date | S5: Confidence Level
A6: Unit | C6: Section Title
A7: 1.3 – Computer networks, connections and protocols | C7: 1.3.1 Networks and topologies * Types of network * Factors that affect the performance of networks * The different roles of computers in a client-server and a peer-topeer network * The hardware needed to connect stand-alone computers into a Local Area Network * The Internet as a worldwide collection of computer networks * Star and Mesh network topologies | H7: Started | I7: Concept Map | J7: 45358 | K7: Getting There | L7: Not Started | P7: Not Started | T7: =COUNTIF(H7:S7,"completed")/3 -> 0 | U7: =(_xlfn.XLOOKUP(K7,working!$R$3:$R$5,working!$S$3:$S$5,"0")+_xlfn.XLOOKUP(O7,working!$R$3:$R$5,working!$S$3:$S$5,"0")+_xlfn.XLOOKUP(S7,working!$R$3:$R$5,working!$S$3:$S$5,"0"))/15 -> 0.26666667
C8: 1.3.2 Wired and wireless networks, protocols and layer * Modes of connection * Encryption * IP addressing and MAC addressing Standards * Common protocols including * The concept of layers | H8: Not Started | L8: Not Started | P8: Not Started | T8: =COUNTIF(H8:S8,"completed")/3 -> 0 | U8: =(_xlfn.XLOOKUP(K8,working!$R$3:$R$5,working!$S$3:$S$5,"0")+_xlfn.XLOOKUP(O8,working!$R$3:$R$5,working!$S$3:$S$5,"0")+_xlfn.XLOOKUP(S8,working!$R$3:$R$5,working!$S$3:$S$5,"0"))/15 -> 0

Sheet 1.4
A2: Percentage of Course Revised | F2: =COUNTIF(H7:S8,"Completed")/6 -> 0 | H2: Not Sure | I2: =COUNTIF(H7:S8,H2)/6 -> 0 | J2: Getting There | K2: =COUNTIF(H7:S8,J2)/6 -> 0.16666667 | L2: Nailed It | M2: =COUNTIF(H7:S8,L2)/6 -> 0
A4: TOPIC | H4: Review 1 | L4: Review 2 | P4: Review 3 | T4: % Reviews Completed | U4: Average Confidence Level
H5: Status | I5: Revision Activity | J5: Date | K5: Confidence Level | L5: Status | M5: Revision Activity | N5: Date | O5: Confidence Level | P5: Status | Q5: Revision Activity | R5: Date | S5: Confidence Level
A6: Unit | C6: Section Title
A7: 1.4 – Network security | C7: 1.4.1 Threats to computer systems and networks Forms of attack : * Malware * Social engineering * Brute-force attacks * Denial of service attacks * Data interception and theft * The concept of SQL injection | H7: Started | I7: Blurting | K7: Getting There | L7: Not Started | P7: Not Started | T7: =COUNTIF(H7:S7,"completed")/3 -> 0 | U7: =(_xlfn.XLOOKUP(K7,working!$R$3:$R$5,working!$S$3:$S$5,"0")+_xlfn.XLOOKUP(O7,working!$R$3:$R$5,working!$S$3:$S$5,"0")+_xlfn.XLOOKUP(S7,working!$R$3:$R$5,working!$S$3:$S$5,"0"))/15 -> 0.26666667
C8: 1.4.2 Identifying and preventing vulnerabilities Common prevention methods: * Penetration testing * Anti-malware software * Firewalls * User access levels * Passwords * Encryption * Physical security | H8: Not Started | L8: Not Started | P8: Not Started | T8: =COUNTIF(H8:S8,"completed")/3 -> 0 | U8: =(_xlfn.XLOOKUP(K8,working!$R$3:$R$5,working!$S$3:$S$5,"0")+_xlfn.XLOOKUP(O8,working!$R$3:$R$5,working!$S$3:$S$5,"0")+_xlfn.XLOOKUP(S8,working!$R$3:$R$5,working!$S$3:$S$5,"0"))/15 -> 0

Sheet 1.5
A2: Percentage of Course Revised | F2: =COUNTIF(H7:S8,"Completed")/6 -> 0 | H2: Not Sure | I2: =COUNTIF(H7:S8,H2)/6 -> 0 | J2: Getting There | K2: =COUNTIF(H7:S8,J2)/6 -> 0.16666667 | L2: Nailed It | M2: =COUNTIF(H7:S8,L2)/6 -> 0
A4: TOPIC | H4: Review 1 | L4: Review 2 | P4: Review 3 | T4: % Reviews Completed | U4: Average Confidence Level
H5: Status | I5: Revision Activity | J5: Date | K5: Confidence Level | L5: Status | M5: Revision Activity | N5: Date | O5: Confidence Level | P5: Status | Q5: Revision Activity | R5: Date | S5: Confidence Level
A6: Unit | C6: Section Title
A7: 1.5 – Systems software | C7: 1.5.1 Operating systems * The purpose and functionality of operating systems | H7: Started | I7: Knowledge Organiser | J7: 45334 | K7: Getting There | L7: Not Started | P7: Not Started | T7: =COUNTIF(H7:S7,"completed")/3 -> 0 | U7: =(_xlfn.XLOOKUP(K7,working!$R$3:$R$5,working!$S$3:$S$5,"0")+_xlfn.XLOOKUP(O7,working!$R$3:$R$5,working!$S$3:$S$5,"0")+_xlfn.XLOOKUP(S7,working!$R$3:$R$5,working!$S$3:$S$5,"0"))/15 -> 0.26666667
C8: 1.5.2 Utility software * The purpose and functionality of utility software * Utility system software | H8: Not Started | L8: Not Started | P8: Not Started | T8: =COUNTIF(H8:S8,"completed")/3 -> 0 | U8: =(_xlfn.XLOOKUP(K8,working!$R$3:$R$5,working!$S$3:$S$5,"0")+_xlfn.XLOOKUP(O8,working!$R$3:$R$5,working!$S$3:$S$5,"0")+_xlfn.XLOOKUP(S8,working!$R$3:$R$5,working!$S$3:$S$5,"0"))/15 -> 0

Sheet 1.6
A2: Percentage of Course Revised | F2: =COUNTIF(H7:S7,"Completed")/3 -> 0 | H2: Not Sure | I2: =COUNTIF(H7:S7,H2)/3 -> 0.33333333 | J2: Getting There | K2: =COUNTIF(H7:S7,J2)/3 -> 0 | L2: Nailed It | M2: =COUNTIF(H7:S7,L2)/3 -> 0
A4: TOPIC | H4: Review 1 | L4: Review 2 | P4: Review 3 | T4: % Reviews Completed | U4: Average Confidence Level
H5: Status | I5: Revision Activity | J5: Date | K5: Confidence Level | L5: Status | M5: Revision Activity | N5: Date | O5: Confidence Level | P5: Status | Q5: Revision Activity | R5: Date | S5: Confidence Level
A6: Unit | C6: Section Title
A7: 1.6 – Ethical, legal, cultural and environmental impacts of digital technology | C7: 1.6.1 Ethical, legal, cultural and environmental impact * Impacts of digital technology on wider society * Legislation relevant to Computer Science | H7: Started | K7: Not Sure | L7: Not Started | P7: Not Started | T7: =COUNTIF(H7:S7,"completed")/3 -> 0 | U7: =(_xlfn.XLOOKUP(K7,working!$R$3:$R$5,working!$S$3:$S$5,"0")+_xlfn.XLOOKUP(O7,working!$R$3:$R$5,working!$S$3:$S$5,"0")+_xlfn.XLOOKUP(S7,working!$R$3:$R$5,working!$S$3:$S$5,"0"))/15 -> 0.2

Sheet Paper2
A2: Percentage of Course Revised | F2: =COUNTIF(J7:U108,"Completed")/306 -> 0.0065359477 | H2: UNIT 2.1 | I2: UNIT 2.2 | J2: UNIT 2.3 | K2: UNIT 2.4 | M2: UNIT 2.5 | N2: UNIT 3.0 | S2: Nailed It | U2: =COUNTIF(J7:U108,S2)/306 -> 0.0032679739
H3: =COUNTIF(J7:U22,"Completed")/48 -> 0.020833333 | I3: =COUNTIF(J23:U49,"Completed")/81 -> 0.012345679 | J3: =COUNTIF(J50:U64,"Completed")/45 -> 0 | K3: =COUNTIF(J65:U71,"Completed")/21 -> 0 | M3: =COUNTIF(J72:U79,"Completed")/24 -> 0 | N3: =COUNTIF(J80:U108,"Completed")/87 -> 0
A4: TOPIC | J4: Review 1 | N4: Review 2 | R4: Review 3 | V4: % Reviews Completed | W4: Average Confidence Level
J5: Status | K5: Revision Activity | L5: Date | M5: Confidence Level | N5: Status | O5: Revision Activity | P5: Date | Q5: Confidence Level | R5: Status | S5: Revision Activity | T5: Date | U5: Confidence Level
A6: Unit | D6: SL | E6: Section Title
A7: 2.1 – Algorithms | C7: 2.1.1 Computational thinking | D7: 1 | E7: Use of abstraction method to define and refine problems | J7: {=_xlfn.TOCOL('2.1'!J7:J22)} -> Started | K7: {=_xlfn.TOCOL('2.1'!K7:K22)} -> Active Recall Q | L7: {=_xlfn.TOCOL('2.1'!L7:L22)} -> 45356 | M7: {=_xlfn.TOCOL('2.1'!M7:M22)} -> Getting There | N7: {=_xlfn.TOCOL('2.1'!N7:N22)} -> Completed | O7: {=_xlfn.TOCOL('2.1'!O7:O22)} -> Learning Mark Scheme | P7: {=_xlfn.TOCOL('2.1'!P7:P22)} -> 45333 | Q7: {=_xlfn.TOCOL('2.1'!Q7:Q22)} -> Nailed It | ... U7: {=_xlfn.TOCOL('2.1'!U7:U22)} -> 0 | V7: =COUNTIF(J7:U7,"completed")/3 -> 0.33333333 | W7: =(_xlfn.XLOOKUP(M7,working!$R$3:$R$5,working!$S$3:$S$5,"0")+_xlfn.XLOOKUP(Q7,working!$R$3:$R$5,working!$S$3:$S$5,"0")+_xlfn.XLOOKUP(U7,working!$R$3:$R$5,working!$S$3:$S$5,"0"))/15 -> 0.6
D8: 2 | E8: Use of decomposition to to define and refine problems | J8: Not Started | K8: 0 | L8: 0 | M8: 0 | N8: Not Started | O8: 0 | P8: 0 | Q8: 0 | R8: Not Started | S8: 0 | T8: 0 | U8: 0 | V8: =COUNTIF(J8:U8,"completed")/3 -> 0 | W8: =(_xlfn.XLOOKUP(M8,working!$R$3:$R$5,working!$S$3:$S$5,"0")+_xlfn.XLOOKUP(Q8,working!$R$3:$R$5,working!$S$3:$S$5,"0")+_xlfn.XLOOKUP(U8,working!$R$3:$R$5,working!$S$3:$S$5,"0"))/15 -> 0
D9: 3 | E9: Use of algorithmetic thinking to define and refine problems | J9: Not Started | K9: 0 | L9: 0 | M9: 0 | N9: Not Started | O9: 0 | P9: 0 | Q9: 0 | R9: Not Started | S9: 0 | T9: 0 | U9: 0 | V9: =COUNTIF(J9:U9,"completed")/3 -> 0 | W9: =(_xlfn.XLOOKUP(M9,working!$R$3:$R$5,working!$S$3:$S$5,"0")+_xlfn.XLOOKUP(Q9,working!$R$3:$R$5,working!$S$3:$S$5,"0")+_xlfn.XLOOKUP(U9,working!$R$3:$R$5,working!$S$3:$S$5,"0"))/15 -> 0
C10: 2.1.2 Designing, creating and refining algorithms | D10: 4 | E10: Identify the inputs, processes, and outputs for a problem | J10: Not Started | K10: 0 | L10: 0 | M10: 0 | N10: Not Started | O10: 0 | P10: 0 | Q10: 0 | R10: Not Started | S10: 0 | T10: 0 | U10: 0 | V10: =COUNTIF(J10:U10,"completed")/3 -> 0 | W10: =(_xlfn.XLOOKUP(M10,working!$R$3:$R$5,working!$S$3:$S$5,"0")+_xlfn.XLOOKUP(Q10,working!$R$3:$R$5,working!$S$3:$S$5,"0")+_xlfn.XLOOKUP(U10,working!$R$3:$R$5,working!$S$3:$S$5,"0"))/15 -> 0
D11: 5 | E11: Create, interpret, correct, complete, and refine algorithms using Pseudocode | J11: Not Started | K11: 0 | L11: 0 | M11: 0 | N11: Not Started | O11: 0 | P11: 0 | Q11: 0 | R11: Not Started | S11: 0 | T11: 0 | U11: 0 | V11: =COUNTIF(J11:U11,"completed")/3 -> 0 | W11: =(_xlfn.XLOOKUP(M11,working!$R$3:$R$5,working!$S$3:$S$5,"0")+_xlfn.XLOOKUP(Q11,working!$R$3:$R$5,working!$S$3:$S$5,"0")+_xlfn.XLOOKUP(U11,working!$R$3:$R$5,working!$S$3:$S$5,"0"))/15 -> 0
D12: 6 | E12: Create, interpret, correct, complete, and refine algorithms using Flowcharts | J12: Not Started | K12: 0 | L12: 0 | M12: 0 | N12: Not Started | O12: 0 | P12: 0 | Q12: 0 | R12: Not Started | S12: 0 | T12: 0 | U12: 0 | V12: =COUNTIF(J12:U12,"completed")/3 -> 0 | W12: =(_xlfn.XLOOKUP(M12,working!$R$3:$R$5,working!$S$3:$S$5,"0")+_xlfn.XLOOKUP(Q12,working!$R$3:$R$5,working!$S$3:$S$5,"0")+_xlfn.XLOOKUP(U12,working!$R$3:$R$5,working!$S$3:$S$5,"0"))/15 -> 0
D13: 7 | E13: Create, interpret, correct, complete, and refine algorithms using Exam Reference Language | J13: Not Started | K13: 0 | L13: 0 | M13: 0 | N13: Not Started | O13: 0 | P13: 0 | Q13: 0 | R13: Not Started | S13: 0 | T13: 0 | U13: 0 | V13: =COUNTIF(J13:U13,"completed")/3 -> 0 | W13: =(_xlfn.XLOOKUP(M13,working!$R$3:$R$5,working!$S$3:$S$5,"0")+_xlfn.XLOOKUP(Q13,working!$R$3:$R$5,working!$S$3:$S$5,"0")+_xlfn.XLOOKUP(U13,working!$R$3:$R$5,working!$S$3:$S$5,"0"))/15 -> 0
D14: 8 | E14: Identify syntax errors in code | J14: Not Started | K14: 0 | L14: 0 | M14: 0 | N14: Not Started | O14: 0 | P14: 0 | Q14: 0 | R14: Not Started | S14: 0 | T14: 0 | U14: 0 | V14: =COUNTIF(J14:U14,"completed")/3 -> 0 | W14: =(_xlfn.XLOOKUP(M14,working!$R$3:$R$5,working!$S$3:$S$5,"0")+_xlfn.XLOOKUP(Q14,working!$R$3:$R$5,working!$S$3:$S$5,"0")+_xlfn.XLOOKUP(U14,working!$R$3:$R$5,working!$S$3:$S$5,"0"))/15 -> 0
D15: 9 | E15: Identify logic errors in code | J15: Not Started | K15: 0 | L15: 0 | M15: 0 | N15: Not Started | O15: 0 | P15: 0 | Q15: 0 | R15: Not Started | S15: 0 | T15: 0 | U15: 0 | V15: =COUNTIF(J15:U15,"completed")/3 -> 0 | W15: =(_xlfn.XLOOKUP(M15,working!$R$3:$R$5,working!$S$3:$S$5,"0")+_xlfn.XLOOKUP(Q15,working!$R$3:$R$5,working!$S$3:$S$5,"0")+_xlfn.XLOOKUP(U15,working!$R$3:$R$5,working!$S$3:$S$5,"0"))/15 -> 0
D16: 10 | E16: Create a trace table to follow an algorithm | J16: Not Started | K16: 0 | L16: 0 | M16: 0 | N16: Not Started | O16: 0 | P16: 0 | Q16: 0 | R16: Not Started | S16: 0 | T16: 0 | U16: 0 | V16: =COUNTIF(J16:U16,"completed")/3 -> 0 | W16: =(_xlfn.XLOOKUP(M16,working!$R$3:$R$5,working!$S$3:$S$5,"0")+_xlfn.XLOOKUP(Q16,working!$R$3:$R$5,working!$S$3:$S$5,"0")+_xlfn.XLOOKUP(U16,working!$R$3:$R$5,working!$S$3:$S$5,"0"))/15 -> 0
D17: 11 | E17: Complete a trace table to follow an algorithm | J17: Not Started | K17: 0 | L17: 0 | M17: 0 | N17: Not Started | O17: 0 | P17: 0 | Q17: 0 | R17: Not Started | S17: 0 | T17: 0 | U17: 0 | V17: =COUNTIF(J17:U17,"completed")/3 -> 0 | W17: =(_xlfn.XLOOKUP(M17,working!$R$3:$R$5,working!$S$3:$S$5,"0")+_xlfn.XLOOKUP(Q17,working!$R$3:$R$5,working!$S$3:$S$5,"0")+_xlfn.XLOOKUP(U17,working!$R$3:$R$5,working!$S$3:$S$5,"0"))/15 -> 0
C18: 2.1.3 Searching and sorting algorithms | D18: 12 | E18: Apply a binary search to a problem | J18: Not Started | K18: 0 | L18: 0 | M18: 0 | N18: Not Started | O18: 0 | P18: 0 | Q18: 0 | R18: Not Started | S18: 0 | T18: 0 | U18: 0 | V18: =COUNTIF(J18:U18,"completed")/3 -> 0 | W18: =(_xlfn.XLOOKUP(M18,working!$R$3:$R$5,working!$S$3:$S$5,"0")+_xlfn.XLOOKUP(Q18,working!$R$3:$R$5,working!$S$3:$S$5,"0")+_xlfn.XLOOKUP(U18,working!$R$3:$R$5,working!$S$3:$S$5,"0"))/15 -> 0
D19: 13 | E19: Apply a linear search to a problem | J19: Not Started | K19: 0 | L19: 0 | M19: 0 | N19: Not Started | O19: 0 | P19: 0 | Q19: 0 | R19: Not Started | S19: 0 | T19: 0 | U19: 0 | V19: =COUNTIF(J19:U19,"completed")/3 -> 0 | W19: =(_xlfn.XLOOKUP(M19,working!$R$3:$R$5,working!$S$3:$S$5,"0")+_xlfn.XLOOKUP(Q19,working!$R$3:$R$5,working!$S$3:$S$5,"0")+_xlfn.XLOOKUP(U19,working!$R$3:$R$5,working!$S$3:$S$5,"0"))/15 -> 0
D20: 14 | E20: Apply a bubble sort to a problem | J20: Not Started | K20: 0 | L20: 0 | M20: 0 | N20: Not Started | O20: 0 | P20: 0 | Q20: 0 | R20: Not Started | S20: 0 | T20: 0 | U20: 0 | V20: =COUNTIF(J20:U20,"completed")/3 -> 0 | W20: =(_xlfn.XLOOKUP(M20,working!$R$3:$R$5,working!$S$3:$S$5,"0")+_xlfn.XLOOKUP(Q20,working!$R$3:$R$5,working!$S$3:$S$5,"0")+_xlfn.XLOOKUP(U20,working!$R$3:$R$5,working!$S$3:$S$5,"0"))/15 -> 0
D21: 15 | E21: Apply a merge sort to a problem | J21: Not Started | K21: 0 | L21: 0 | M21: 0 | N21: Not Started | O21: 0 | P21: 0 | Q21: 0 | R21: Not Started | S21: 0 | T21: 0 | U21: 0 | V21: =COUNTIF(J21:U21,"completed")/3 -> 0 | W21: =(_xlfn.XLOOKUP(M21,working!$R$3:$R$5,working!$S$3:$S$5,"0")+_xlfn.XLOOKUP(Q21,working!$R$3:$R$5,working!$S$3:$S$5,"0")+_xlfn.XLOOKUP(U21,working!$R$3:$R$5,working!$S$3:$S$5,"0"))/15 -> 0
D22: 16 | E22: Apply an insertion sort to a problem | J22: Not Started | K22: 0 | L22: 0 | M22: 0 | N22: Not Started | O22: 0 | P22: 0 | Q22: 0 | R22: Not Started | S22: 0 | T22: 0 | U22: 0 | V22: =COUNTIF(J22:U22,"completed")/3 -> 0 | W22: =(_xlfn.XLOOKUP(M22,working!$R$3:$R$5,working!$S$3:$S$5,"0")+_xlfn.XLOOKUP(Q22,working!$R$3:$R$5,working!$S$3:$S$5,"0")+_xlfn.XLOOKUP(U22,working!$R$3:$R$5,working!$S$3:$S$5,"0"))/15 -> 0
A23: 2.2 – Programming fundamentals | C23: 2.2.1 Programming fundamentals | D23: 17 | E23: I can use/identify variables in a programming language/ERL | J23: {=_xlfn.TOCOL('2.2'!J7:J33)} -> Completed | K23: {=_xlfn.TOCOL('2.2'!K7:K33)} -> YouTube Videos | L23: {=_xlfn.TOCOL('2.2'!L7:L33)} -> 0 | M23: {=_xlfn.TOCOL('2.2'!M7:M33)} -> Getting There | N23: {=_xlfn.TOCOL('2.2'!N7:N33)} -> Not Started | O23: {=_xlfn.TOCOL('2.2'!O7:O33)} -> 0 | P23: {=_xlfn.TOCOL('2.2'!P7:P33)} -> 0 | Q23: {=_xlfn.TOCOL('2.2'!Q7:Q33)} -> 0 | ... U23: {=_xlfn.TOCOL('2.2'!U7:U33)} -> 0 | V23: =COUNTIF(J23:U23,"completed")/3 -> 0.33333333 | W23: =(_xlfn.XLOOKUP(M23,working!$R$3:$R$5,working!$S$3:$S$5,"0")+_xlfn.XLOOKUP(Q23,working!$R$3:$R$5,working!$S$3:$S$5,"0")+_xlfn.XLOOKUP(U23,working!$R$3:$R$5,working!$S$3:$S$5,"0"))/15 -> 0.26666667
D24: 18 | E24: I can use/identify constants in a programming language/ERL | J24: Not Started | K24: 0 | L24: 0 | M24: 0 | N24: Not Started | O24: 0 | P24: 0 | Q24: 0 | R24: Not Started | S24: 0 | T24: 0 | U24: 0 | V24: =COUNTIF(J24:U24,"completed")/3 -> 0 | W24: =(_xlfn.XLOOKUP(M24,working!$R$3:$R$5,working!$S$3:$S$5,"0")+_xlfn.XLOOKUP(Q24,working!$R$3:$R$5,working!$S$3:$S$5,"0")+_xlfn.XLOOKUP(U24,working!$R$3:$R$5,working!$S$3:$S$5,"0"))/15 -> 0
D25: 19 | E25: I can use/identify constants in a programming language/ERL | J25: Not Started | K25: 0 | L25: 0 | M25: 0 | N25: Not Started | O25: 0 | P25: 0 | Q25: 0 | R25: Not Started | S25: 0 | T25: 0 | U25: 0 | V25: =COUNTIF(J25:U25,"completed")/3 -> 0 | W25: =(_xlfn.XLOOKUP(M25,working!$R$3:$R$5,working!$S$3:$S$5,"0")+_xlfn.XLOOKUP(Q25,working!$R$3:$R$5,working!$S$3:$S$5,"0")+_xlfn.XLOOKUP(U25,working!$R$3:$R$5,working!$S$3:$S$5,"0"))/15 -> 0
D26: 20 | E26: I can use /identify operators in a programming language/ERL | J26: Not Started | K26: 0 | L26: 0 | M26: 0 | N26: Not Started | O26: 0 | P26: 0 | Q26: 0 | R26: Not Started | S26: 0 | T26: 0 | U26: 0 | V26: =COUNTIF(J26:U26,"completed")/3 -> 0 | W26: =(_xlfn.XLOOKUP(M26,working!$R$3:$R$5,working!$S$3:$S$5,"0")+_xlfn.XLOOKUP(Q26,working!$R$3:$R$5,working!$S$3:$S$5,"0")+_xlfn.XLOOKUP(U26,working!$R$3:$R$5,working!$S$3:$S$5,"0"))/15 -> 0
D27: 21 | E27: I can use/identify inputs/outputs in a programming language/ERL | J27: Not Started | K27: 0 | L27: 0 | M27: 0 | N27: Not Started | O27: 0 | P27: 0 | Q27: 0 | R27: Not Started | S27: 0 | T27: 0 | U27: 0 | V27: =COUNTIF(J27:U27,"completed")/3 -> 0 | W27: =(_xlfn.XLOOKUP(M27,working!$R$3:$R$5,working!$S$3:$S$5,"0")+_xlfn.XLOOKUP(Q27,working!$R$3:$R$5,working!$S$3:$S$5,"0")+_xlfn.XLOOKUP(U27,working!$R$3:$R$5,working!$S$3:$S$5,"0"))/15 -> 0
D28: 22 | E28: I can use sequences to control the flow of a program | J28: Not Started | K28: 0 | L28: 0 | M28: 0 | N28: Not Started | O28: 0 | P28: 0 | Q28: 0 | R28: Not Started | S28: 0 | T28: 0 | U28: 0 | V28: =COUNTIF(J28:U28,"completed")/3 -> 0 | W28: =(_xlfn.XLOOKUP(M28,working!$R$3:$R$5,working!$S$3:$S$5,"0")+_xlfn.XLOOKUP(Q28,working!$R$3:$R$5,working!$S$3:$S$5,"0")+_xlfn.XLOOKUP(U28,working!$R$3:$R$5,working!$S$3:$S$5,"0"))/15 -> 0
D29: 23 | E29: I can use selection to control the flow of a program | J29: Not Started | K29: 0 | L29: 0 | M29: 0 | N29: Not Started | O29: 0 | P29: 0 | Q29: 0 | R29: Not Started | S29: 0 | T29: 0 | U29: 0 | V29: =COUNTIF(J29:U29,"completed")/3 -> 0 | W29: =(_xlfn.XLOOKUP(M29,working!$R$3:$R$5,working!$S$3:$S$5,"0")+_xlfn.XLOOKUP(Q29,working!$R$3:$R$5,working!$S$3:$S$5,"0")+_xlfn.XLOOKUP(U29,working!$R$3:$R$5,working!$S$3:$S$5,"0"))/15 -> 0
D30: 24 | E30: I can use iteration to control the flow of a program | J30: Not Started | K30: 0 | L30: 0 | M30: 0 | N30: Not Started | O30: 0 | P30: 0 | Q30: 0 | R30: Not Started | S30: 0 | T30: 0 | U30: 0 | V30: =COUNTIF(J30:U30,"completed")/3 -> 0 | W30: =(_xlfn.XLOOKUP(M30,working!$R$3:$R$5,working!$S$3:$S$5,"0")+_xlfn.XLOOKUP(Q30,working!$R$3:$R$5,working!$S$3:$S$5,"0")+_xlfn.XLOOKUP(U30,working!$R$3:$R$5,working!$S$3:$S$5,"0"))/15 -> 0
D31: 25 | E31: I can use + - * / operators | J31: Not Started | K31: 0 | L31: 0 | M31: 0 | N31: Not Started | O31: 0 | P31: 0 | Q31: 0 | R31: Not Started | S31: 0 | T31: 0 | U31: 0 | V31: =COUNTIF(J31:U31,"completed")/3 -> 0 | W31: =(_xlfn.XLOOKUP(M31,working!$R$3:$R$5,working!$S$3:$S$5,"0")+_xlfn.XLOOKUP(Q31,working!$R$3:$R$5,working!$S$3:$S$5,"0")+_xlfn.XLOOKUP(U31,working!$R$3:$R$5,working!$S$3:$S$5,"0"))/15 -> 0
D32: 26 | E32: I understand and can use Modulus | J32: Not Started | K32: 0 | L32: 0 | M32: 0 | N32: Not Started | O32: 0 | P32: 0 | Q32: 0 | R32: Not Started | S32: 0 | T32: 0 | U32: 0 | V32: =COUNTIF(J32:U32,"completed")/3 -> 0 | W32: =(_xlfn.XLOOKUP(M32,working!$R$3:$R$5,working!$S$3:$S$5,"0")+_xlfn.XLOOKUP(Q32,working!$R$3:$R$5,working!$S$3:$S$5,"0")+_xlfn.XLOOKUP(U32,working!$R$3:$R$5,working!$S$3:$S$5,"0"))/15 -> 0
D33: 27 | E33: I understand and can use DIV | J33: Not Started | K33: 0 | L33: 0 | M33: 0 | N33: Not Started | O33: 0 | P33: 0 | Q33: 0 | R33: Not Started | S33: 0 | T33: 0 | U33: 0 | V33: =COUNTIF(J33:U33,"completed")/3 -> 0 | W33: =(_xlfn.XLOOKUP(M33,working!$R$3:$R$5,working!$S$3:$S$5,"0")+_xlfn.XLOOKUP(Q33,working!$R$3:$R$5,working!$S$3:$S$5,"0")+_xlfn.XLOOKUP(U33,working!$R$3:$R$5,working!$S$3:$S$5,"0"))/15 -> 0
D34: 28 | E34: I understand and can use ^ Exponetiation | J34: Not Started | K34: 0 | L34: 0 | M34: 0 | N34: Not Started | O34: 0 | P34: 0 | Q34: 0 | R34: Not Started | S34: 0 | T34: 0 | U34: 0 | V34: =COUNTIF(J34:U34,"completed")/3 -> 0 | W34: =(_xlfn.XLOOKUP(M34,working!$R$3:$R$5,working!$S$3:$S$5,"0")+_xlfn.XLOOKUP(Q34,working!$R$3:$R$5,working!$S$3:$S$5,"0")+_xlfn.XLOOKUP(U34,working!$R$3:$R$5,working!$S$3:$S$5,"0"))/15 -> 0
C35: 2.2.2 Data types | D35: 29 | E35: I can use the Boolean operators AND, OR and NOT | J35: Not Started | K35: 0 | L35: 0 | M35: 0 | N35: Not Started | O35: 0 | P35: 0 | Q35: 0 | R35: Not Started | S35: 0 | T35: 0 | U35: 0 | V35: =COUNTIF(J35:U35,"completed")/3 -> 0 | W35: =(_xlfn.XLOOKUP(M35,working!$R$3:$R$5,working!$S$3:$S$5,"0")+_xlfn.XLOOKUP(Q35,working!$R$3:$R$5,working!$S$3:$S$5,"0")+_xlfn.XLOOKUP(U35,working!$R$3:$R$5,working!$S$3:$S$5,"0"))/15 -> 0
